BEGIN:VCALENDAR
VERSION:2.0
PRODID:-//Colfax Sportsmens Club, Inc - ECPv6.15.20//NONSGML v1.0//EN
CALSCALE:GREGORIAN
METHOD:PUBLISH
X-ORIGINAL-URL:https://colfaxsportsmensclub.com
X-WR-CALDESC:Events for Colfax Sportsmens Club, Inc
REFRESH-INTERVAL;VALUE=DURATION:PT1H
X-Robots-Tag:noindex
X-PUBLISHED-TTL:PT1H
BEGIN:VTIMEZONE
TZID:America/Chicago
BEGIN:DAYLIGHT
TZOFFSETFROM:-0600
TZOFFSETTO:-0500
TZNAME:CDT
DTSTART:20230312T080000
END:DAYLIGHT
BEGIN:STANDARD
TZOFFSETFROM:-0500
TZOFFSETTO:-0600
TZNAME:CST
DTSTART:20231105T070000
END:STANDARD
BEGIN:DAYLIGHT
TZOFFSETFROM:-0600
TZOFFSETTO:-0500
TZNAME:CDT
DTSTART:20240310T080000
END:DAYLIGHT
BEGIN:STANDARD
TZOFFSETFROM:-0500
TZOFFSETTO:-0600
TZNAME:CST
DTSTART:20241103T070000
END:STANDARD
BEGIN:DAYLIGHT
TZOFFSETFROM:-0600
TZOFFSETTO:-0500
TZNAME:CDT
DTSTART:20250309T080000
END:DAYLIGHT
BEGIN:STANDARD
TZOFFSETFROM:-0500
TZOFFSETTO:-0600
TZNAME:CST
DTSTART:20251102T070000
END:STANDARD
END:VTIMEZONE
BEGIN:VTIMEZONE
TZID:America/Denver
BEGIN:DAYLIGHT
TZOFFSETFROM:-0700
TZOFFSETTO:-0600
TZNAME:MDT
DTSTART:20230312T090000
END:DAYLIGHT
BEGIN:STANDARD
TZOFFSETFROM:-0600
TZOFFSETTO:-0700
TZNAME:MST
DTSTART:20231105T080000
END:STANDARD
BEGIN:DAYLIGHT
TZOFFSETFROM:-0700
TZOFFSETTO:-0600
TZNAME:MDT
DTSTART:20240310T090000
END:DAYLIGHT
BEGIN:STANDARD
TZOFFSETFROM:-0600
TZOFFSETTO:-0700
TZNAME:MST
DTSTART:20241103T080000
END:STANDARD
BEGIN:DAYLIGHT
TZOFFSETFROM:-0700
TZOFFSETTO:-0600
TZNAME:MDT
DTSTART:20250309T090000
END:DAYLIGHT
BEGIN:STANDARD
TZOFFSETFROM:-0600
TZOFFSETTO:-0700
TZNAME:MST
DTSTART:20251102T080000
END:STANDARD
END:VTIMEZONE
BEGIN:VEVENT
DTSTART;TZID=America/Chicago:20240807T190000
DTEND;TZID=America/Chicago:20240807T210000
DTSTAMP:20260421T203928
CREATED:20231216T172114Z
LAST-MODIFIED:20231216T172114Z
UID:10000035-1723057200-1723064400@colfaxsportsmensclub.com
SUMMARY:MONTHLY CLUB MEETING
DESCRIPTION:Monthly Meetings at the Clubhouse Shooting Range start at 7:00 PM SHARP!  Membership is $40.00 per family per year.  You are welcome to come and visit a meeting to see what we are all about before you decide to join if you wish.  Goodies after the meeting too.
URL:https://colfaxsportsmensclub.com/event/monthly-club-meeting-2/2024-08-07/
LOCATION:Colfax Sportsmen’s Club\, E8498 810th Ave.\, Colfax\, WI\, 54730\, United States
ORGANIZER;CN="Colfax Sportsmen's Club":MAILTO:colfaxsportsmensclub2013@gmail.com
END:VEVENT
BEGIN:VEVENT
DTSTART;VALUE=DATE:20240809
DTEND;VALUE=DATE:20240810
DTSTAMP:20260421T203928
CREATED:20231216T173136Z
LAST-MODIFIED:20231216T173136Z
UID:10000044-1723190400-1723222800@colfaxsportsmensclub.com
SUMMARY:RANGE CLOSED FOR EVENT SET-UP
DESCRIPTION:Main Range and Competition Bays Closed for Match Set-up
URL:https://colfaxsportsmensclub.com/event/range-closed-for-event-set-up/2024-08-09/
LOCATION:Colfax Sportsmen’s Club\, E8498 810th Ave.\, Colfax\, WI\, 54730\, United States
ORGANIZER;CN="Colfax Sportsmen's Club":MAILTO:colfaxsportsmensclub2013@gmail.com
END:VEVENT
BEGIN:VEVENT
DTSTART;TZID=America/Chicago:20240810T070000
DTEND;TZID=America/Chicago:20240810T160000
DTSTAMP:20260421T203928
CREATED:20231224T155555Z
LAST-MODIFIED:20240226T000842Z
UID:10000093-1723273200-1723305600@colfaxsportsmensclub.com
SUMMARY:COLFAX AUGUST - MONTHLY 3 GUN MATCH
DESCRIPTION:Matches will typically consist of 3 (or more in 2024!) stages\, varying each match. Competitor check-in will commence in the clubhouse at 7:00 AM\, with the shooter’s meeting to begin at 8:00 AM and shots down range shortly after. Please be ready to squad up and begin shooting right after the meeting!! We also have concessions on site and will plan for a lunch break midday.
URL:https://colfaxsportsmensclub.com/event/colfax-august-monthly-3-gun-match/
LOCATION:Colfax Sportsmen’s Club\, E8498 810th Ave.\, Colfax\, WI\, 54730\, United States
ORGANIZER;CN="Colfax Sportsmen's Club":MAILTO:colfaxsportsmensclub2013@gmail.com
END:VEVENT
BEGIN:VEVENT
DTSTART;TZID=America/Chicago:20240812T170000
DTEND;TZID=America/Chicago:20240812T220000
DTSTAMP:20260421T203928
CREATED:20240226T003957Z
LAST-MODIFIED:20240226T003957Z
UID:10000210-1723482000-1723500000@colfaxsportsmensclub.com
SUMMARY:OPEN TRAP
DESCRIPTION:We shoot open trap at this time; we will run standard and the crew running it will throw a few wobbler rounds in per night. We do not have any leagues; we just shoot for fun! \nThe cost is $5.00 per round of 25\,\nWE ALSO SHOOT DOUBLES\, THE COST: IS $10.00 PER ROUND OF 50.
URL:https://colfaxsportsmensclub.com/event/open-trap-2/2024-08-12/
LOCATION:Colfax Sportsmen’s Club\, E8498 810th Ave.\, Colfax\, WI\, 54730\, United States
ORGANIZER;CN="Colfax Sportsmen's Club":MAILTO:colfaxsportsmensclub2013@gmail.com
END:VEVENT
BEGIN:VEVENT
DTSTART;TZID=America/Chicago:20240815T130000
DTEND;TZID=America/Chicago:20240815T160000
DTSTAMP:20260421T203928
CREATED:20231231T171436Z
LAST-MODIFIED:20231231T171436Z
UID:10000116-1723726800-1723737600@colfaxsportsmensclub.com
SUMMARY:OPEN FOR PUBLIC SHOOTING
DESCRIPTION:Range Open for Public Shooting from 1:00 PM to 4:00 PM \nFIREARMS MUST BE CASED\nEYE AND EAR PROTECTION REQUIRED\n\nTHANK YOU FOR YOUR COOPERATION!
URL:https://colfaxsportsmensclub.com/event/open-for-public-shooting-5/2024-08-15/
LOCATION:Colfax Sportsmen’s Club\, E8498 810th Ave.\, Colfax\, WI\, 54730\, United States
ORGANIZER;CN="Colfax Sportsmen's Club":MAILTO:colfaxsportsmensclub2013@gmail.com
END:VEVENT
BEGIN:VEVENT
DTSTART;TZID=America/Chicago:20240815T173000
DTEND;TZID=America/Chicago:20240815T203000
DTSTAMP:20260421T203928
CREATED:20231216T202520Z
LAST-MODIFIED:20231216T202520Z
UID:10000066-1723743000-1723753800@colfaxsportsmensclub.com
SUMMARY:WEEKLY STEEL CHALLENGE MATCH
DESCRIPTION:Weekly Colfax Steel Challenge\, Registration is preferred through Practiscore.com if possible\, Walk-in’s welcome.  Check-in and squadding will begin at 5:30PM and shooting will start as close to 6:00PM as possible.  Weekly matches\, we will shoot 4 stages.  On some of the early months we may need to back down to 3 stages to fit them in.\nPlease follow our Facebook page in case there is a match cancelation due to weather. \nhttps://www.facebook.com/ColfaxSpeedShooting/ \n 
URL:https://colfaxsportsmensclub.com/event/weekly-steel-challenge-match/2024-08-15/
LOCATION:Colfax Sportsmen’s Club\, E8498 810th Ave.\, Colfax\, WI\, 54730\, United States
ORGANIZER;CN="Colfax Sportsmen's Club":MAILTO:colfaxsportsmensclub2013@gmail.com
END:VEVENT
BEGIN:VEVENT
DTSTART;TZID=America/Chicago:20240817T073000
DTEND;TZID=America/Chicago:20240817T160000
DTSTAMP:20260421T203928
CREATED:20231224T152749Z
LAST-MODIFIED:20240820T183115Z
UID:10000089-1723879800-1723910400@colfaxsportsmensclub.com
SUMMARY:COLFAX AUGUST - STEEL CHALLENGE MONTHLY
DESCRIPTION:Colfax Sportsmen’s Club provides sanctioned SCSA matches throughout the spring\, summer\, and fall.  A weekend match will include six of the SCSA stages and Thursday matches will provide four of the SCSA stages for participants to enjoy.  We encourage any and all participants\, be it existing firearm owners or new firearm owners\, to come out and give Steel Challenge a try!
URL:https://colfaxsportsmensclub.com/event/colfax-august-steel-challenge-monthly/
LOCATION:Colfax Sportsmen’s Club\, E8498 810th Ave.\, Colfax\, WI\, 54730\, United States
ORGANIZER;CN="Colfax Sportsmen's Club":MAILTO:colfaxsportsmensclub2013@gmail.com
END:VEVENT
BEGIN:VEVENT
DTSTART;TZID=America/Chicago:20240818T080000
DTEND;TZID=America/Chicago:20240818T160000
DTSTAMP:20260421T203928
CREATED:20231231T164517Z
LAST-MODIFIED:20231231T181524Z
UID:10000103-1723968000-1723996800@colfaxsportsmensclub.com
SUMMARY:COLFAX AUGUST NRL22 COF
DESCRIPTION:Colfax Sportsmen’s Club Monthly NRL22 COF. We will shoot the 5 designated NRL22 Monthly stages with the possibility of a bonus stage or two. Registration fee and discounts can be found below. Check-in and zero range will run from 8:00am – 9:00am. Match starts at 9:00am. This match is open to the public\, there is no requirement to be a Colfax Sportsmen’s Club member to compete. Payment through Practiscore is preferred but we will also allow payment at registration for this match. Squads may be adjusted the day of the match to even them out and or split to save time.
URL:https://colfaxsportsmensclub.com/event/colfax-august-nrl22-cof/
LOCATION:Colfax Sportsmen’s Club\, E8498 810th Ave.\, Colfax\, WI\, 54730\, United States
ORGANIZER;CN="Colfax Sportsmen's Club":MAILTO:colfaxsportsmensclub2013@gmail.com
END:VEVENT
BEGIN:VEVENT
DTSTART;TZID=America/Chicago:20240819T170000
DTEND;TZID=America/Chicago:20240819T220000
DTSTAMP:20260421T203928
CREATED:20240226T003957Z
LAST-MODIFIED:20240226T003957Z
UID:10000211-1724086800-1724104800@colfaxsportsmensclub.com
SUMMARY:OPEN TRAP
DESCRIPTION:We shoot open trap at this time; we will run standard and the crew running it will throw a few wobbler rounds in per night. We do not have any leagues; we just shoot for fun! \nThe cost is $5.00 per round of 25\,\nWE ALSO SHOOT DOUBLES\, THE COST: IS $10.00 PER ROUND OF 50.
URL:https://colfaxsportsmensclub.com/event/open-trap-2/2024-08-19/
LOCATION:Colfax Sportsmen’s Club\, E8498 810th Ave.\, Colfax\, WI\, 54730\, United States
ORGANIZER;CN="Colfax Sportsmen's Club":MAILTO:colfaxsportsmensclub2013@gmail.com
END:VEVENT
BEGIN:VEVENT
DTSTART;TZID=America/Chicago:20240822T130000
DTEND;TZID=America/Chicago:20240822T160000
DTSTAMP:20260421T203928
CREATED:20231231T171436Z
LAST-MODIFIED:20231231T171436Z
UID:10000117-1724331600-1724342400@colfaxsportsmensclub.com
SUMMARY:OPEN FOR PUBLIC SHOOTING
DESCRIPTION:Range Open for Public Shooting from 1:00 PM to 4:00 PM \nFIREARMS MUST BE CASED\nEYE AND EAR PROTECTION REQUIRED\n\nTHANK YOU FOR YOUR COOPERATION!
URL:https://colfaxsportsmensclub.com/event/open-for-public-shooting-5/2024-08-22/
LOCATION:Colfax Sportsmen’s Club\, E8498 810th Ave.\, Colfax\, WI\, 54730\, United States
ORGANIZER;CN="Colfax Sportsmen's Club":MAILTO:colfaxsportsmensclub2013@gmail.com
END:VEVENT
BEGIN:VEVENT
DTSTART;TZID=America/Chicago:20240822T173000
DTEND;TZID=America/Chicago:20240822T203000
DTSTAMP:20260421T203928
CREATED:20231216T202520Z
LAST-MODIFIED:20231216T202520Z
UID:10000067-1724347800-1724358600@colfaxsportsmensclub.com
SUMMARY:WEEKLY STEEL CHALLENGE MATCH
DESCRIPTION:Weekly Colfax Steel Challenge\, Registration is preferred through Practiscore.com if possible\, Walk-in’s welcome.  Check-in and squadding will begin at 5:30PM and shooting will start as close to 6:00PM as possible.  Weekly matches\, we will shoot 4 stages.  On some of the early months we may need to back down to 3 stages to fit them in.\nPlease follow our Facebook page in case there is a match cancelation due to weather. \nhttps://www.facebook.com/ColfaxSpeedShooting/ \n 
URL:https://colfaxsportsmensclub.com/event/weekly-steel-challenge-match/2024-08-22/
LOCATION:Colfax Sportsmen’s Club\, E8498 810th Ave.\, Colfax\, WI\, 54730\, United States
ORGANIZER;CN="Colfax Sportsmen's Club":MAILTO:colfaxsportsmensclub2013@gmail.com
END:VEVENT
BEGIN:VEVENT
DTSTART;TZID=America/Chicago:20240824T120000
DTEND;TZID=America/Chicago:20240824T170000
DTSTAMP:20260421T203928
CREATED:20231221T181836Z
LAST-MODIFIED:20231221T181836Z
UID:10000083-1724500800-1724518800@colfaxsportsmensclub.com
SUMMARY:DUCK FLURRY - TRAP SHOOT
DESCRIPTION:This will be a 2-person Team event which will include a 50 bird Furry that is thrown for each Team.  The Team with the highest score at the end of the day will receive a trophy. \nPrizes available to competitors as well. \nThis event is open to anyone\, you just need a 2 person Team. \n 
URL:https://colfaxsportsmensclub.com/event/duck-flurry-trap-shoot/
LOCATION:Colfax Sportsmen’s Club\, E8498 810th Ave.\, Colfax\, WI\, 54730\, United States
ORGANIZER;CN="Colfax Sportsmen's Club":MAILTO:colfaxsportsmensclub2013@gmail.com
END:VEVENT
BEGIN:VEVENT
DTSTART;TZID=America/Chicago:20240826T170000
DTEND;TZID=America/Chicago:20240826T220000
DTSTAMP:20260421T203928
CREATED:20240226T003957Z
LAST-MODIFIED:20240226T003957Z
UID:10000212-1724691600-1724709600@colfaxsportsmensclub.com
SUMMARY:OPEN TRAP
DESCRIPTION:We shoot open trap at this time; we will run standard and the crew running it will throw a few wobbler rounds in per night. We do not have any leagues; we just shoot for fun! \nThe cost is $5.00 per round of 25\,\nWE ALSO SHOOT DOUBLES\, THE COST: IS $10.00 PER ROUND OF 50.
URL:https://colfaxsportsmensclub.com/event/open-trap-2/2024-08-26/
LOCATION:Colfax Sportsmen’s Club\, E8498 810th Ave.\, Colfax\, WI\, 54730\, United States
ORGANIZER;CN="Colfax Sportsmen's Club":MAILTO:colfaxsportsmensclub2013@gmail.com
END:VEVENT
BEGIN:VEVENT
DTSTART;TZID=America/Chicago:20240829T130000
DTEND;TZID=America/Chicago:20240829T160000
DTSTAMP:20260421T203928
CREATED:20231231T171436Z
LAST-MODIFIED:20231231T171436Z
UID:10000118-1724936400-1724947200@colfaxsportsmensclub.com
SUMMARY:OPEN FOR PUBLIC SHOOTING
DESCRIPTION:Range Open for Public Shooting from 1:00 PM to 4:00 PM \nFIREARMS MUST BE CASED\nEYE AND EAR PROTECTION REQUIRED\n\nTHANK YOU FOR YOUR COOPERATION!
URL:https://colfaxsportsmensclub.com/event/open-for-public-shooting-5/2024-08-29/
LOCATION:Colfax Sportsmen’s Club\, E8498 810th Ave.\, Colfax\, WI\, 54730\, United States
ORGANIZER;CN="Colfax Sportsmen's Club":MAILTO:colfaxsportsmensclub2013@gmail.com
END:VEVENT
BEGIN:VEVENT
DTSTART;TZID=America/Chicago:20240830T080000
DTEND;TZID=America/Chicago:20240830T170000
DTSTAMP:20260421T203928
CREATED:20240820T182840Z
LAST-MODIFIED:20240820T182840Z
UID:10000241-1725004800-1725037200@colfaxsportsmensclub.com
SUMMARY:RANGE CLOSED FOR EVENT SET-UP
DESCRIPTION:Range Closed all day for Bowling Pin event set-up.
URL:https://colfaxsportsmensclub.com/event/range-closed-for-event-set-up-4/
LOCATION:Colfax Sportsmen’s Club\, E8498 810th Ave.\, Colfax\, WI\, 54730\, United States
ORGANIZER;CN="Colfax Sportsmen's Club":MAILTO:colfaxsportsmensclub2013@gmail.com
END:VEVENT
BEGIN:VEVENT
DTSTART;TZID=America/Denver:20240831T080000
DTEND;TZID=America/Denver:20240831T160000
DTSTAMP:20260421T203929
CREATED:20231217T223312Z
LAST-MODIFIED:20231217T223312Z
UID:10000079-1725091200-1725120000@colfaxsportsmensclub.com
SUMMARY:BOWLING PIN SHOOT
DESCRIPTION:Registration is 8:00 AM – 9:00 AM\, matches start at 9:30 AM\, rain or shine\, bathroom\, and concessions on site. Dress appropriately for the weather. All are welcome to join in. There is no requirement to be a club member to participate.
URL:https://colfaxsportsmensclub.com/event/bowling-pin-shoot-2/
LOCATION:Colfax Sportsmen’s Club\, E8498 810th Ave.\, Colfax\, WI\, 54730\, United States
ORGANIZER;CN="Colfax Sportsmen's Club":MAILTO:colfaxsportsmensclub2013@gmail.com
END:VEVENT
BEGIN:VEVENT
DTSTART;TZID=America/Chicago:20240902T140000
DTEND;TZID=America/Chicago:20240902T170000
DTSTAMP:20260421T203929
CREATED:20240521T233655Z
LAST-MODIFIED:20240521T233655Z
UID:10000236-1725285600-1725296400@colfaxsportsmensclub.com
SUMMARY:DUCK FLURRY
DESCRIPTION:
URL:https://colfaxsportsmensclub.com/event/duck-flurry-2/
LOCATION:Colfax Sportsmen’s Club\, E8498 810th Ave.\, Colfax\, WI\, 54730\, United States
END:VEVENT
BEGIN:VEVENT
DTSTART;TZID=America/Chicago:20240902T170000
DTEND;TZID=America/Chicago:20240902T220000
DTSTAMP:20260421T203929
CREATED:20240521T234030Z
LAST-MODIFIED:20240911T083039Z
UID:10000237-1725296400-1725314400@colfaxsportsmensclub.com
SUMMARY:OPEN TRAP SHOOTING
DESCRIPTION:
URL:https://colfaxsportsmensclub.com/event/open-trap-shooting/
LOCATION:Colfax Sportsmen’s Club\, E8498 810th Ave.\, Colfax\, WI\, 54730\, United States
END:VEVENT
BEGIN:VEVENT
DTSTART;TZID=America/Chicago:20240904T190000
DTEND;TZID=America/Chicago:20240904T210000
DTSTAMP:20260421T203929
CREATED:20231216T172114Z
LAST-MODIFIED:20231216T172114Z
UID:10000036-1725476400-1725483600@colfaxsportsmensclub.com
SUMMARY:MONTHLY CLUB MEETING
DESCRIPTION:Monthly Meetings at the Clubhouse Shooting Range start at 7:00 PM SHARP!  Membership is $40.00 per family per year.  You are welcome to come and visit a meeting to see what we are all about before you decide to join if you wish.  Goodies after the meeting too.
URL:https://colfaxsportsmensclub.com/event/monthly-club-meeting-2/2024-09-04/
LOCATION:Colfax Sportsmen’s Club\, E8498 810th Ave.\, Colfax\, WI\, 54730\, United States
ORGANIZER;CN="Colfax Sportsmen's Club":MAILTO:colfaxsportsmensclub2013@gmail.com
END:VEVENT
BEGIN:VEVENT
DTSTART;TZID=America/Chicago:20240905T173000
DTEND;TZID=America/Chicago:20240905T203000
DTSTAMP:20260421T203929
CREATED:20231216T202520Z
LAST-MODIFIED:20231216T202520Z
UID:10000069-1725557400-1725568200@colfaxsportsmensclub.com
SUMMARY:WEEKLY STEEL CHALLENGE MATCH
DESCRIPTION:Weekly Colfax Steel Challenge\, Registration is preferred through Practiscore.com if possible\, Walk-in’s welcome.  Check-in and squadding will begin at 5:30PM and shooting will start as close to 6:00PM as possible.  Weekly matches\, we will shoot 4 stages.  On some of the early months we may need to back down to 3 stages to fit them in.\nPlease follow our Facebook page in case there is a match cancelation due to weather. \nhttps://www.facebook.com/ColfaxSpeedShooting/ \n 
URL:https://colfaxsportsmensclub.com/event/weekly-steel-challenge-match/2024-09-05/
LOCATION:Colfax Sportsmen’s Club\, E8498 810th Ave.\, Colfax\, WI\, 54730\, United States
ORGANIZER;CN="Colfax Sportsmen's Club":MAILTO:colfaxsportsmensclub2013@gmail.com
END:VEVENT
BEGIN:VEVENT
DTSTART;TZID=America/Chicago:20240909T170000
DTEND;TZID=America/Chicago:20240909T220000
DTSTAMP:20260421T203929
CREATED:20240226T003957Z
LAST-MODIFIED:20240226T003957Z
UID:10000213-1725901200-1725919200@colfaxsportsmensclub.com
SUMMARY:OPEN TRAP
DESCRIPTION:We shoot open trap at this time; we will run standard and the crew running it will throw a few wobbler rounds in per night. We do not have any leagues; we just shoot for fun! \nThe cost is $5.00 per round of 25\,\nWE ALSO SHOOT DOUBLES\, THE COST: IS $10.00 PER ROUND OF 50.
URL:https://colfaxsportsmensclub.com/event/open-trap-2/2024-09-09/
LOCATION:Colfax Sportsmen’s Club\, E8498 810th Ave.\, Colfax\, WI\, 54730\, United States
ORGANIZER;CN="Colfax Sportsmen's Club":MAILTO:colfaxsportsmensclub2013@gmail.com
END:VEVENT
BEGIN:VEVENT
DTSTART;TZID=America/Chicago:20240912T130000
DTEND;TZID=America/Chicago:20240912T160000
DTSTAMP:20260421T203929
CREATED:20231231T171436Z
LAST-MODIFIED:20231231T171436Z
UID:10000120-1726146000-1726156800@colfaxsportsmensclub.com
SUMMARY:OPEN FOR PUBLIC SHOOTING
DESCRIPTION:Range Open for Public Shooting from 1:00 PM to 4:00 PM \nFIREARMS MUST BE CASED\nEYE AND EAR PROTECTION REQUIRED\n\nTHANK YOU FOR YOUR COOPERATION!
URL:https://colfaxsportsmensclub.com/event/open-for-public-shooting-5/2024-09-12/
LOCATION:Colfax Sportsmen’s Club\, E8498 810th Ave.\, Colfax\, WI\, 54730\, United States
ORGANIZER;CN="Colfax Sportsmen's Club":MAILTO:colfaxsportsmensclub2013@gmail.com
END:VEVENT
BEGIN:VEVENT
DTSTART;TZID=America/Chicago:20240914T073000
DTEND;TZID=America/Chicago:20240914T160000
DTSTAMP:20260421T203929
CREATED:20231224T154403Z
LAST-MODIFIED:20240101T222425Z
UID:10000090-1726299000-1726329600@colfaxsportsmensclub.com
SUMMARY:COLFAX SEPTEMBER - STEEL CHALLENGE MONTHLY
DESCRIPTION:Colfax Sportsmen’s Club provides sanctioned SCSA matches throughout the spring\, summer\, and fall.  A weekend match will include six of the SCSA stages and Thursday matches will provide four of the SCSA stages for participants to enjoy.  We encourage any and all participants\, be it existing firearm owners or new firearm owners\, to come out and give Steel Challenge a try!
URL:https://colfaxsportsmensclub.com/event/colfax-september-steel-challenge-monthly/
LOCATION:Colfax Sportsmen’s Club\, E8498 810th Ave.\, Colfax\, WI\, 54730\, United States
ORGANIZER;CN="Colfax Sportsmen's Club":MAILTO:colfaxsportsmensclub2013@gmail.com
END:VEVENT
BEGIN:VEVENT
DTSTART;TZID=America/Chicago:20240915T080000
DTEND;TZID=America/Chicago:20240915T160000
DTSTAMP:20260421T203929
CREATED:20231231T164736Z
LAST-MODIFIED:20231231T181607Z
UID:10000104-1726387200-1726416000@colfaxsportsmensclub.com
SUMMARY:COLFAX SEPTEMBER NRL22 COF
DESCRIPTION:Colfax Sportsmen’s Club Monthly NRL22 COF. We will shoot the 5 designated NRL22 Monthly stages with the possibility of a bonus stage or two. Registration fee and discounts can be found below. Check-in and zero range will run from 8:00am – 9:00am. Match starts at 9:00am. This match is open to the public\, there is no requirement to be a Colfax Sportsmen’s Club member to compete. Payment through Practiscore is preferred but we will also allow payment at registration for this match. Squads may be adjusted the day of the match to even them out and or split to save time.
URL:https://colfaxsportsmensclub.com/event/colfax-september-nrl22-cof/
LOCATION:Colfax Sportsmen’s Club\, E8498 810th Ave.\, Colfax\, WI\, 54730\, United States
ORGANIZER;CN="Colfax Sportsmen's Club":MAILTO:colfaxsportsmensclub2013@gmail.com
END:VEVENT
BEGIN:VEVENT
DTSTART;TZID=America/Chicago:20240916T170000
DTEND;TZID=America/Chicago:20240916T220000
DTSTAMP:20260421T203929
CREATED:20240226T003957Z
LAST-MODIFIED:20240226T003957Z
UID:10000214-1726506000-1726524000@colfaxsportsmensclub.com
SUMMARY:OPEN TRAP
DESCRIPTION:We shoot open trap at this time; we will run standard and the crew running it will throw a few wobbler rounds in per night. We do not have any leagues; we just shoot for fun! \nThe cost is $5.00 per round of 25\,\nWE ALSO SHOOT DOUBLES\, THE COST: IS $10.00 PER ROUND OF 50.
URL:https://colfaxsportsmensclub.com/event/open-trap-2/2024-09-16/
LOCATION:Colfax Sportsmen’s Club\, E8498 810th Ave.\, Colfax\, WI\, 54730\, United States
ORGANIZER;CN="Colfax Sportsmen's Club":MAILTO:colfaxsportsmensclub2013@gmail.com
END:VEVENT
BEGIN:VEVENT
DTSTART;TZID=America/Chicago:20240919T130000
DTEND;TZID=America/Chicago:20240919T160000
DTSTAMP:20260421T203929
CREATED:20231231T171436Z
LAST-MODIFIED:20231231T171436Z
UID:10000121-1726750800-1726761600@colfaxsportsmensclub.com
SUMMARY:OPEN FOR PUBLIC SHOOTING
DESCRIPTION:Range Open for Public Shooting from 1:00 PM to 4:00 PM \nFIREARMS MUST BE CASED\nEYE AND EAR PROTECTION REQUIRED\n\nTHANK YOU FOR YOUR COOPERATION!
URL:https://colfaxsportsmensclub.com/event/open-for-public-shooting-5/2024-09-19/
LOCATION:Colfax Sportsmen’s Club\, E8498 810th Ave.\, Colfax\, WI\, 54730\, United States
ORGANIZER;CN="Colfax Sportsmen's Club":MAILTO:colfaxsportsmensclub2013@gmail.com
END:VEVENT
BEGIN:VEVENT
DTSTART;TZID=America/Chicago:20240919T173000
DTEND;TZID=America/Chicago:20240919T203000
DTSTAMP:20260421T203929
CREATED:20231216T202520Z
LAST-MODIFIED:20231216T202520Z
UID:10000071-1726767000-1726777800@colfaxsportsmensclub.com
SUMMARY:WEEKLY STEEL CHALLENGE MATCH
DESCRIPTION:Weekly Colfax Steel Challenge\, Registration is preferred through Practiscore.com if possible\, Walk-in’s welcome.  Check-in and squadding will begin at 5:30PM and shooting will start as close to 6:00PM as possible.  Weekly matches\, we will shoot 4 stages.  On some of the early months we may need to back down to 3 stages to fit them in.\nPlease follow our Facebook page in case there is a match cancelation due to weather. \nhttps://www.facebook.com/ColfaxSpeedShooting/ \n 
URL:https://colfaxsportsmensclub.com/event/weekly-steel-challenge-match/2024-09-19/
LOCATION:Colfax Sportsmen’s Club\, E8498 810th Ave.\, Colfax\, WI\, 54730\, United States
ORGANIZER;CN="Colfax Sportsmen's Club":MAILTO:colfaxsportsmensclub2013@gmail.com
END:VEVENT
BEGIN:VEVENT
DTSTART;TZID=America/Chicago:20240921T090000
DTEND;TZID=America/Chicago:20240921T170000
DTSTAMP:20260421T203929
CREATED:20231221T182342Z
LAST-MODIFIED:20231221T182342Z
UID:10000084-1726909200-1726938000@colfaxsportsmensclub.com
SUMMARY:HUNTER EDUCATION
DESCRIPTION:Range Closed to public while the students complete their field exercises on the Main Range and in the Clubhouse.
URL:https://colfaxsportsmensclub.com/event/hunter-education/
LOCATION:Colfax Sportsmen’s Club\, E8498 810th Ave.\, Colfax\, WI\, 54730\, United States
ORGANIZER;CN="Colfax Sportsmen's Club":MAILTO:colfaxsportsmensclub2013@gmail.com
END:VEVENT
BEGIN:VEVENT
DTSTART;TZID=America/Chicago:20240923T170000
DTEND;TZID=America/Chicago:20240923T220000
DTSTAMP:20260421T203929
CREATED:20240226T003957Z
LAST-MODIFIED:20240226T003957Z
UID:10000215-1727110800-1727128800@colfaxsportsmensclub.com
SUMMARY:OPEN TRAP
DESCRIPTION:We shoot open trap at this time; we will run standard and the crew running it will throw a few wobbler rounds in per night. We do not have any leagues; we just shoot for fun! \nThe cost is $5.00 per round of 25\,\nWE ALSO SHOOT DOUBLES\, THE COST: IS $10.00 PER ROUND OF 50.
URL:https://colfaxsportsmensclub.com/event/open-trap-2/2024-09-23/
LOCATION:Colfax Sportsmen’s Club\, E8498 810th Ave.\, Colfax\, WI\, 54730\, United States
ORGANIZER;CN="Colfax Sportsmen's Club":MAILTO:colfaxsportsmensclub2013@gmail.com
END:VEVENT
BEGIN:VEVENT
DTSTART;TZID=America/Chicago:20240926T130000
DTEND;TZID=America/Chicago:20240926T160000
DTSTAMP:20260421T203929
CREATED:20231231T171436Z
LAST-MODIFIED:20231231T171436Z
UID:10000122-1727355600-1727366400@colfaxsportsmensclub.com
SUMMARY:OPEN FOR PUBLIC SHOOTING
DESCRIPTION:Range Open for Public Shooting from 1:00 PM to 4:00 PM \nFIREARMS MUST BE CASED\nEYE AND EAR PROTECTION REQUIRED\n\nTHANK YOU FOR YOUR COOPERATION!
URL:https://colfaxsportsmensclub.com/event/open-for-public-shooting-5/2024-09-26/
LOCATION:Colfax Sportsmen’s Club\, E8498 810th Ave.\, Colfax\, WI\, 54730\, United States
ORGANIZER;CN="Colfax Sportsmen's Club":MAILTO:colfaxsportsmensclub2013@gmail.com
END:VEVENT
END:VCALENDAR