BEGIN:VCALENDAR
VERSION:2.0
PRODID:-//Colfax Sportsmens Club, Inc - ECPv6.15.20//NONSGML v1.0//EN
CALSCALE:GREGORIAN
METHOD:PUBLISH
X-WR-CALNAME:Colfax Sportsmens Club, Inc
X-ORIGINAL-URL:https://colfaxsportsmensclub.com
X-WR-CALDESC:Events for Colfax Sportsmens Club, Inc
REFRESH-INTERVAL;VALUE=DURATION:PT1H
X-Robots-Tag:noindex
X-PUBLISHED-TTL:PT1H
BEGIN:VTIMEZONE
TZID:America/Chicago
BEGIN:DAYLIGHT
TZOFFSETFROM:-0600
TZOFFSETTO:-0500
TZNAME:CDT
DTSTART:20230312T080000
END:DAYLIGHT
BEGIN:STANDARD
TZOFFSETFROM:-0500
TZOFFSETTO:-0600
TZNAME:CST
DTSTART:20231105T070000
END:STANDARD
BEGIN:DAYLIGHT
TZOFFSETFROM:-0600
TZOFFSETTO:-0500
TZNAME:CDT
DTSTART:20240310T080000
END:DAYLIGHT
BEGIN:STANDARD
TZOFFSETFROM:-0500
TZOFFSETTO:-0600
TZNAME:CST
DTSTART:20241103T070000
END:STANDARD
BEGIN:DAYLIGHT
TZOFFSETFROM:-0600
TZOFFSETTO:-0500
TZNAME:CDT
DTSTART:20250309T080000
END:DAYLIGHT
BEGIN:STANDARD
TZOFFSETFROM:-0500
TZOFFSETTO:-0600
TZNAME:CST
DTSTART:20251102T070000
END:STANDARD
END:VTIMEZONE
BEGIN:VTIMEZONE
TZID:America/Denver
BEGIN:DAYLIGHT
TZOFFSETFROM:-0700
TZOFFSETTO:-0600
TZNAME:MDT
DTSTART:20230312T090000
END:DAYLIGHT
BEGIN:STANDARD
TZOFFSETFROM:-0600
TZOFFSETTO:-0700
TZNAME:MST
DTSTART:20231105T080000
END:STANDARD
BEGIN:DAYLIGHT
TZOFFSETFROM:-0700
TZOFFSETTO:-0600
TZNAME:MDT
DTSTART:20240310T090000
END:DAYLIGHT
BEGIN:STANDARD
TZOFFSETFROM:-0600
TZOFFSETTO:-0700
TZNAME:MST
DTSTART:20241103T080000
END:STANDARD
BEGIN:DAYLIGHT
TZOFFSETFROM:-0700
TZOFFSETTO:-0600
TZNAME:MDT
DTSTART:20250309T090000
END:DAYLIGHT
BEGIN:STANDARD
TZOFFSETFROM:-0600
TZOFFSETTO:-0700
TZNAME:MST
DTSTART:20251102T080000
END:STANDARD
END:VTIMEZONE
BEGIN:VEVENT
DTSTART;TZID=America/Chicago:20240609T153000
DTEND;TZID=America/Chicago:20240609T170000
DTSTAMP:20260421T210143
CREATED:20240314T205102Z
LAST-MODIFIED:20240314T205102Z
UID:10000229-1717947000-1717952400@colfaxsportsmensclub.com
SUMMARY:SCTP TEAM PRACTICE
DESCRIPTION:Live Fire practice with Coaches.
URL:https://colfaxsportsmensclub.com/event/sctp-team-practice/2024-06-09/
LOCATION:Colfax Sportsmen’s Club\, E8498 810th Ave.\, Colfax\, WI\, 54730\, United States
ORGANIZER;CN="Colfax Sportsmen's Club":MAILTO:colfaxsportsmensclub2013@gmail.com
END:VEVENT
BEGIN:VEVENT
DTSTART;TZID=America/Chicago:20240610T170000
DTEND;TZID=America/Chicago:20240610T220000
DTSTAMP:20260421T210143
CREATED:20240226T003957Z
LAST-MODIFIED:20240226T003957Z
UID:10000201-1718038800-1718056800@colfaxsportsmensclub.com
SUMMARY:OPEN TRAP
DESCRIPTION:We shoot open trap at this time; we will run standard and the crew running it will throw a few wobbler rounds in per night. We do not have any leagues; we just shoot for fun! \nThe cost is $5.00 per round of 25\,\nWE ALSO SHOOT DOUBLES\, THE COST: IS $10.00 PER ROUND OF 50.
URL:https://colfaxsportsmensclub.com/event/open-trap-2/2024-06-10/
LOCATION:Colfax Sportsmen’s Club\, E8498 810th Ave.\, Colfax\, WI\, 54730\, United States
ORGANIZER;CN="Colfax Sportsmen's Club":MAILTO:colfaxsportsmensclub2013@gmail.com
END:VEVENT
BEGIN:VEVENT
DTSTART;TZID=America/Chicago:20240613T130000
DTEND;TZID=America/Chicago:20240613T160000
DTSTAMP:20260421T210143
CREATED:20231231T170929Z
LAST-MODIFIED:20231231T170929Z
UID:10000109-1718283600-1718294400@colfaxsportsmensclub.com
SUMMARY:OPEN FOR PUBLIC SHOOTING
DESCRIPTION:Range Open for Public Shooting from 1:00 PM to 4:00 PM \nFIREARMS MUST BE CASED\nEYE AND EAR PROTECTION REQUIRED\n\nTHANK YOU FOR YOUR COOPERATION!
URL:https://colfaxsportsmensclub.com/event/open-for-public-shooting-4/2024-06-13/
LOCATION:Colfax Sportsmen’s Club\, E8498 810th Ave.\, Colfax\, WI\, 54730\, United States
ORGANIZER;CN="Colfax Sportsmen's Club":MAILTO:colfaxsportsmensclub2013@gmail.com
END:VEVENT
BEGIN:VEVENT
DTSTART;TZID=America/Chicago:20240613T173000
DTEND;TZID=America/Chicago:20240613T203000
DTSTAMP:20260421T210143
CREATED:20231216T202520Z
LAST-MODIFIED:20231216T202520Z
UID:10000059-1718299800-1718310600@colfaxsportsmensclub.com
SUMMARY:WEEKLY STEEL CHALLENGE MATCH
DESCRIPTION:Weekly Colfax Steel Challenge\, Registration is preferred through Practiscore.com if possible\, Walk-in’s welcome.  Check-in and squadding will begin at 5:30PM and shooting will start as close to 6:00PM as possible.  Weekly matches\, we will shoot 4 stages.  On some of the early months we may need to back down to 3 stages to fit them in.\nPlease follow our Facebook page in case there is a match cancelation due to weather. \nhttps://www.facebook.com/ColfaxSpeedShooting/ \n 
URL:https://colfaxsportsmensclub.com/event/weekly-steel-challenge-match/2024-06-13/
LOCATION:Colfax Sportsmen’s Club\, E8498 810th Ave.\, Colfax\, WI\, 54730\, United States
ORGANIZER;CN="Colfax Sportsmen's Club":MAILTO:colfaxsportsmensclub2013@gmail.com
END:VEVENT
BEGIN:VEVENT
DTSTART;TZID=America/Chicago:20240616T080000
DTEND;TZID=America/Chicago:20240616T160000
DTSTAMP:20260421T210143
CREATED:20231231T164050Z
LAST-MODIFIED:20231231T181341Z
UID:10000101-1718524800-1718553600@colfaxsportsmensclub.com
SUMMARY:COLFAX JUNE NRL22 COF
DESCRIPTION:Colfax Sportsmen’s Club Monthly NRL22 COF. We will shoot the 5 designated NRL22 Monthly stages with the possibility of a bonus stage or two. Registration fee and discounts can be found below. Check-in and zero range will run from 8:00am – 9:00am. Match starts at 9:00am. This match is open to the public\, there is no requirement to be a Colfax Sportsmen’s Club member to compete. Payment through Practiscore is preferred but we will also allow payment at registration for this match. Squads may be adjusted the day of the match to even them out and or split to save time.
URL:https://colfaxsportsmensclub.com/event/colfax-june-nrl22-cof/
LOCATION:Colfax Sportsmen’s Club\, E8498 810th Ave.\, Colfax\, WI\, 54730\, United States
ORGANIZER;CN="Colfax Sportsmen's Club":MAILTO:colfaxsportsmensclub2013@gmail.com
END:VEVENT
BEGIN:VEVENT
DTSTART;TZID=America/Chicago:20240617T170000
DTEND;TZID=America/Chicago:20240617T220000
DTSTAMP:20260421T210143
CREATED:20240226T003957Z
LAST-MODIFIED:20240226T003957Z
UID:10000202-1718643600-1718661600@colfaxsportsmensclub.com
SUMMARY:OPEN TRAP
DESCRIPTION:We shoot open trap at this time; we will run standard and the crew running it will throw a few wobbler rounds in per night. We do not have any leagues; we just shoot for fun! \nThe cost is $5.00 per round of 25\,\nWE ALSO SHOOT DOUBLES\, THE COST: IS $10.00 PER ROUND OF 50.
URL:https://colfaxsportsmensclub.com/event/open-trap-2/2024-06-17/
LOCATION:Colfax Sportsmen’s Club\, E8498 810th Ave.\, Colfax\, WI\, 54730\, United States
ORGANIZER;CN="Colfax Sportsmen's Club":MAILTO:colfaxsportsmensclub2013@gmail.com
END:VEVENT
BEGIN:VEVENT
DTSTART;TZID=America/Chicago:20240620T130000
DTEND;TZID=America/Chicago:20240620T160000
DTSTAMP:20260421T210143
CREATED:20231231T170929Z
LAST-MODIFIED:20231231T170929Z
UID:10000110-1718888400-1718899200@colfaxsportsmensclub.com
SUMMARY:OPEN FOR PUBLIC SHOOTING
DESCRIPTION:Range Open for Public Shooting from 1:00 PM to 4:00 PM \nFIREARMS MUST BE CASED\nEYE AND EAR PROTECTION REQUIRED\n\nTHANK YOU FOR YOUR COOPERATION!
URL:https://colfaxsportsmensclub.com/event/open-for-public-shooting-4/2024-06-20/
LOCATION:Colfax Sportsmen’s Club\, E8498 810th Ave.\, Colfax\, WI\, 54730\, United States
ORGANIZER;CN="Colfax Sportsmen's Club":MAILTO:colfaxsportsmensclub2013@gmail.com
END:VEVENT
BEGIN:VEVENT
DTSTART;TZID=America/Chicago:20240620T173000
DTEND;TZID=America/Chicago:20240620T203000
DTSTAMP:20260421T210143
CREATED:20231216T202520Z
LAST-MODIFIED:20231216T202520Z
UID:10000060-1718904600-1718915400@colfaxsportsmensclub.com
SUMMARY:WEEKLY STEEL CHALLENGE MATCH
DESCRIPTION:Weekly Colfax Steel Challenge\, Registration is preferred through Practiscore.com if possible\, Walk-in’s welcome.  Check-in and squadding will begin at 5:30PM and shooting will start as close to 6:00PM as possible.  Weekly matches\, we will shoot 4 stages.  On some of the early months we may need to back down to 3 stages to fit them in.\nPlease follow our Facebook page in case there is a match cancelation due to weather. \nhttps://www.facebook.com/ColfaxSpeedShooting/ \n 
URL:https://colfaxsportsmensclub.com/event/weekly-steel-challenge-match/2024-06-20/
LOCATION:Colfax Sportsmen’s Club\, E8498 810th Ave.\, Colfax\, WI\, 54730\, United States
ORGANIZER;CN="Colfax Sportsmen's Club":MAILTO:colfaxsportsmensclub2013@gmail.com
END:VEVENT
BEGIN:VEVENT
DTSTART;VALUE=DATE:20240621
DTEND;VALUE=DATE:20240622
DTSTAMP:20260421T210143
CREATED:20231216T173136Z
LAST-MODIFIED:20231216T173136Z
UID:10000043-1718956800-1718989200@colfaxsportsmensclub.com
SUMMARY:RANGE CLOSED FOR EVENT SET-UP
DESCRIPTION:Main Range and Competition Bays Closed for Match Set-up
URL:https://colfaxsportsmensclub.com/event/range-closed-for-event-set-up/2024-06-21/
LOCATION:Colfax Sportsmen’s Club\, E8498 810th Ave.\, Colfax\, WI\, 54730\, United States
ORGANIZER;CN="Colfax Sportsmen's Club":MAILTO:colfaxsportsmensclub2013@gmail.com
END:VEVENT
BEGIN:VEVENT
DTSTART;TZID=America/Denver:20240622T073000
DTEND;TZID=America/Denver:20240622T160000
DTSTAMP:20260421T210143
CREATED:20231217T215955Z
LAST-MODIFIED:20231217T215955Z
UID:10000075-1719041400-1719072000@colfaxsportsmensclub.com
SUMMARY:COLFAX JUNE - SPEED FREAK RIMFIRE MONTHLY MATCH
DESCRIPTION:During the Colfax Speed Freak Rimfire Monthly match we will shoot 8 unique stages.  This match will test competitors with stages where there are between 3 and 8 targets\, the catch is your worst strings will not be dropped.  Stages will be 3 strings.  The true intention of this type of match is to make it easy enough for new and existing gun owners who don’t have or cannot afford a large inventory of magazines for their guns; or don’t have both a pistol and rifle in 22LR\, involved in the shooting sports.  Making events such as this centered around family\, fun\, and education is our goal here at Colfax Sportsmen’s Club.  \nThere are four (4) Divisions: Optics Pistol\, Optics Rifle\, Irons Pistol\, and Irons Rifle.
URL:https://colfaxsportsmensclub.com/event/colfax-june-speed-freak-rimfire-monthly-match/
LOCATION:Colfax Sportsmen’s Club\, E8498 810th Ave.\, Colfax\, WI\, 54730\, United States
ORGANIZER;CN="Colfax Sportsmen's Club":MAILTO:colfaxsportsmensclub2013@gmail.com
END:VEVENT
BEGIN:VEVENT
DTSTART;TZID=America/Chicago:20240623T073000
DTEND;TZID=America/Chicago:20240623T160000
DTSTAMP:20260421T210143
CREATED:20231224T152251Z
LAST-MODIFIED:20240101T221402Z
UID:10000087-1719127800-1719158400@colfaxsportsmensclub.com
SUMMARY:COLFAX JUNE - STEEL CHALLENGE MONTHLY
DESCRIPTION:Colfax Sportsmen’s Club provides sanctioned SCSA matches throughout the spring\, summer\, and fall.  A weekend match will include six of the SCSA stages and Thursday matches will provide four of the SCSA stages for participants to enjoy.  We encourage any and all participants\, be it existing firearm owners or new firearm owners\, to come out and give Steel Challenge a try!
URL:https://colfaxsportsmensclub.com/event/colfax-june-steel-challenge-monthly/
LOCATION:Colfax Sportsmen’s Club\, E8498 810th Ave.\, Colfax\, WI\, 54730\, United States
ORGANIZER;CN="Colfax Sportsmen's Club":MAILTO:colfaxsportsmensclub2013@gmail.com
END:VEVENT
BEGIN:VEVENT
DTSTART;TZID=America/Chicago:20240623T130000
DTEND;TZID=America/Chicago:20240623T153000
DTSTAMP:20260421T210143
CREATED:20231231T174610Z
LAST-MODIFIED:20231231T174610Z
UID:10000151-1719147600-1719156600@colfaxsportsmensclub.com
SUMMARY:SASP TEAM PRACTICE
DESCRIPTION:Live Fire practice with Coaches.
URL:https://colfaxsportsmensclub.com/event/sasp-team-practice/2024-06-23/
LOCATION:Colfax Sportsmen’s Club\, E8498 810th Ave.\, Colfax\, WI\, 54730\, United States
ORGANIZER;CN="Colfax Sportsmen's Club":MAILTO:colfaxsportsmensclub2013@gmail.com
END:VEVENT
BEGIN:VEVENT
DTSTART;TZID=America/Chicago:20240623T153000
DTEND;TZID=America/Chicago:20240623T170000
DTSTAMP:20260421T210143
CREATED:20240314T205102Z
LAST-MODIFIED:20240314T205102Z
UID:10000231-1719156600-1719162000@colfaxsportsmensclub.com
SUMMARY:SCTP TEAM PRACTICE
DESCRIPTION:Live Fire practice with Coaches.
URL:https://colfaxsportsmensclub.com/event/sctp-team-practice/2024-06-23/
LOCATION:Colfax Sportsmen’s Club\, E8498 810th Ave.\, Colfax\, WI\, 54730\, United States
ORGANIZER;CN="Colfax Sportsmen's Club":MAILTO:colfaxsportsmensclub2013@gmail.com
END:VEVENT
BEGIN:VEVENT
DTSTART;TZID=America/Chicago:20240624T170000
DTEND;TZID=America/Chicago:20240624T220000
DTSTAMP:20260421T210143
CREATED:20240226T003957Z
LAST-MODIFIED:20240226T003957Z
UID:10000203-1719248400-1719266400@colfaxsportsmensclub.com
SUMMARY:OPEN TRAP
DESCRIPTION:We shoot open trap at this time; we will run standard and the crew running it will throw a few wobbler rounds in per night. We do not have any leagues; we just shoot for fun! \nThe cost is $5.00 per round of 25\,\nWE ALSO SHOOT DOUBLES\, THE COST: IS $10.00 PER ROUND OF 50.
URL:https://colfaxsportsmensclub.com/event/open-trap-2/2024-06-24/
LOCATION:Colfax Sportsmen’s Club\, E8498 810th Ave.\, Colfax\, WI\, 54730\, United States
ORGANIZER;CN="Colfax Sportsmen's Club":MAILTO:colfaxsportsmensclub2013@gmail.com
END:VEVENT
BEGIN:VEVENT
DTSTART;TZID=America/Chicago:20240627T130000
DTEND;TZID=America/Chicago:20240627T160000
DTSTAMP:20260421T210143
CREATED:20231231T170929Z
LAST-MODIFIED:20231231T170929Z
UID:10000111-1719493200-1719504000@colfaxsportsmensclub.com
SUMMARY:OPEN FOR PUBLIC SHOOTING
DESCRIPTION:Range Open for Public Shooting from 1:00 PM to 4:00 PM \nFIREARMS MUST BE CASED\nEYE AND EAR PROTECTION REQUIRED\n\nTHANK YOU FOR YOUR COOPERATION!
URL:https://colfaxsportsmensclub.com/event/open-for-public-shooting-4/2024-06-27/
LOCATION:Colfax Sportsmen’s Club\, E8498 810th Ave.\, Colfax\, WI\, 54730\, United States
ORGANIZER;CN="Colfax Sportsmen's Club":MAILTO:colfaxsportsmensclub2013@gmail.com
END:VEVENT
BEGIN:VEVENT
DTSTART;TZID=America/Chicago:20240627T173000
DTEND;TZID=America/Chicago:20240627T203000
DTSTAMP:20260421T210143
CREATED:20231216T202520Z
LAST-MODIFIED:20231216T202520Z
UID:10000061-1719509400-1719520200@colfaxsportsmensclub.com
SUMMARY:WEEKLY STEEL CHALLENGE MATCH
DESCRIPTION:Weekly Colfax Steel Challenge\, Registration is preferred through Practiscore.com if possible\, Walk-in’s welcome.  Check-in and squadding will begin at 5:30PM and shooting will start as close to 6:00PM as possible.  Weekly matches\, we will shoot 4 stages.  On some of the early months we may need to back down to 3 stages to fit them in.\nPlease follow our Facebook page in case there is a match cancelation due to weather. \nhttps://www.facebook.com/ColfaxSpeedShooting/ \n 
URL:https://colfaxsportsmensclub.com/event/weekly-steel-challenge-match/2024-06-27/
LOCATION:Colfax Sportsmen’s Club\, E8498 810th Ave.\, Colfax\, WI\, 54730\, United States
ORGANIZER;CN="Colfax Sportsmen's Club":MAILTO:colfaxsportsmensclub2013@gmail.com
END:VEVENT
BEGIN:VEVENT
DTSTART;TZID=America/Chicago:20240630T130000
DTEND;TZID=America/Chicago:20240630T153000
DTSTAMP:20260421T210143
CREATED:20231231T174610Z
LAST-MODIFIED:20231231T174610Z
UID:10000152-1719752400-1719761400@colfaxsportsmensclub.com
SUMMARY:SASP TEAM PRACTICE
DESCRIPTION:Live Fire practice with Coaches.
URL:https://colfaxsportsmensclub.com/event/sasp-team-practice/2024-06-30/
LOCATION:Colfax Sportsmen’s Club\, E8498 810th Ave.\, Colfax\, WI\, 54730\, United States
ORGANIZER;CN="Colfax Sportsmen's Club":MAILTO:colfaxsportsmensclub2013@gmail.com
END:VEVENT
BEGIN:VEVENT
DTSTART;TZID=America/Chicago:20240630T153000
DTEND;TZID=America/Chicago:20240630T170000
DTSTAMP:20260421T210143
CREATED:20240314T205102Z
LAST-MODIFIED:20240314T205102Z
UID:10000232-1719761400-1719766800@colfaxsportsmensclub.com
SUMMARY:SCTP TEAM PRACTICE
DESCRIPTION:Live Fire practice with Coaches.
URL:https://colfaxsportsmensclub.com/event/sctp-team-practice/2024-06-30/
LOCATION:Colfax Sportsmen’s Club\, E8498 810th Ave.\, Colfax\, WI\, 54730\, United States
ORGANIZER;CN="Colfax Sportsmen's Club":MAILTO:colfaxsportsmensclub2013@gmail.com
END:VEVENT
BEGIN:VEVENT
DTSTART;TZID=America/Chicago:20240701T170000
DTEND;TZID=America/Chicago:20240701T220000
DTSTAMP:20260421T210143
CREATED:20240226T003957Z
LAST-MODIFIED:20240226T003957Z
UID:10000204-1719853200-1719871200@colfaxsportsmensclub.com
SUMMARY:OPEN TRAP
DESCRIPTION:We shoot open trap at this time; we will run standard and the crew running it will throw a few wobbler rounds in per night. We do not have any leagues; we just shoot for fun! \nThe cost is $5.00 per round of 25\,\nWE ALSO SHOOT DOUBLES\, THE COST: IS $10.00 PER ROUND OF 50.
URL:https://colfaxsportsmensclub.com/event/open-trap-2/2024-07-01/
LOCATION:Colfax Sportsmen’s Club\, E8498 810th Ave.\, Colfax\, WI\, 54730\, United States
ORGANIZER;CN="Colfax Sportsmen's Club":MAILTO:colfaxsportsmensclub2013@gmail.com
END:VEVENT
BEGIN:VEVENT
DTSTART;TZID=America/Chicago:20240703T190000
DTEND;TZID=America/Chicago:20240703T210000
DTSTAMP:20260421T210143
CREATED:20231216T172114Z
LAST-MODIFIED:20231216T172114Z
UID:10000034-1720033200-1720040400@colfaxsportsmensclub.com
SUMMARY:MONTHLY CLUB MEETING
DESCRIPTION:Monthly Meetings at the Clubhouse Shooting Range start at 7:00 PM SHARP!  Membership is $40.00 per family per year.  You are welcome to come and visit a meeting to see what we are all about before you decide to join if you wish.  Goodies after the meeting too.
URL:https://colfaxsportsmensclub.com/event/monthly-club-meeting-2/2024-07-03/
LOCATION:Colfax Sportsmen’s Club\, E8498 810th Ave.\, Colfax\, WI\, 54730\, United States
ORGANIZER;CN="Colfax Sportsmen's Club":MAILTO:colfaxsportsmensclub2013@gmail.com
END:VEVENT
BEGIN:VEVENT
DTSTART;TZID=America/Chicago:20240707T090000
DTEND;TZID=America/Chicago:20240707T123000
DTSTAMP:20260421T210143
CREATED:20240704T214630Z
LAST-MODIFIED:20240704T214630Z
UID:10000240-1720342800-1720355400@colfaxsportsmensclub.com
SUMMARY:OPEN FOR PUBLIC SHOOTING
DESCRIPTION:Range Open for Public Shooting from 9:00 AM to 12:30 PM \nFIREARMS MUST BE CASED\nEYE AND EAR PROTECTION REQUIRED\n\nTHANK YOU FOR YOUR COOPERATION!
URL:https://colfaxsportsmensclub.com/event/open-for-public-shooting-11/
LOCATION:Colfax Sportsmen’s Club\, E8498 810th Ave.\, Colfax\, WI\, 54730\, United States
ORGANIZER;CN="Colfax Sportsmen's Club":MAILTO:colfaxsportsmensclub2013@gmail.com
END:VEVENT
BEGIN:VEVENT
DTSTART;TZID=America/Chicago:20240707T130000
DTEND;TZID=America/Chicago:20240707T153000
DTSTAMP:20260421T210143
CREATED:20231231T174610Z
LAST-MODIFIED:20231231T174610Z
UID:10000153-1720357200-1720366200@colfaxsportsmensclub.com
SUMMARY:SASP TEAM PRACTICE
DESCRIPTION:Live Fire practice with Coaches.
URL:https://colfaxsportsmensclub.com/event/sasp-team-practice/2024-07-07/
LOCATION:Colfax Sportsmen’s Club\, E8498 810th Ave.\, Colfax\, WI\, 54730\, United States
ORGANIZER;CN="Colfax Sportsmen's Club":MAILTO:colfaxsportsmensclub2013@gmail.com
END:VEVENT
BEGIN:VEVENT
DTSTART;TZID=America/Chicago:20240707T153000
DTEND;TZID=America/Chicago:20240707T170000
DTSTAMP:20260421T210143
CREATED:20240314T205102Z
LAST-MODIFIED:20240314T205102Z
UID:10000233-1720366200-1720371600@colfaxsportsmensclub.com
SUMMARY:SCTP TEAM PRACTICE
DESCRIPTION:Live Fire practice with Coaches.
URL:https://colfaxsportsmensclub.com/event/sctp-team-practice/2024-07-07/
LOCATION:Colfax Sportsmen’s Club\, E8498 810th Ave.\, Colfax\, WI\, 54730\, United States
ORGANIZER;CN="Colfax Sportsmen's Club":MAILTO:colfaxsportsmensclub2013@gmail.com
END:VEVENT
BEGIN:VEVENT
DTSTART;TZID=America/Chicago:20240708T170000
DTEND;TZID=America/Chicago:20240708T220000
DTSTAMP:20260421T210143
CREATED:20240226T003957Z
LAST-MODIFIED:20240226T003957Z
UID:10000205-1720458000-1720476000@colfaxsportsmensclub.com
SUMMARY:OPEN TRAP
DESCRIPTION:We shoot open trap at this time; we will run standard and the crew running it will throw a few wobbler rounds in per night. We do not have any leagues; we just shoot for fun! \nThe cost is $5.00 per round of 25\,\nWE ALSO SHOOT DOUBLES\, THE COST: IS $10.00 PER ROUND OF 50.
URL:https://colfaxsportsmensclub.com/event/open-trap-2/2024-07-08/
LOCATION:Colfax Sportsmen’s Club\, E8498 810th Ave.\, Colfax\, WI\, 54730\, United States
ORGANIZER;CN="Colfax Sportsmen's Club":MAILTO:colfaxsportsmensclub2013@gmail.com
END:VEVENT
BEGIN:VEVENT
DTSTART;TZID=America/Chicago:20240711T130000
DTEND;TZID=America/Chicago:20240711T160000
DTSTAMP:20260421T210143
CREATED:20231231T170929Z
LAST-MODIFIED:20231231T170929Z
UID:10000112-1720702800-1720713600@colfaxsportsmensclub.com
SUMMARY:OPEN FOR PUBLIC SHOOTING
DESCRIPTION:Range Open for Public Shooting from 1:00 PM to 4:00 PM \nFIREARMS MUST BE CASED\nEYE AND EAR PROTECTION REQUIRED\n\nTHANK YOU FOR YOUR COOPERATION!
URL:https://colfaxsportsmensclub.com/event/open-for-public-shooting-4/2024-07-11/
LOCATION:Colfax Sportsmen’s Club\, E8498 810th Ave.\, Colfax\, WI\, 54730\, United States
ORGANIZER;CN="Colfax Sportsmen's Club":MAILTO:colfaxsportsmensclub2013@gmail.com
END:VEVENT
BEGIN:VEVENT
DTSTART;TZID=America/Chicago:20240711T173000
DTEND;TZID=America/Chicago:20240711T203000
DTSTAMP:20260421T210143
CREATED:20231216T202520Z
LAST-MODIFIED:20231216T202520Z
UID:10000062-1720719000-1720729800@colfaxsportsmensclub.com
SUMMARY:WEEKLY STEEL CHALLENGE MATCH
DESCRIPTION:Weekly Colfax Steel Challenge\, Registration is preferred through Practiscore.com if possible\, Walk-in’s welcome.  Check-in and squadding will begin at 5:30PM and shooting will start as close to 6:00PM as possible.  Weekly matches\, we will shoot 4 stages.  On some of the early months we may need to back down to 3 stages to fit them in.\nPlease follow our Facebook page in case there is a match cancelation due to weather. \nhttps://www.facebook.com/ColfaxSpeedShooting/ \n 
URL:https://colfaxsportsmensclub.com/event/weekly-steel-challenge-match/2024-07-11/
LOCATION:Colfax Sportsmen’s Club\, E8498 810th Ave.\, Colfax\, WI\, 54730\, United States
ORGANIZER;CN="Colfax Sportsmen's Club":MAILTO:colfaxsportsmensclub2013@gmail.com
END:VEVENT
BEGIN:VEVENT
DTSTART;TZID=America/Chicago:20240715T170000
DTEND;TZID=America/Chicago:20240715T220000
DTSTAMP:20260421T210143
CREATED:20240226T003957Z
LAST-MODIFIED:20240226T003957Z
UID:10000206-1721062800-1721080800@colfaxsportsmensclub.com
SUMMARY:OPEN TRAP
DESCRIPTION:We shoot open trap at this time; we will run standard and the crew running it will throw a few wobbler rounds in per night. We do not have any leagues; we just shoot for fun! \nThe cost is $5.00 per round of 25\,\nWE ALSO SHOOT DOUBLES\, THE COST: IS $10.00 PER ROUND OF 50.
URL:https://colfaxsportsmensclub.com/event/open-trap-2/2024-07-15/
LOCATION:Colfax Sportsmen’s Club\, E8498 810th Ave.\, Colfax\, WI\, 54730\, United States
ORGANIZER;CN="Colfax Sportsmen's Club":MAILTO:colfaxsportsmensclub2013@gmail.com
END:VEVENT
BEGIN:VEVENT
DTSTART;TZID=America/Chicago:20240718T130000
DTEND;TZID=America/Chicago:20240718T160000
DTSTAMP:20260421T210143
CREATED:20231231T170929Z
LAST-MODIFIED:20231231T170929Z
UID:10000113-1721307600-1721318400@colfaxsportsmensclub.com
SUMMARY:OPEN FOR PUBLIC SHOOTING
DESCRIPTION:Range Open for Public Shooting from 1:00 PM to 4:00 PM \nFIREARMS MUST BE CASED\nEYE AND EAR PROTECTION REQUIRED\n\nTHANK YOU FOR YOUR COOPERATION!
URL:https://colfaxsportsmensclub.com/event/open-for-public-shooting-4/2024-07-18/
LOCATION:Colfax Sportsmen’s Club\, E8498 810th Ave.\, Colfax\, WI\, 54730\, United States
ORGANIZER;CN="Colfax Sportsmen's Club":MAILTO:colfaxsportsmensclub2013@gmail.com
END:VEVENT
BEGIN:VEVENT
DTSTART;TZID=America/Chicago:20240718T173000
DTEND;TZID=America/Chicago:20240718T203000
DTSTAMP:20260421T210143
CREATED:20231216T202520Z
LAST-MODIFIED:20231216T202520Z
UID:10000063-1721323800-1721334600@colfaxsportsmensclub.com
SUMMARY:WEEKLY STEEL CHALLENGE MATCH
DESCRIPTION:Weekly Colfax Steel Challenge\, Registration is preferred through Practiscore.com if possible\, Walk-in’s welcome.  Check-in and squadding will begin at 5:30PM and shooting will start as close to 6:00PM as possible.  Weekly matches\, we will shoot 4 stages.  On some of the early months we may need to back down to 3 stages to fit them in.\nPlease follow our Facebook page in case there is a match cancelation due to weather. \nhttps://www.facebook.com/ColfaxSpeedShooting/ \n 
URL:https://colfaxsportsmensclub.com/event/weekly-steel-challenge-match/2024-07-18/
LOCATION:Colfax Sportsmen’s Club\, E8498 810th Ave.\, Colfax\, WI\, 54730\, United States
ORGANIZER;CN="Colfax Sportsmen's Club":MAILTO:colfaxsportsmensclub2013@gmail.com
END:VEVENT
BEGIN:VEVENT
DTSTART;TZID=America/Chicago:20240721T080000
DTEND;TZID=America/Chicago:20240721T160000
DTSTAMP:20260421T210143
CREATED:20231231T164300Z
LAST-MODIFIED:20231231T181426Z
UID:10000102-1721548800-1721577600@colfaxsportsmensclub.com
SUMMARY:COLFAX JULY NRL22 COF
DESCRIPTION:Colfax Sportsmen’s Club Monthly NRL22 COF. We will shoot the 5 designated NRL22 Monthly stages with the possibility of a bonus stage or two. Registration fee and discounts can be found below. Check-in and zero range will run from 8:00am – 9:00am. Match starts at 9:00am. This match is open to the public\, there is no requirement to be a Colfax Sportsmen’s Club member to compete. Payment through Practiscore is preferred but we will also allow payment at registration for this match. Squads may be adjusted the day of the match to even them out and or split to save time.
URL:https://colfaxsportsmensclub.com/event/colfax-july-nrl22-cof/
LOCATION:Colfax Sportsmen’s Club\, E8498 810th Ave.\, Colfax\, WI\, 54730\, United States
ORGANIZER;CN="Colfax Sportsmen's Club":MAILTO:colfaxsportsmensclub2013@gmail.com
END:VEVENT
END:VCALENDAR