BEGIN:VCALENDAR
VERSION:2.0
PRODID:-//Colfax Sportsmens Club, Inc - ECPv6.15.20//NONSGML v1.0//EN
CALSCALE:GREGORIAN
METHOD:PUBLISH
X-ORIGINAL-URL:https://colfaxsportsmensclub.com
X-WR-CALDESC:Events for Colfax Sportsmens Club, Inc
REFRESH-INTERVAL;VALUE=DURATION:PT1H
X-Robots-Tag:noindex
X-PUBLISHED-TTL:PT1H
BEGIN:VTIMEZONE
TZID:America/Chicago
BEGIN:DAYLIGHT
TZOFFSETFROM:-0600
TZOFFSETTO:-0500
TZNAME:CDT
DTSTART:20250309T080000
END:DAYLIGHT
BEGIN:STANDARD
TZOFFSETFROM:-0500
TZOFFSETTO:-0600
TZNAME:CST
DTSTART:20251102T070000
END:STANDARD
BEGIN:DAYLIGHT
TZOFFSETFROM:-0600
TZOFFSETTO:-0500
TZNAME:CDT
DTSTART:20260308T080000
END:DAYLIGHT
BEGIN:STANDARD
TZOFFSETFROM:-0500
TZOFFSETTO:-0600
TZNAME:CST
DTSTART:20261101T070000
END:STANDARD
BEGIN:DAYLIGHT
TZOFFSETFROM:-0600
TZOFFSETTO:-0500
TZNAME:CDT
DTSTART:20270314T080000
END:DAYLIGHT
BEGIN:STANDARD
TZOFFSETFROM:-0500
TZOFFSETTO:-0600
TZNAME:CST
DTSTART:20271107T070000
END:STANDARD
END:VTIMEZONE
BEGIN:VEVENT
DTSTART;TZID=America/Chicago:20260817T160000
DTEND;TZID=America/Chicago:20260817T210000
DTSTAMP:20260419T204230
CREATED:20260104T152327Z
LAST-MODIFIED:20260104T152327Z
UID:10000595-1786982400-1787000400@colfaxsportsmensclub.com
SUMMARY:OPEN TRAP
DESCRIPTION:We shoot Open Trap at this time; we will run standard and the crew running it will throw a few Wobbler rounds in per night. We do not have any leagues; we just shoot for fun! \nThe cost is $6.00 per round of 25\,\nWE ALSO SHOOT DOUBLES\, THE COST: IS $12.00 PER ROUND OF 50. \nWe will base the hours off the sunset.
URL:https://colfaxsportsmensclub.com/event/open-trap-5/2026-08-17/
LOCATION:Colfax Sportsmen’s Club\, E8498 810th Ave.\, Colfax\, WI\, 54730\, United States
ORGANIZER;CN="Colfax Sportsmen's Club":MAILTO:colfaxsportsmensclub2013@gmail.com
END:VEVENT
BEGIN:VEVENT
DTSTART;TZID=America/Chicago:20260820T130000
DTEND;TZID=America/Chicago:20260820T160000
DTSTAMP:20260419T204230
CREATED:20260402T153505Z
LAST-MODIFIED:20260402T153505Z
UID:10000671-1787230800-1787241600@colfaxsportsmensclub.com
SUMMARY:OPEN FOR PUBLIC SHOOTING
DESCRIPTION:Range Open for Public Shooting from 1:00PM to 4:00PM\nFIREARMS MUST BE CASED\nEYE AND EAR PROTECTION REQUIRED\n\nTHANK YOU FOR YOUR COOPERATION!
URL:https://colfaxsportsmensclub.com/event/open-for-public-shooting-22/2026-08-20/
LOCATION:Colfax Sportsmen’s Club\, E8498 810th Ave.\, Colfax\, WI\, 54730\, United States
ORGANIZER;CN="Colfax Sportsmen's Club":MAILTO:colfaxsportsmensclub2013@gmail.com
END:VEVENT
BEGIN:VEVENT
DTSTART;TZID=America/Chicago:20260822T080000
DTEND;TZID=America/Chicago:20260822T170000
DTSTAMP:20260419T204230
CREATED:20260221T224826Z
LAST-MODIFIED:20260221T224827Z
UID:10000641-1787385600-1787418000@colfaxsportsmensclub.com
SUMMARY:COLFAX PCSL PISTOL MONTHLY MATCH
DESCRIPTION:PCSL K-Zone brown targets\, 10/5/3/1 scoring points for K/A/C/D zone hits for all divisions with blue steel targets\, red no shoot targets and black hard cover targets \nThis match is open to the public\, there is no requirement to be a Colfax Sportsmen’s Club member or a PCSL member to compete. Payment can be made through Practiscore or at check-in. Squadding can be done individually through Practiscore and will be adjusted on match day for the most efficient match flow. \nFor Current Divisions and Rules\, visit https://www.pcsleague.us
URL:https://colfaxsportsmensclub.com/event/colfax-pcsl-monthly-match-6/
LOCATION:Colfax Sportsmen’s Club\, E8498 810th Ave.\, Colfax\, WI\, 54730\, United States
ORGANIZER;CN="Colfax Sportsmen's Club":MAILTO:colfaxsportsmensclub2013@gmail.com
END:VEVENT
BEGIN:VEVENT
DTSTART;TZID=America/Chicago:20260822T120000
DTEND;TZID=America/Chicago:20260822T170000
DTSTAMP:20260419T204230
CREATED:20260221T225103Z
LAST-MODIFIED:20260221T225105Z
UID:10000605-1787400000-1787418000@colfaxsportsmensclub.com
SUMMARY:DUCK FLURRY TRAP SHOOT
DESCRIPTION:Duck Flurry Trap Shoot.  This will be a 2-person Team event which will include a 50 bird Furry that is thrown for each Team. The Team with the highest score at the end of the day will win.
URL:https://colfaxsportsmensclub.com/event/duck-flurry-trap-shoot-5-4/
LOCATION:Colfax Sportsmen’s Club\, E8498 810th Ave.\, Colfax\, WI\, 54730\, United States
ORGANIZER;CN="Colfax Sportsmen's Club":MAILTO:colfaxsportsmensclub2013@gmail.com
END:VEVENT
BEGIN:VEVENT
DTSTART;TZID=America/Chicago:20260824T160000
DTEND;TZID=America/Chicago:20260824T210000
DTSTAMP:20260419T204230
CREATED:20260104T152327Z
LAST-MODIFIED:20260104T152327Z
UID:10000596-1787587200-1787605200@colfaxsportsmensclub.com
SUMMARY:OPEN TRAP
DESCRIPTION:We shoot Open Trap at this time; we will run standard and the crew running it will throw a few Wobbler rounds in per night. We do not have any leagues; we just shoot for fun! \nThe cost is $6.00 per round of 25\,\nWE ALSO SHOOT DOUBLES\, THE COST: IS $12.00 PER ROUND OF 50. \nWe will base the hours off the sunset.
URL:https://colfaxsportsmensclub.com/event/open-trap-5/2026-08-24/
LOCATION:Colfax Sportsmen’s Club\, E8498 810th Ave.\, Colfax\, WI\, 54730\, United States
ORGANIZER;CN="Colfax Sportsmen's Club":MAILTO:colfaxsportsmensclub2013@gmail.com
END:VEVENT
BEGIN:VEVENT
DTSTART;TZID=America/Chicago:20260827T130000
DTEND;TZID=America/Chicago:20260827T160000
DTSTAMP:20260419T204230
CREATED:20260402T153505Z
LAST-MODIFIED:20260402T153505Z
UID:10000672-1787835600-1787846400@colfaxsportsmensclub.com
SUMMARY:OPEN FOR PUBLIC SHOOTING
DESCRIPTION:Range Open for Public Shooting from 1:00PM to 4:00PM\nFIREARMS MUST BE CASED\nEYE AND EAR PROTECTION REQUIRED\n\nTHANK YOU FOR YOUR COOPERATION!
URL:https://colfaxsportsmensclub.com/event/open-for-public-shooting-22/2026-08-27/
LOCATION:Colfax Sportsmen’s Club\, E8498 810th Ave.\, Colfax\, WI\, 54730\, United States
ORGANIZER;CN="Colfax Sportsmen's Club":MAILTO:colfaxsportsmensclub2013@gmail.com
END:VEVENT
BEGIN:VEVENT
DTSTART;TZID=America/Chicago:20260831T160000
DTEND;TZID=America/Chicago:20260831T210000
DTSTAMP:20260419T204230
CREATED:20260104T152327Z
LAST-MODIFIED:20260104T152327Z
UID:10000597-1788192000-1788210000@colfaxsportsmensclub.com
SUMMARY:OPEN TRAP
DESCRIPTION:We shoot Open Trap at this time; we will run standard and the crew running it will throw a few Wobbler rounds in per night. We do not have any leagues; we just shoot for fun! \nThe cost is $6.00 per round of 25\,\nWE ALSO SHOOT DOUBLES\, THE COST: IS $12.00 PER ROUND OF 50. \nWe will base the hours off the sunset.
URL:https://colfaxsportsmensclub.com/event/open-trap-5/2026-08-31/
LOCATION:Colfax Sportsmen’s Club\, E8498 810th Ave.\, Colfax\, WI\, 54730\, United States
ORGANIZER;CN="Colfax Sportsmen's Club":MAILTO:colfaxsportsmensclub2013@gmail.com
END:VEVENT
BEGIN:VEVENT
DTSTART;TZID=America/Chicago:20260902T190000
DTEND;TZID=America/Chicago:20260902T210000
DTSTAMP:20260419T204230
CREATED:20260104T144715Z
LAST-MODIFIED:20260104T144715Z
UID:10000572-1788375600-1788382800@colfaxsportsmensclub.com
SUMMARY:MONTHLY CLUB MEETING
DESCRIPTION:Monthly Meetings at the Clubhouse Shooting Range start at 7:00 PM SHARP!  \nMembership is $40.00 per family per year.  \nYou are welcome to come and visit a meeting to see what we are all about before you decide to join if you wish.  \nGoodies after the meeting too.
URL:https://colfaxsportsmensclub.com/event/monthly-club-meeting-4/2026-09-02/
LOCATION:Colfax Sportsmen’s Club\, E8498 810th Ave.\, Colfax\, WI\, 54730\, United States
ORGANIZER;CN="Colfax Sportsmen's Club":MAILTO:colfaxsportsmensclub2013@gmail.com
END:VEVENT
BEGIN:VEVENT
DTSTART;TZID=America/Chicago:20260903T130000
DTEND;TZID=America/Chicago:20260903T160000
DTSTAMP:20260419T204230
CREATED:20260402T153505Z
LAST-MODIFIED:20260402T153505Z
UID:10000673-1788440400-1788451200@colfaxsportsmensclub.com
SUMMARY:OPEN FOR PUBLIC SHOOTING
DESCRIPTION:Range Open for Public Shooting from 1:00PM to 4:00PM\nFIREARMS MUST BE CASED\nEYE AND EAR PROTECTION REQUIRED\n\nTHANK YOU FOR YOUR COOPERATION!
URL:https://colfaxsportsmensclub.com/event/open-for-public-shooting-22/2026-09-03/
LOCATION:Colfax Sportsmen’s Club\, E8498 810th Ave.\, Colfax\, WI\, 54730\, United States
ORGANIZER;CN="Colfax Sportsmen's Club":MAILTO:colfaxsportsmensclub2013@gmail.com
END:VEVENT
BEGIN:VEVENT
DTSTART;TZID=America/Chicago:20260904T120000
DTEND;TZID=America/Chicago:20260904T170000
DTSTAMP:20260419T204230
CREATED:20260105T024526Z
LAST-MODIFIED:20260105T024526Z
UID:10000614-1788523200-1788541200@colfaxsportsmensclub.com
SUMMARY:RANGE CLOSED FOR MATCH SET-UP
DESCRIPTION:RANGE CLOSED NOON TO SUNSET
URL:https://colfaxsportsmensclub.com/event/range-closed-for-match-set-up/2026-09-04/
LOCATION:Colfax Sportsmen’s Club\, E8498 810th Ave.\, Colfax\, WI\, 54730\, United States
ORGANIZER;CN="Colfax Sportsmen's Club":MAILTO:colfaxsportsmensclub2013@gmail.com
END:VEVENT
BEGIN:VEVENT
DTSTART;TZID=America/Chicago:20260905T080000
DTEND;TZID=America/Chicago:20260905T170000
DTSTAMP:20260419T204230
CREATED:20260118T214115Z
LAST-MODIFIED:20260118T214115Z
UID:10000648-1788595200-1788627600@colfaxsportsmensclub.com
SUMMARY:BOWLING PIN SHOOT FINALE
DESCRIPTION:Registration is 8:00 AM – 9:00 AM\, matches start at 9:30 AM\, rain or shine\, bathroom\, and concessions on site. Dress appropriately for the weather. All are welcome to join in. There is no requirement to be a club member to participate.
URL:https://colfaxsportsmensclub.com/event/bowling-pin-shoot-finale-3/
LOCATION:Colfax Sportsmen’s Club\, E8498 810th Ave.\, Colfax\, WI\, 54730\, United States
ORGANIZER;CN="Colfax Sportsmen's Club":MAILTO:colfaxsportsmensclub2013@gmail.com
END:VEVENT
BEGIN:VEVENT
DTSTART;TZID=America/Chicago:20260905T080000
DTEND;TZID=America/Chicago:20260905T170000
DTSTAMP:20260419T204230
CREATED:20260221T225251Z
LAST-MODIFIED:20260221T225252Z
UID:10000642-1788595200-1788627600@colfaxsportsmensclub.com
SUMMARY:COLFAX PCSL PISTOL MONTHLY MATCH
DESCRIPTION:PCSL K-Zone brown targets\, 10/5/3/1 scoring points for K/A/C/D zone hits for all divisions with blue steel targets\, red no shoot targets and black hard cover targets \nThis match is open to the public\, there is no requirement to be a Colfax Sportsmen’s Club member or a PCSL member to compete. Payment can be made through Practiscore or at check-in. Squadding can be done individually through Practiscore and will be adjusted on match day for the most efficient match flow. \nFor Current Divisions and Rules\, visit https://www.pcsleague.us
URL:https://colfaxsportsmensclub.com/event/colfax-pcsl-monthly-match-7/
LOCATION:Colfax Sportsmen’s Club\, E8498 810th Ave.\, Colfax\, WI\, 54730\, United States
ORGANIZER;CN="Colfax Sportsmen's Club":MAILTO:colfaxsportsmensclub2013@gmail.com
END:VEVENT
BEGIN:VEVENT
DTSTART;TZID=America/Chicago:20260906T080000
DTEND;TZID=America/Chicago:20260906T170000
DTSTAMP:20260419T204230
CREATED:20260105T035259Z
LAST-MODIFIED:20260105T035259Z
UID:10000647-1788681600-1788714000@colfaxsportsmensclub.com
SUMMARY:HOMETOWN CHALLENGE FUNDRAISER MATCH
DESCRIPTION:MORE DETAILS TO COME
URL:https://colfaxsportsmensclub.com/event/hometown-challenge-fundraiser-match/
LOCATION:Colfax Sportsmen’s Club\, E8498 810th Ave.\, Colfax\, WI\, 54730\, United States
ORGANIZER;CN="Colfax Sportsmen's Club":MAILTO:colfaxsportsmensclub2013@gmail.com
END:VEVENT
BEGIN:VEVENT
DTSTART;TZID=America/Chicago:20260907T160000
DTEND;TZID=America/Chicago:20260907T210000
DTSTAMP:20260419T204230
CREATED:20260104T152327Z
LAST-MODIFIED:20260104T152327Z
UID:10000598-1788796800-1788814800@colfaxsportsmensclub.com
SUMMARY:OPEN TRAP
DESCRIPTION:We shoot Open Trap at this time; we will run standard and the crew running it will throw a few Wobbler rounds in per night. We do not have any leagues; we just shoot for fun! \nThe cost is $6.00 per round of 25\,\nWE ALSO SHOOT DOUBLES\, THE COST: IS $12.00 PER ROUND OF 50. \nWe will base the hours off the sunset.
URL:https://colfaxsportsmensclub.com/event/open-trap-5/2026-09-07/
LOCATION:Colfax Sportsmen’s Club\, E8498 810th Ave.\, Colfax\, WI\, 54730\, United States
ORGANIZER;CN="Colfax Sportsmen's Club":MAILTO:colfaxsportsmensclub2013@gmail.com
END:VEVENT
BEGIN:VEVENT
DTSTART;TZID=America/Chicago:20260914T160000
DTEND;TZID=America/Chicago:20260914T210000
DTSTAMP:20260419T204230
CREATED:20260104T152327Z
LAST-MODIFIED:20260104T152327Z
UID:10000599-1789401600-1789419600@colfaxsportsmensclub.com
SUMMARY:OPEN TRAP
DESCRIPTION:We shoot Open Trap at this time; we will run standard and the crew running it will throw a few Wobbler rounds in per night. We do not have any leagues; we just shoot for fun! \nThe cost is $6.00 per round of 25\,\nWE ALSO SHOOT DOUBLES\, THE COST: IS $12.00 PER ROUND OF 50. \nWe will base the hours off the sunset.
URL:https://colfaxsportsmensclub.com/event/open-trap-5/2026-09-14/
LOCATION:Colfax Sportsmen’s Club\, E8498 810th Ave.\, Colfax\, WI\, 54730\, United States
ORGANIZER;CN="Colfax Sportsmen's Club":MAILTO:colfaxsportsmensclub2013@gmail.com
END:VEVENT
BEGIN:VEVENT
DTSTART;TZID=America/Chicago:20260917T130000
DTEND;TZID=America/Chicago:20260917T160000
DTSTAMP:20260419T204230
CREATED:20260402T153505Z
LAST-MODIFIED:20260402T153505Z
UID:10000674-1789650000-1789660800@colfaxsportsmensclub.com
SUMMARY:OPEN FOR PUBLIC SHOOTING
DESCRIPTION:Range Open for Public Shooting from 1:00PM to 4:00PM\nFIREARMS MUST BE CASED\nEYE AND EAR PROTECTION REQUIRED\n\nTHANK YOU FOR YOUR COOPERATION!
URL:https://colfaxsportsmensclub.com/event/open-for-public-shooting-22/2026-09-17/
LOCATION:Colfax Sportsmen’s Club\, E8498 810th Ave.\, Colfax\, WI\, 54730\, United States
ORGANIZER;CN="Colfax Sportsmen's Club":MAILTO:colfaxsportsmensclub2013@gmail.com
END:VEVENT
BEGIN:VEVENT
DTSTART;TZID=America/Chicago:20260919T080000
DTEND;TZID=America/Chicago:20260919T170000
DTSTAMP:20260419T204230
CREATED:20260105T032709Z
LAST-MODIFIED:20260105T032709Z
UID:10000636-1789804800-1789837200@colfaxsportsmensclub.com
SUMMARY:HUNTER EDUCATION
DESCRIPTION:Range Closed to public while the students complete their field exercises on the Main Range and in the Clubhouse.
URL:https://colfaxsportsmensclub.com/event/hunter-education-3/
LOCATION:Colfax Sportsmen’s Club\, E8498 810th Ave.\, Colfax\, WI\, 54730\, United States
ORGANIZER;CN="Colfax Sportsmen's Club":MAILTO:colfaxsportsmensclub2013@gmail.com
END:VEVENT
BEGIN:VEVENT
DTSTART;TZID=America/Chicago:20260920T080000
DTEND;TZID=America/Chicago:20260920T170000
DTSTAMP:20260419T204230
CREATED:20260118T203024Z
LAST-MODIFIED:20260118T203025Z
UID:10000629-1789891200-1789923600@colfaxsportsmensclub.com
SUMMARY:COLFAX NRL22 MONTHLY COF
DESCRIPTION:Colfax Sportsmen’s Club Monthly NRL22 COF. We will shoot the 5 designated NRL22 Monthly stages with the possibility of a bonus stage or two. Registration fee and discounts can be found below. Check-in and zero range will run from 8:00am – 9:00am. Match starts at 9:00am. This match is open to the public\, there is no requirement to be a Colfax Sportsmen’s Club member to compete. Payment through Practiscore is preferred but we will also allow payment at registration for this match. Squads may be adjusted the day of the match to even them out and or split to save time.
URL:https://colfaxsportsmensclub.com/event/colfax-nrl22-monthly-cof-9/
LOCATION:Colfax Sportsmen’s Club\, E8498 810th Ave.\, Colfax\, WI\, 54730\, United States
ORGANIZER;CN="Colfax Sportsmen's Club":MAILTO:colfaxsportsmensclub2013@gmail.com
END:VEVENT
BEGIN:VEVENT
DTSTART;TZID=America/Chicago:20260921T160000
DTEND;TZID=America/Chicago:20260921T210000
DTSTAMP:20260419T204230
CREATED:20260104T152327Z
LAST-MODIFIED:20260104T152327Z
UID:10000600-1790006400-1790024400@colfaxsportsmensclub.com
SUMMARY:OPEN TRAP
DESCRIPTION:We shoot Open Trap at this time; we will run standard and the crew running it will throw a few Wobbler rounds in per night. We do not have any leagues; we just shoot for fun! \nThe cost is $6.00 per round of 25\,\nWE ALSO SHOOT DOUBLES\, THE COST: IS $12.00 PER ROUND OF 50. \nWe will base the hours off the sunset.
URL:https://colfaxsportsmensclub.com/event/open-trap-5/2026-09-21/
LOCATION:Colfax Sportsmen’s Club\, E8498 810th Ave.\, Colfax\, WI\, 54730\, United States
ORGANIZER;CN="Colfax Sportsmen's Club":MAILTO:colfaxsportsmensclub2013@gmail.com
END:VEVENT
BEGIN:VEVENT
DTSTART;TZID=America/Chicago:20260924T130000
DTEND;TZID=America/Chicago:20260924T160000
DTSTAMP:20260419T204230
CREATED:20260402T153505Z
LAST-MODIFIED:20260402T153505Z
UID:10000675-1790254800-1790265600@colfaxsportsmensclub.com
SUMMARY:OPEN FOR PUBLIC SHOOTING
DESCRIPTION:Range Open for Public Shooting from 1:00PM to 4:00PM\nFIREARMS MUST BE CASED\nEYE AND EAR PROTECTION REQUIRED\n\nTHANK YOU FOR YOUR COOPERATION!
URL:https://colfaxsportsmensclub.com/event/open-for-public-shooting-22/2026-09-24/
LOCATION:Colfax Sportsmen’s Club\, E8498 810th Ave.\, Colfax\, WI\, 54730\, United States
ORGANIZER;CN="Colfax Sportsmen's Club":MAILTO:colfaxsportsmensclub2013@gmail.com
END:VEVENT
BEGIN:VEVENT
DTSTART;TZID=America/Chicago:20260926T120000
DTEND;TZID=America/Chicago:20260926T170000
DTSTAMP:20260419T204230
CREATED:20260221T225521Z
LAST-MODIFIED:20260221T225523Z
UID:10000606-1790424000-1790442000@colfaxsportsmensclub.com
SUMMARY:DUCK FLURRY TRAP SHOOT
DESCRIPTION:Duck Flurry Trap Shoot.  This will be a 2-person Team event which will include a 50 bird Furry that is thrown for each Team. The Team with the highest score at the end of the day will win.
URL:https://colfaxsportsmensclub.com/event/duck-flurry-trap-shoot-5-5/
LOCATION:Colfax Sportsmen’s Club\, E8498 810th Ave.\, Colfax\, WI\, 54730\, United States
ORGANIZER;CN="Colfax Sportsmen's Club":MAILTO:colfaxsportsmensclub2013@gmail.com
END:VEVENT
BEGIN:VEVENT
DTSTART;TZID=America/Chicago:20260928T160000
DTEND;TZID=America/Chicago:20260928T210000
DTSTAMP:20260419T204230
CREATED:20260104T152327Z
LAST-MODIFIED:20260104T152327Z
UID:10000601-1790611200-1790629200@colfaxsportsmensclub.com
SUMMARY:OPEN TRAP
DESCRIPTION:We shoot Open Trap at this time; we will run standard and the crew running it will throw a few Wobbler rounds in per night. We do not have any leagues; we just shoot for fun! \nThe cost is $6.00 per round of 25\,\nWE ALSO SHOOT DOUBLES\, THE COST: IS $12.00 PER ROUND OF 50. \nWe will base the hours off the sunset.
URL:https://colfaxsportsmensclub.com/event/open-trap-5/2026-09-28/
LOCATION:Colfax Sportsmen’s Club\, E8498 810th Ave.\, Colfax\, WI\, 54730\, United States
ORGANIZER;CN="Colfax Sportsmen's Club":MAILTO:colfaxsportsmensclub2013@gmail.com
END:VEVENT
BEGIN:VEVENT
DTSTART;TZID=America/Chicago:20261001T130000
DTEND;TZID=America/Chicago:20261001T160000
DTSTAMP:20260419T204230
CREATED:20260402T153505Z
LAST-MODIFIED:20260402T153505Z
UID:10000676-1790859600-1790870400@colfaxsportsmensclub.com
SUMMARY:OPEN FOR PUBLIC SHOOTING
DESCRIPTION:Range Open for Public Shooting from 1:00PM to 4:00PM\nFIREARMS MUST BE CASED\nEYE AND EAR PROTECTION REQUIRED\n\nTHANK YOU FOR YOUR COOPERATION!
URL:https://colfaxsportsmensclub.com/event/open-for-public-shooting-22/2026-10-01/
LOCATION:Colfax Sportsmen’s Club\, E8498 810th Ave.\, Colfax\, WI\, 54730\, United States
ORGANIZER;CN="Colfax Sportsmen's Club":MAILTO:colfaxsportsmensclub2013@gmail.com
END:VEVENT
BEGIN:VEVENT
DTSTART;TZID=America/Chicago:20261003T173000
DTEND;TZID=America/Chicago:20261003T210000
DTSTAMP:20260419T204230
CREATED:20260105T030118Z
LAST-MODIFIED:20260105T030118Z
UID:10000619-1791048600-1791061200@colfaxsportsmensclub.com
SUMMARY:COLFAX SPORTSMEN'S CLUB BANQUET
DESCRIPTION:WHITETAIL GOLF COURSE – COLFAX\, WI
URL:https://colfaxsportsmensclub.com/event/colfax-sportsmens-club-banquet/
LOCATION:Colfax Sportsmen’s Club\, E8498 810th Ave.\, Colfax\, WI\, 54730\, United States
ORGANIZER;CN="Colfax Sportsmen's Club":MAILTO:colfaxsportsmensclub2013@gmail.com
END:VEVENT
BEGIN:VEVENT
DTSTART;TZID=America/Chicago:20261004T080000
DTEND;TZID=America/Chicago:20261004T170000
DTSTAMP:20260419T204230
CREATED:20260221T230025Z
LAST-MODIFIED:20260221T230026Z
UID:10000643-1791100800-1791133200@colfaxsportsmensclub.com
SUMMARY:COLFAX PCSL PISTOL MONTHLY MATCH
DESCRIPTION:PCSL K-Zone brown targets\, 10/5/3/1 scoring points for K/A/C/D zone hits for all divisions with blue steel targets\, red no shoot targets and black hard cover targets \nThis match is open to the public\, there is no requirement to be a Colfax Sportsmen’s Club member or a PCSL member to compete. Payment can be made through Practiscore or at check-in. Squadding can be done individually through Practiscore and will be adjusted on match day for the most efficient match flow. \nFor Current Divisions and Rules\, visit https://www.pcsleague.us
URL:https://colfaxsportsmensclub.com/event/colfax-pcsl-monthly-match-8/
LOCATION:Colfax Sportsmen’s Club\, E8498 810th Ave.\, Colfax\, WI\, 54730\, United States
ORGANIZER;CN="Colfax Sportsmen's Club":MAILTO:colfaxsportsmensclub2013@gmail.com
END:VEVENT
BEGIN:VEVENT
DTSTART;TZID=America/Chicago:20261007T190000
DTEND;TZID=America/Chicago:20261007T210000
DTSTAMP:20260419T204230
CREATED:20260104T144715Z
LAST-MODIFIED:20260104T144715Z
UID:10000573-1791399600-1791406800@colfaxsportsmensclub.com
SUMMARY:MONTHLY CLUB MEETING
DESCRIPTION:Monthly Meetings at the Clubhouse Shooting Range start at 7:00 PM SHARP!  \nMembership is $40.00 per family per year.  \nYou are welcome to come and visit a meeting to see what we are all about before you decide to join if you wish.  \nGoodies after the meeting too.
URL:https://colfaxsportsmensclub.com/event/monthly-club-meeting-4/2026-10-07/
LOCATION:Colfax Sportsmen’s Club\, E8498 810th Ave.\, Colfax\, WI\, 54730\, United States
ORGANIZER;CN="Colfax Sportsmen's Club":MAILTO:colfaxsportsmensclub2013@gmail.com
END:VEVENT
BEGIN:VEVENT
DTSTART;TZID=America/Chicago:20261008T130000
DTEND;TZID=America/Chicago:20261008T160000
DTSTAMP:20260419T204230
CREATED:20260402T153505Z
LAST-MODIFIED:20260402T153505Z
UID:10000677-1791464400-1791475200@colfaxsportsmensclub.com
SUMMARY:OPEN FOR PUBLIC SHOOTING
DESCRIPTION:Range Open for Public Shooting from 1:00PM to 4:00PM\nFIREARMS MUST BE CASED\nEYE AND EAR PROTECTION REQUIRED\n\nTHANK YOU FOR YOUR COOPERATION!
URL:https://colfaxsportsmensclub.com/event/open-for-public-shooting-22/2026-10-08/
LOCATION:Colfax Sportsmen’s Club\, E8498 810th Ave.\, Colfax\, WI\, 54730\, United States
ORGANIZER;CN="Colfax Sportsmen's Club":MAILTO:colfaxsportsmensclub2013@gmail.com
END:VEVENT
BEGIN:VEVENT
DTSTART;TZID=America/Chicago:20261010T073000
DTEND;TZID=America/Chicago:20261010T170000
DTSTAMP:20260419T204230
CREATED:20260105T025734Z
LAST-MODIFIED:20260118T203655Z
UID:10000618-1791617400-1791651600@colfaxsportsmensclub.com
SUMMARY:WISCONSIN SPEED FREAK RIMFIRE - POTLUCK MATCH
DESCRIPTION:During the Colfax Speed Freak Rimfire Monthly match we will shoot 4-6 unique stages.  This match will test competitors with stages where there are between 3 and 8 targets\, on some stages your worst strings will not be dropped.  Stages will be 3-5 strings.  The true intention of this type of match is to make it easy enough for new and existing gun owners who don’t have or cannot afford a large inventory of magazines for their guns; or don’t have both a pistol and rifle in 22LR\, involved in the shooting sports.  Making events such as this centered around family\, fun\, and education is our goal here at Colfax Sportsmen’s Club.  \nThere are four (6) Divisions: Optics Pistol\, Optics Rifle\, Irons Pistol\, and Irons Rifle\, Optics Revolver and Irons Revolver.
URL:https://colfaxsportsmensclub.com/event/wisconsin-speed-freak-rimfire-potluck-match/
LOCATION:Colfax Sportsmen’s Club\, E8498 810th Ave.\, Colfax\, WI\, 54730\, United States
ORGANIZER;CN="Colfax Sportsmen's Club":MAILTO:colfaxsportsmensclub2013@gmail.com
END:VEVENT
BEGIN:VEVENT
DTSTART;TZID=America/Chicago:20261015T130000
DTEND;TZID=America/Chicago:20261015T160000
DTSTAMP:20260419T204230
CREATED:20260402T153505Z
LAST-MODIFIED:20260402T153505Z
UID:10000678-1792069200-1792080000@colfaxsportsmensclub.com
SUMMARY:OPEN FOR PUBLIC SHOOTING
DESCRIPTION:Range Open for Public Shooting from 1:00PM to 4:00PM\nFIREARMS MUST BE CASED\nEYE AND EAR PROTECTION REQUIRED\n\nTHANK YOU FOR YOUR COOPERATION!
URL:https://colfaxsportsmensclub.com/event/open-for-public-shooting-22/2026-10-15/
LOCATION:Colfax Sportsmen’s Club\, E8498 810th Ave.\, Colfax\, WI\, 54730\, United States
ORGANIZER;CN="Colfax Sportsmen's Club":MAILTO:colfaxsportsmensclub2013@gmail.com
END:VEVENT
BEGIN:VEVENT
DTSTART;TZID=America/Chicago:20261018T080000
DTEND;TZID=America/Chicago:20261018T170000
DTSTAMP:20260419T204230
CREATED:20260118T203132Z
LAST-MODIFIED:20260118T203133Z
UID:10000630-1792310400-1792342800@colfaxsportsmensclub.com
SUMMARY:COLFAX NRL22 MONTHLY COF
DESCRIPTION:Colfax Sportsmen’s Club Monthly NRL22 COF. We will shoot the 5 designated NRL22 Monthly stages with the possibility of a bonus stage or two. Registration fee and discounts can be found below. Check-in and zero range will run from 8:00am – 9:00am. Match starts at 9:00am. This match is open to the public\, there is no requirement to be a Colfax Sportsmen’s Club member to compete. Payment through Practiscore is preferred but we will also allow payment at registration for this match. Squads may be adjusted the day of the match to even them out and or split to save time.
URL:https://colfaxsportsmensclub.com/event/colfax-nrl22-monthly-cof-10/
LOCATION:Colfax Sportsmen’s Club\, E8498 810th Ave.\, Colfax\, WI\, 54730\, United States
ORGANIZER;CN="Colfax Sportsmen's Club":MAILTO:colfaxsportsmensclub2013@gmail.com
END:VEVENT
END:VCALENDAR