BEGIN:VCALENDAR
VERSION:2.0
PRODID:-//Colfax Sportsmens Club, Inc - ECPv6.15.20//NONSGML v1.0//EN
CALSCALE:GREGORIAN
METHOD:PUBLISH
X-WR-CALNAME:Colfax Sportsmens Club, Inc
X-ORIGINAL-URL:https://colfaxsportsmensclub.com
X-WR-CALDESC:Events for Colfax Sportsmens Club, Inc
REFRESH-INTERVAL;VALUE=DURATION:PT1H
X-Robots-Tag:noindex
X-PUBLISHED-TTL:PT1H
BEGIN:VTIMEZONE
TZID:America/Chicago
BEGIN:DAYLIGHT
TZOFFSETFROM:-0600
TZOFFSETTO:-0500
TZNAME:CDT
DTSTART:20230312T080000
END:DAYLIGHT
BEGIN:STANDARD
TZOFFSETFROM:-0500
TZOFFSETTO:-0600
TZNAME:CST
DTSTART:20231105T070000
END:STANDARD
BEGIN:DAYLIGHT
TZOFFSETFROM:-0600
TZOFFSETTO:-0500
TZNAME:CDT
DTSTART:20240310T080000
END:DAYLIGHT
BEGIN:STANDARD
TZOFFSETFROM:-0500
TZOFFSETTO:-0600
TZNAME:CST
DTSTART:20241103T070000
END:STANDARD
BEGIN:DAYLIGHT
TZOFFSETFROM:-0600
TZOFFSETTO:-0500
TZNAME:CDT
DTSTART:20250309T080000
END:DAYLIGHT
BEGIN:STANDARD
TZOFFSETFROM:-0500
TZOFFSETTO:-0600
TZNAME:CST
DTSTART:20251102T070000
END:STANDARD
END:VTIMEZONE
BEGIN:VEVENT
DTSTART;TZID=America/Chicago:20240428T130000
DTEND;TZID=America/Chicago:20240428T153000
DTSTAMP:20260421T174700
CREATED:20231231T174610Z
LAST-MODIFIED:20231231T174610Z
UID:10000144-1714309200-1714318200@colfaxsportsmensclub.com
SUMMARY:SASP TEAM PRACTICE
DESCRIPTION:Live Fire practice with Coaches.
URL:https://colfaxsportsmensclub.com/event/sasp-team-practice/2024-04-28/
LOCATION:Colfax Sportsmen’s Club\, E8498 810th Ave.\, Colfax\, WI\, 54730\, United States
ORGANIZER;CN="Colfax Sportsmen's Club":MAILTO:colfaxsportsmensclub2013@gmail.com
END:VEVENT
BEGIN:VEVENT
DTSTART;TZID=America/Chicago:20240428T153000
DTEND;TZID=America/Chicago:20240428T170000
DTSTAMP:20260421T174700
CREATED:20240314T205102Z
LAST-MODIFIED:20240314T205102Z
UID:10000223-1714318200-1714323600@colfaxsportsmensclub.com
SUMMARY:SCTP TEAM PRACTICE
DESCRIPTION:Live Fire practice with Coaches.
URL:https://colfaxsportsmensclub.com/event/sctp-team-practice/2024-04-28/
LOCATION:Colfax Sportsmen’s Club\, E8498 810th Ave.\, Colfax\, WI\, 54730\, United States
ORGANIZER;CN="Colfax Sportsmen's Club":MAILTO:colfaxsportsmensclub2013@gmail.com
END:VEVENT
BEGIN:VEVENT
DTSTART;TZID=America/Chicago:20240429T170000
DTEND;TZID=America/Chicago:20240429T220000
DTSTAMP:20260421T174700
CREATED:20240226T002949Z
LAST-MODIFIED:20240226T002949Z
UID:10000190-1714410000-1714428000@colfaxsportsmensclub.com
SUMMARY:OPEN TRAP
DESCRIPTION:We shoot open trap at this time; we will run standard and the crew running it will throw a few wobbler rounds in per night. We do not have any leagues; we just shoot for fun! \nThe cost is $5.00 per round of 25\,\nWE ALSO SHOOT DOUBLES\, THE COST: IS $10.00 PER ROUND OF 50. \nWe will base the hours off the sunset.
URL:https://colfaxsportsmensclub.com/event/open-trap/2024-04-29/
LOCATION:Colfax Sportsmen’s Club\, E8498 810th Ave.\, Colfax\, WI\, 54730\, United States
ORGANIZER;CN="Colfax Sportsmen's Club":MAILTO:colfaxsportsmensclub2013@gmail.com
END:VEVENT
BEGIN:VEVENT
DTSTART;TZID=America/Chicago:20240501T190000
DTEND;TZID=America/Chicago:20240501T210000
DTSTAMP:20260421T174700
CREATED:20231216T172114Z
LAST-MODIFIED:20231216T172114Z
UID:10000032-1714590000-1714597200@colfaxsportsmensclub.com
SUMMARY:MONTHLY CLUB MEETING
DESCRIPTION:Monthly Meetings at the Clubhouse Shooting Range start at 7:00 PM SHARP!  Membership is $40.00 per family per year.  You are welcome to come and visit a meeting to see what we are all about before you decide to join if you wish.  Goodies after the meeting too.
URL:https://colfaxsportsmensclub.com/event/monthly-club-meeting-2/2024-05-01/
LOCATION:Colfax Sportsmen’s Club\, E8498 810th Ave.\, Colfax\, WI\, 54730\, United States
ORGANIZER;CN="Colfax Sportsmen's Club":MAILTO:colfaxsportsmensclub2013@gmail.com
END:VEVENT
BEGIN:VEVENT
DTSTART;TZID=America/Chicago:20240502T130000
DTEND;TZID=America/Chicago:20240502T160000
DTSTAMP:20260421T174700
CREATED:20231216T171150Z
LAST-MODIFIED:20231216T171150Z
UID:10000024-1714654800-1714665600@colfaxsportsmensclub.com
SUMMARY:OPEN FOR PUBLIC SHOOTING
DESCRIPTION:Range Open for Public Shooting from 1:00 PM to 4:00 PM \nFIREARMS MUST BE CASED\nEYE AND EAR PROTECTION REQUIRED\n\nTHANK YOU FOR YOUR COOPERATION!
URL:https://colfaxsportsmensclub.com/event/open-for-public-shooting-3/2024-05-02/
LOCATION:Colfax Sportsmen’s Club\, E8498 810th Ave.\, Colfax\, WI\, 54730\, United States
ORGANIZER;CN="Colfax Sportsmen's Club":MAILTO:colfaxsportsmensclub2013@gmail.com
END:VEVENT
BEGIN:VEVENT
DTSTART;TZID=America/Chicago:20240502T173000
DTEND;TZID=America/Chicago:20240502T203000
DTSTAMP:20260421T174700
CREATED:20231216T202520Z
LAST-MODIFIED:20231216T202520Z
UID:10000053-1714671000-1714681800@colfaxsportsmensclub.com
SUMMARY:WEEKLY STEEL CHALLENGE MATCH
DESCRIPTION:Weekly Colfax Steel Challenge\, Registration is preferred through Practiscore.com if possible\, Walk-in’s welcome.  Check-in and squadding will begin at 5:30PM and shooting will start as close to 6:00PM as possible.  Weekly matches\, we will shoot 4 stages.  On some of the early months we may need to back down to 3 stages to fit them in.\nPlease follow our Facebook page in case there is a match cancelation due to weather. \nhttps://www.facebook.com/ColfaxSpeedShooting/ \n 
URL:https://colfaxsportsmensclub.com/event/weekly-steel-challenge-match/2024-05-02/
LOCATION:Colfax Sportsmen’s Club\, E8498 810th Ave.\, Colfax\, WI\, 54730\, United States
ORGANIZER;CN="Colfax Sportsmen's Club":MAILTO:colfaxsportsmensclub2013@gmail.com
END:VEVENT
BEGIN:VEVENT
DTSTART;VALUE=DATE:20240503
DTEND;VALUE=DATE:20240504
DTSTAMP:20260421T174700
CREATED:20231216T173136Z
LAST-MODIFIED:20231216T173136Z
UID:10000040-1714723200-1714755600@colfaxsportsmensclub.com
SUMMARY:RANGE CLOSED FOR EVENT SET-UP
DESCRIPTION:Main Range and Competition Bays Closed for Match Set-up
URL:https://colfaxsportsmensclub.com/event/range-closed-for-event-set-up/2024-05-03/
LOCATION:Colfax Sportsmen’s Club\, E8498 810th Ave.\, Colfax\, WI\, 54730\, United States
ORGANIZER;CN="Colfax Sportsmen's Club":MAILTO:colfaxsportsmensclub2013@gmail.com
END:VEVENT
BEGIN:VEVENT
DTSTART;TZID=America/Chicago:20240504T070000
DTEND;TZID=America/Chicago:20240504T160000
DTSTAMP:20260421T174700
CREATED:20231224T155037Z
LAST-MODIFIED:20240226T000514Z
UID:10000091-1714806000-1714838400@colfaxsportsmensclub.com
SUMMARY:COLFAX MAY - MONTHLY 3 GUN MATCH
DESCRIPTION:Matches will typically consist of 3 (or more in 2024!) stages\, varying each match. Competitor check-in will commence in the clubhouse at 7:00 AM\, with the shooter’s meeting to begin at 8:00 AM and shots down range shortly after. Please be ready to squad up and begin shooting right after the meeting!! We also have concessions on site and will plan for a lunch break midday.
URL:https://colfaxsportsmensclub.com/event/colfax-may-monthly-3-gun-match/
LOCATION:Colfax Sportsmen’s Club\, E8498 810th Ave.\, Colfax\, WI\, 54730\, United States
ORGANIZER;CN="Colfax Sportsmen's Club":MAILTO:colfaxsportsmensclub2013@gmail.com
END:VEVENT
BEGIN:VEVENT
DTSTART;TZID=America/Chicago:20240505T130000
DTEND;TZID=America/Chicago:20240505T153000
DTSTAMP:20260421T174700
CREATED:20231231T174610Z
LAST-MODIFIED:20231231T174610Z
UID:10000145-1714914000-1714923000@colfaxsportsmensclub.com
SUMMARY:SASP TEAM PRACTICE
DESCRIPTION:Live Fire practice with Coaches.
URL:https://colfaxsportsmensclub.com/event/sasp-team-practice/2024-05-05/
LOCATION:Colfax Sportsmen’s Club\, E8498 810th Ave.\, Colfax\, WI\, 54730\, United States
ORGANIZER;CN="Colfax Sportsmen's Club":MAILTO:colfaxsportsmensclub2013@gmail.com
END:VEVENT
BEGIN:VEVENT
DTSTART;TZID=America/Chicago:20240505T153000
DTEND;TZID=America/Chicago:20240505T170000
DTSTAMP:20260421T174700
CREATED:20240314T205102Z
LAST-MODIFIED:20240314T205102Z
UID:10000224-1714923000-1714928400@colfaxsportsmensclub.com
SUMMARY:SCTP TEAM PRACTICE
DESCRIPTION:Live Fire practice with Coaches.
URL:https://colfaxsportsmensclub.com/event/sctp-team-practice/2024-05-05/
LOCATION:Colfax Sportsmen’s Club\, E8498 810th Ave.\, Colfax\, WI\, 54730\, United States
ORGANIZER;CN="Colfax Sportsmen's Club":MAILTO:colfaxsportsmensclub2013@gmail.com
END:VEVENT
BEGIN:VEVENT
DTSTART;TZID=America/Chicago:20240506T170000
DTEND;TZID=America/Chicago:20240506T220000
DTSTAMP:20260421T174700
CREATED:20240226T003957Z
LAST-MODIFIED:20240226T003957Z
UID:10000196-1715014800-1715032800@colfaxsportsmensclub.com
SUMMARY:OPEN TRAP
DESCRIPTION:We shoot open trap at this time; we will run standard and the crew running it will throw a few wobbler rounds in per night. We do not have any leagues; we just shoot for fun! \nThe cost is $5.00 per round of 25\,\nWE ALSO SHOOT DOUBLES\, THE COST: IS $10.00 PER ROUND OF 50.
URL:https://colfaxsportsmensclub.com/event/open-trap-2/2024-05-06/
LOCATION:Colfax Sportsmen’s Club\, E8498 810th Ave.\, Colfax\, WI\, 54730\, United States
ORGANIZER;CN="Colfax Sportsmen's Club":MAILTO:colfaxsportsmensclub2013@gmail.com
END:VEVENT
BEGIN:VEVENT
DTSTART;TZID=America/Chicago:20240509T130000
DTEND;TZID=America/Chicago:20240509T160000
DTSTAMP:20260421T174700
CREATED:20231216T171150Z
LAST-MODIFIED:20231216T171150Z
UID:10000025-1715259600-1715270400@colfaxsportsmensclub.com
SUMMARY:OPEN FOR PUBLIC SHOOTING
DESCRIPTION:Range Open for Public Shooting from 1:00 PM to 4:00 PM \nFIREARMS MUST BE CASED\nEYE AND EAR PROTECTION REQUIRED\n\nTHANK YOU FOR YOUR COOPERATION!
URL:https://colfaxsportsmensclub.com/event/open-for-public-shooting-3/2024-05-09/
LOCATION:Colfax Sportsmen’s Club\, E8498 810th Ave.\, Colfax\, WI\, 54730\, United States
ORGANIZER;CN="Colfax Sportsmen's Club":MAILTO:colfaxsportsmensclub2013@gmail.com
END:VEVENT
BEGIN:VEVENT
DTSTART;TZID=America/Chicago:20240509T173000
DTEND;TZID=America/Chicago:20240509T203000
DTSTAMP:20260421T174700
CREATED:20231216T202520Z
LAST-MODIFIED:20231216T202520Z
UID:10000054-1715275800-1715286600@colfaxsportsmensclub.com
SUMMARY:WEEKLY STEEL CHALLENGE MATCH
DESCRIPTION:Weekly Colfax Steel Challenge\, Registration is preferred through Practiscore.com if possible\, Walk-in’s welcome.  Check-in and squadding will begin at 5:30PM and shooting will start as close to 6:00PM as possible.  Weekly matches\, we will shoot 4 stages.  On some of the early months we may need to back down to 3 stages to fit them in.\nPlease follow our Facebook page in case there is a match cancelation due to weather. \nhttps://www.facebook.com/ColfaxSpeedShooting/ \n 
URL:https://colfaxsportsmensclub.com/event/weekly-steel-challenge-match/2024-05-09/
LOCATION:Colfax Sportsmen’s Club\, E8498 810th Ave.\, Colfax\, WI\, 54730\, United States
ORGANIZER;CN="Colfax Sportsmen's Club":MAILTO:colfaxsportsmensclub2013@gmail.com
END:VEVENT
BEGIN:VEVENT
DTSTART;TZID=America/Chicago:20240512T070000
DTEND;TZID=America/Chicago:20240512T130000
DTSTAMP:20260421T174700
CREATED:20240508T233710Z
LAST-MODIFIED:20240508T233710Z
UID:10000234-1715497200-1715518800@colfaxsportsmensclub.com
SUMMARY:RANGE CLOSED TO PUBLIC
DESCRIPTION:RANGE CLOSED – Coaching Field Training
URL:https://colfaxsportsmensclub.com/event/range-closed-to-public/
LOCATION:Colfax Sportsmen’s Club\, E8498 810th Ave.\, Colfax\, WI\, 54730\, United States
ORGANIZER;CN="Colfax Sportsmen's Club":MAILTO:colfaxsportsmensclub2013@gmail.com
END:VEVENT
BEGIN:VEVENT
DTSTART;TZID=America/Chicago:20240512T130000
DTEND;TZID=America/Chicago:20240512T153000
DTSTAMP:20260421T174700
CREATED:20231231T174610Z
LAST-MODIFIED:20231231T174610Z
UID:10000146-1715518800-1715527800@colfaxsportsmensclub.com
SUMMARY:SASP TEAM PRACTICE
DESCRIPTION:Live Fire practice with Coaches.
URL:https://colfaxsportsmensclub.com/event/sasp-team-practice/2024-05-12/
LOCATION:Colfax Sportsmen’s Club\, E8498 810th Ave.\, Colfax\, WI\, 54730\, United States
ORGANIZER;CN="Colfax Sportsmen's Club":MAILTO:colfaxsportsmensclub2013@gmail.com
END:VEVENT
BEGIN:VEVENT
DTSTART;TZID=America/Chicago:20240512T153000
DTEND;TZID=America/Chicago:20240512T170000
DTSTAMP:20260421T174700
CREATED:20240314T205102Z
LAST-MODIFIED:20240314T205102Z
UID:10000225-1715527800-1715533200@colfaxsportsmensclub.com
SUMMARY:SCTP TEAM PRACTICE
DESCRIPTION:Live Fire practice with Coaches.
URL:https://colfaxsportsmensclub.com/event/sctp-team-practice/2024-05-12/
LOCATION:Colfax Sportsmen’s Club\, E8498 810th Ave.\, Colfax\, WI\, 54730\, United States
ORGANIZER;CN="Colfax Sportsmen's Club":MAILTO:colfaxsportsmensclub2013@gmail.com
END:VEVENT
BEGIN:VEVENT
DTSTART;TZID=America/Chicago:20240513T170000
DTEND;TZID=America/Chicago:20240513T220000
DTSTAMP:20260421T174700
CREATED:20240226T003957Z
LAST-MODIFIED:20240226T003957Z
UID:10000197-1715619600-1715637600@colfaxsportsmensclub.com
SUMMARY:OPEN TRAP
DESCRIPTION:We shoot open trap at this time; we will run standard and the crew running it will throw a few wobbler rounds in per night. We do not have any leagues; we just shoot for fun! \nThe cost is $5.00 per round of 25\,\nWE ALSO SHOOT DOUBLES\, THE COST: IS $10.00 PER ROUND OF 50.
URL:https://colfaxsportsmensclub.com/event/open-trap-2/2024-05-13/
LOCATION:Colfax Sportsmen’s Club\, E8498 810th Ave.\, Colfax\, WI\, 54730\, United States
ORGANIZER;CN="Colfax Sportsmen's Club":MAILTO:colfaxsportsmensclub2013@gmail.com
END:VEVENT
BEGIN:VEVENT
DTSTART;TZID=America/Chicago:20240516T130000
DTEND;TZID=America/Chicago:20240516T160000
DTSTAMP:20260421T174700
CREATED:20231216T171150Z
LAST-MODIFIED:20231216T171150Z
UID:10000026-1715864400-1715875200@colfaxsportsmensclub.com
SUMMARY:OPEN FOR PUBLIC SHOOTING
DESCRIPTION:Range Open for Public Shooting from 1:00 PM to 4:00 PM \nFIREARMS MUST BE CASED\nEYE AND EAR PROTECTION REQUIRED\n\nTHANK YOU FOR YOUR COOPERATION!
URL:https://colfaxsportsmensclub.com/event/open-for-public-shooting-3/2024-05-16/
LOCATION:Colfax Sportsmen’s Club\, E8498 810th Ave.\, Colfax\, WI\, 54730\, United States
ORGANIZER;CN="Colfax Sportsmen's Club":MAILTO:colfaxsportsmensclub2013@gmail.com
END:VEVENT
BEGIN:VEVENT
DTSTART;VALUE=DATE:20240517
DTEND;VALUE=DATE:20240518
DTSTAMP:20260421T174700
CREATED:20231216T173136Z
LAST-MODIFIED:20231216T173136Z
UID:10000041-1715932800-1715965200@colfaxsportsmensclub.com
SUMMARY:RANGE CLOSED FOR EVENT SET-UP
DESCRIPTION:Main Range and Competition Bays Closed for Match Set-up
URL:https://colfaxsportsmensclub.com/event/range-closed-for-event-set-up/2024-05-17/
LOCATION:Colfax Sportsmen’s Club\, E8498 810th Ave.\, Colfax\, WI\, 54730\, United States
ORGANIZER;CN="Colfax Sportsmen's Club":MAILTO:colfaxsportsmensclub2013@gmail.com
END:VEVENT
BEGIN:VEVENT
DTSTART;TZID=America/Chicago:20240518T073000
DTEND;TZID=America/Chicago:20240518T160000
DTSTAMP:20260421T174700
CREATED:20231217T215243Z
LAST-MODIFIED:20231217T215243Z
UID:10000074-1716017400-1716048000@colfaxsportsmensclub.com
SUMMARY:COLFAX MAY - SPEED FREAK RIMFIRE MONTHLY MATCH
DESCRIPTION:During the Colfax Speed Freak Rimfire Monthly match we will shoot 8 unique stages.  This match will test competitors with stages where there are between 3 and 8 targets\, the catch is your worst strings will not be dropped.  Stages will be 3 strings.  The true intention of this type of match is to make it easy enough for new and existing gun owners who don’t have or cannot afford a large inventory of magazines for their guns; or don’t have both a pistol and rifle in 22LR\, involved in the shooting sports.  Making events such as this centered around family\, fun\, and education is our goal here at Colfax Sportsmen’s Club.  \nThere are four (4) Divisions: Optics Pistol\, Optics Rifle\, Irons Pistol\, and Irons Rifle.
URL:https://colfaxsportsmensclub.com/event/colfax-may-speed-freak-rimfire-monthly-match/
LOCATION:Colfax Sportsmen’s Club\, E8498 810th Ave.\, Colfax\, WI\, 54730\, United States
ORGANIZER;CN="Colfax Sportsmen's Club":MAILTO:colfaxsportsmensclub2013@gmail.com
END:VEVENT
BEGIN:VEVENT
DTSTART;TZID=America/Chicago:20240519T080000
DTEND;TZID=America/Chicago:20240519T160000
DTSTAMP:20260421T174700
CREATED:20231231T163821Z
LAST-MODIFIED:20231231T181229Z
UID:10000100-1716105600-1716134400@colfaxsportsmensclub.com
SUMMARY:COLFAX MAY NRL22 COF
DESCRIPTION:Colfax Sportsmen’s Club Monthly NRL22 COF. We will shoot the 5 designated NRL22 Monthly stages with the possibility of a bonus stage or two. Registration fee and discounts can be found below. Check-in and zero range will run from 8:00am – 9:00am. Match starts at 9:00am. This match is open to the public\, there is no requirement to be a Colfax Sportsmen’s Club member to compete. Payment through Practiscore is preferred but we will also allow payment at registration for this match. Squads may be adjusted the day of the match to even them out and or split to save time.
URL:https://colfaxsportsmensclub.com/event/colfax-may-nrl22-cof/
LOCATION:Colfax Sportsmen’s Club\, E8498 810th Ave.\, Colfax\, WI\, 54730\, United States
ORGANIZER;CN="Colfax Sportsmen's Club":MAILTO:colfaxsportsmensclub2013@gmail.com
END:VEVENT
BEGIN:VEVENT
DTSTART;TZID=America/Chicago:20240519T130000
DTEND;TZID=America/Chicago:20240519T153000
DTSTAMP:20260421T174700
CREATED:20231231T174610Z
LAST-MODIFIED:20231231T174610Z
UID:10000147-1716123600-1716132600@colfaxsportsmensclub.com
SUMMARY:SASP TEAM PRACTICE
DESCRIPTION:Live Fire practice with Coaches.
URL:https://colfaxsportsmensclub.com/event/sasp-team-practice/2024-05-19/
LOCATION:Colfax Sportsmen’s Club\, E8498 810th Ave.\, Colfax\, WI\, 54730\, United States
ORGANIZER;CN="Colfax Sportsmen's Club":MAILTO:colfaxsportsmensclub2013@gmail.com
END:VEVENT
BEGIN:VEVENT
DTSTART;TZID=America/Chicago:20240519T153000
DTEND;TZID=America/Chicago:20240519T170000
DTSTAMP:20260421T174700
CREATED:20240314T205102Z
LAST-MODIFIED:20240314T205102Z
UID:10000226-1716132600-1716138000@colfaxsportsmensclub.com
SUMMARY:SCTP TEAM PRACTICE
DESCRIPTION:Live Fire practice with Coaches.
URL:https://colfaxsportsmensclub.com/event/sctp-team-practice/2024-05-19/
LOCATION:Colfax Sportsmen’s Club\, E8498 810th Ave.\, Colfax\, WI\, 54730\, United States
ORGANIZER;CN="Colfax Sportsmen's Club":MAILTO:colfaxsportsmensclub2013@gmail.com
END:VEVENT
BEGIN:VEVENT
DTSTART;TZID=America/Chicago:20240520T170000
DTEND;TZID=America/Chicago:20240520T220000
DTSTAMP:20260421T174700
CREATED:20240226T003957Z
LAST-MODIFIED:20240226T003957Z
UID:10000198-1716224400-1716242400@colfaxsportsmensclub.com
SUMMARY:OPEN TRAP
DESCRIPTION:We shoot open trap at this time; we will run standard and the crew running it will throw a few wobbler rounds in per night. We do not have any leagues; we just shoot for fun! \nThe cost is $5.00 per round of 25\,\nWE ALSO SHOOT DOUBLES\, THE COST: IS $10.00 PER ROUND OF 50.
URL:https://colfaxsportsmensclub.com/event/open-trap-2/2024-05-20/
LOCATION:Colfax Sportsmen’s Club\, E8498 810th Ave.\, Colfax\, WI\, 54730\, United States
ORGANIZER;CN="Colfax Sportsmen's Club":MAILTO:colfaxsportsmensclub2013@gmail.com
END:VEVENT
BEGIN:VEVENT
DTSTART;TZID=America/Chicago:20240523T130000
DTEND;TZID=America/Chicago:20240523T160000
DTSTAMP:20260421T174700
CREATED:20231216T171150Z
LAST-MODIFIED:20231216T171150Z
UID:10000027-1716469200-1716480000@colfaxsportsmensclub.com
SUMMARY:OPEN FOR PUBLIC SHOOTING
DESCRIPTION:Range Open for Public Shooting from 1:00 PM to 4:00 PM \nFIREARMS MUST BE CASED\nEYE AND EAR PROTECTION REQUIRED\n\nTHANK YOU FOR YOUR COOPERATION!
URL:https://colfaxsportsmensclub.com/event/open-for-public-shooting-3/2024-05-23/
LOCATION:Colfax Sportsmen’s Club\, E8498 810th Ave.\, Colfax\, WI\, 54730\, United States
ORGANIZER;CN="Colfax Sportsmen's Club":MAILTO:colfaxsportsmensclub2013@gmail.com
END:VEVENT
BEGIN:VEVENT
DTSTART;TZID=America/Chicago:20240525T073000
DTEND;TZID=America/Chicago:20240525T160000
DTSTAMP:20260421T174700
CREATED:20231224T151606Z
LAST-MODIFIED:20240101T221122Z
UID:10000086-1716622200-1716652800@colfaxsportsmensclub.com
SUMMARY:COLFAX MAY - STEEL CHALLENGE MONTHLY
DESCRIPTION:Colfax Sportsmen’s Club provides sanctioned SCSA matches throughout the spring\, summer\, and fall.  A weekend match will include six of the SCSA stages and Thursday matches will provide four of the SCSA stages for participants to enjoy.  We encourage any and all participants\, be it existing firearm owners or new firearm owners\, to come out and give Steel Challenge a try!
URL:https://colfaxsportsmensclub.com/event/colfax-may-steel-challenge-monthly/
LOCATION:Colfax Sportsmen’s Club\, E8498 810th Ave.\, Colfax\, WI\, 54730\, United States
ORGANIZER;CN="Colfax Sportsmen's Club":MAILTO:colfaxsportsmensclub2013@gmail.com
END:VEVENT
BEGIN:VEVENT
DTSTART;TZID=America/Chicago:20240526T130000
DTEND;TZID=America/Chicago:20240526T153000
DTSTAMP:20260421T174700
CREATED:20231231T174610Z
LAST-MODIFIED:20231231T174610Z
UID:10000148-1716728400-1716737400@colfaxsportsmensclub.com
SUMMARY:SASP TEAM PRACTICE
DESCRIPTION:Live Fire practice with Coaches.
URL:https://colfaxsportsmensclub.com/event/sasp-team-practice/2024-05-26/
LOCATION:Colfax Sportsmen’s Club\, E8498 810th Ave.\, Colfax\, WI\, 54730\, United States
ORGANIZER;CN="Colfax Sportsmen's Club":MAILTO:colfaxsportsmensclub2013@gmail.com
END:VEVENT
BEGIN:VEVENT
DTSTART;TZID=America/Chicago:20240526T153000
DTEND;TZID=America/Chicago:20240526T170000
DTSTAMP:20260421T174700
CREATED:20240314T205102Z
LAST-MODIFIED:20240314T205102Z
UID:10000227-1716737400-1716742800@colfaxsportsmensclub.com
SUMMARY:SCTP TEAM PRACTICE
DESCRIPTION:Live Fire practice with Coaches.
URL:https://colfaxsportsmensclub.com/event/sctp-team-practice/2024-05-26/
LOCATION:Colfax Sportsmen’s Club\, E8498 810th Ave.\, Colfax\, WI\, 54730\, United States
ORGANIZER;CN="Colfax Sportsmen's Club":MAILTO:colfaxsportsmensclub2013@gmail.com
END:VEVENT
BEGIN:VEVENT
DTSTART;TZID=America/Chicago:20240527T140000
DTEND;TZID=America/Chicago:20240527T170000
DTSTAMP:20260421T174700
CREATED:20240521T232851Z
LAST-MODIFIED:20240522T000421Z
UID:10000235-1716818400-1716829200@colfaxsportsmensclub.com
SUMMARY:DUCK FLURRY
DESCRIPTION:This will be a 2-person Team event which will include a 50 bird Furry that is thrown for each Team.  The Team with the highest score at the end of the day will receive a trophy. \nThis event is open to anyone\, you just need a 2 person Team.
URL:https://colfaxsportsmensclub.com/event/duck-flurry/
LOCATION:Colfax Sportsmen’s Club\, E8498 810th Ave.\, Colfax\, WI\, 54730\, United States
END:VEVENT
BEGIN:VEVENT
DTSTART;TZID=America/Chicago:20240527T170000
DTEND;TZID=America/Chicago:20240527T220000
DTSTAMP:20260421T174700
CREATED:20240226T003957Z
LAST-MODIFIED:20240226T003957Z
UID:10000199-1716829200-1716847200@colfaxsportsmensclub.com
SUMMARY:OPEN TRAP
DESCRIPTION:We shoot open trap at this time; we will run standard and the crew running it will throw a few wobbler rounds in per night. We do not have any leagues; we just shoot for fun! \nThe cost is $5.00 per round of 25\,\nWE ALSO SHOOT DOUBLES\, THE COST: IS $10.00 PER ROUND OF 50.
URL:https://colfaxsportsmensclub.com/event/open-trap-2/2024-05-27/
LOCATION:Colfax Sportsmen’s Club\, E8498 810th Ave.\, Colfax\, WI\, 54730\, United States
ORGANIZER;CN="Colfax Sportsmen's Club":MAILTO:colfaxsportsmensclub2013@gmail.com
END:VEVENT
END:VCALENDAR