BEGIN:VCALENDAR
VERSION:2.0
PRODID:-//Colfax Sportsmens Club, Inc - ECPv6.15.20//NONSGML v1.0//EN
CALSCALE:GREGORIAN
METHOD:PUBLISH
X-ORIGINAL-URL:https://colfaxsportsmensclub.com
X-WR-CALDESC:Events for Colfax Sportsmens Club, Inc
REFRESH-INTERVAL;VALUE=DURATION:PT1H
X-Robots-Tag:noindex
X-PUBLISHED-TTL:PT1H
BEGIN:VTIMEZONE
TZID:America/Chicago
BEGIN:DAYLIGHT
TZOFFSETFROM:-0600
TZOFFSETTO:-0500
TZNAME:CDT
DTSTART:20250309T080000
END:DAYLIGHT
BEGIN:STANDARD
TZOFFSETFROM:-0500
TZOFFSETTO:-0600
TZNAME:CST
DTSTART:20251102T070000
END:STANDARD
BEGIN:DAYLIGHT
TZOFFSETFROM:-0600
TZOFFSETTO:-0500
TZNAME:CDT
DTSTART:20260308T080000
END:DAYLIGHT
BEGIN:STANDARD
TZOFFSETFROM:-0500
TZOFFSETTO:-0600
TZNAME:CST
DTSTART:20261101T070000
END:STANDARD
BEGIN:DAYLIGHT
TZOFFSETFROM:-0600
TZOFFSETTO:-0500
TZNAME:CDT
DTSTART:20270314T080000
END:DAYLIGHT
BEGIN:STANDARD
TZOFFSETFROM:-0500
TZOFFSETTO:-0600
TZNAME:CST
DTSTART:20271107T070000
END:STANDARD
END:VTIMEZONE
BEGIN:VEVENT
DTSTART;TZID=America/Chicago:20260705T080000
DTEND;TZID=America/Chicago:20260705T170000
DTSTAMP:20260419T185226
CREATED:20260221T224602Z
LAST-MODIFIED:20260221T224604Z
UID:10000640-1783238400-1783270800@colfaxsportsmensclub.com
SUMMARY:COLFAX PCSL PISTOL MONTHLY MATCH
DESCRIPTION:PCSL K-Zone brown targets\, 10/5/3/1 scoring points for K/A/C/D zone hits for all divisions with blue steel targets\, red no shoot targets and black hard cover targets \nThis match is open to the public\, there is no requirement to be a Colfax Sportsmen’s Club member or a PCSL member to compete. Payment can be made through Practiscore or at check-in. Squadding can be done individually through Practiscore and will be adjusted on match day for the most efficient match flow. \nFor Current Divisions and Rules\, visit https://www.pcsleague.us
URL:https://colfaxsportsmensclub.com/event/colfax-pcsl-monthly-match-5/
LOCATION:Colfax Sportsmen’s Club\, E8498 810th Ave.\, Colfax\, WI\, 54730\, United States
ORGANIZER;CN="Colfax Sportsmen's Club":MAILTO:colfaxsportsmensclub2013@gmail.com
END:VEVENT
BEGIN:VEVENT
DTSTART;TZID=America/Chicago:20260706T160000
DTEND;TZID=America/Chicago:20260706T210000
DTSTAMP:20260419T185226
CREATED:20260104T152327Z
LAST-MODIFIED:20260104T152327Z
UID:10000589-1783353600-1783371600@colfaxsportsmensclub.com
SUMMARY:OPEN TRAP
DESCRIPTION:We shoot Open Trap at this time; we will run standard and the crew running it will throw a few Wobbler rounds in per night. We do not have any leagues; we just shoot for fun! \nThe cost is $6.00 per round of 25\,\nWE ALSO SHOOT DOUBLES\, THE COST: IS $12.00 PER ROUND OF 50. \nWe will base the hours off the sunset.
URL:https://colfaxsportsmensclub.com/event/open-trap-5/2026-07-06/
LOCATION:Colfax Sportsmen’s Club\, E8498 810th Ave.\, Colfax\, WI\, 54730\, United States
ORGANIZER;CN="Colfax Sportsmen's Club":MAILTO:colfaxsportsmensclub2013@gmail.com
END:VEVENT
BEGIN:VEVENT
DTSTART;TZID=America/Chicago:20260709T130000
DTEND;TZID=America/Chicago:20260709T160000
DTSTAMP:20260419T185226
CREATED:20260402T153505Z
LAST-MODIFIED:20260402T153505Z
UID:10000666-1783602000-1783612800@colfaxsportsmensclub.com
SUMMARY:OPEN FOR PUBLIC SHOOTING
DESCRIPTION:Range Open for Public Shooting from 1:00PM to 4:00PM\nFIREARMS MUST BE CASED\nEYE AND EAR PROTECTION REQUIRED\n\nTHANK YOU FOR YOUR COOPERATION!
URL:https://colfaxsportsmensclub.com/event/open-for-public-shooting-22/2026-07-09/
LOCATION:Colfax Sportsmen’s Club\, E8498 810th Ave.\, Colfax\, WI\, 54730\, United States
ORGANIZER;CN="Colfax Sportsmen's Club":MAILTO:colfaxsportsmensclub2013@gmail.com
END:VEVENT
BEGIN:VEVENT
DTSTART;TZID=America/Chicago:20260710T120000
DTEND;TZID=America/Chicago:20260710T170000
DTSTAMP:20260419T185226
CREATED:20260105T024526Z
LAST-MODIFIED:20260105T024526Z
UID:10000613-1783684800-1783702800@colfaxsportsmensclub.com
SUMMARY:RANGE CLOSED FOR MATCH SET-UP
DESCRIPTION:RANGE CLOSED NOON TO SUNSET
URL:https://colfaxsportsmensclub.com/event/range-closed-for-match-set-up/2026-07-10/
LOCATION:Colfax Sportsmen’s Club\, E8498 810th Ave.\, Colfax\, WI\, 54730\, United States
ORGANIZER;CN="Colfax Sportsmen's Club":MAILTO:colfaxsportsmensclub2013@gmail.com
END:VEVENT
BEGIN:VEVENT
DTSTART;TZID=America/Chicago:20260711T080000
DTEND;TZID=America/Chicago:20260711T170000
DTSTAMP:20260419T185226
CREATED:20260105T023541Z
LAST-MODIFIED:20260105T023541Z
UID:10000610-1783756800-1783789200@colfaxsportsmensclub.com
SUMMARY:BOWLING PIN SHOOT
DESCRIPTION:Registration is 8:00 AM – 9:00 AM\, matches start at 9:30 AM\, rain or shine\, bathroom\, and concessions on site. Dress appropriately for the weather. All are welcome to join in. There is no requirement to be a club member to participate.
URL:https://colfaxsportsmensclub.com/event/bowling-pin-shoot-5/2026-07-11/
LOCATION:Colfax Sportsmen’s Club\, E8498 810th Ave.\, Colfax\, WI\, 54730\, United States
ORGANIZER;CN="Colfax Sportsmen's Club":MAILTO:colfaxsportsmensclub2013@gmail.com
END:VEVENT
BEGIN:VEVENT
DTSTART;TZID=America/Chicago:20260712T080000
DTEND;TZID=America/Chicago:20260712T170000
DTSTAMP:20260419T185226
CREATED:20260118T202645Z
LAST-MODIFIED:20260118T202646Z
UID:10000627-1783843200-1783875600@colfaxsportsmensclub.com
SUMMARY:COLFAX NRL22 MONTHLY COF
DESCRIPTION:Colfax Sportsmen’s Club Monthly NRL22 COF. We will shoot the 5 designated NRL22 Monthly stages with the possibility of a bonus stage or two. Registration fee and discounts can be found below. Check-in and zero range will run from 8:00am – 9:00am. Match starts at 9:00am. This match is open to the public\, there is no requirement to be a Colfax Sportsmen’s Club member to compete. Payment through Practiscore is preferred but we will also allow payment at registration for this match. Squads may be adjusted the day of the match to even them out and or split to save time.
URL:https://colfaxsportsmensclub.com/event/colfax-nrl22-monthly-cof-7/
LOCATION:Colfax Sportsmen’s Club\, E8498 810th Ave.\, Colfax\, WI\, 54730\, United States
ORGANIZER;CN="Colfax Sportsmen's Club":MAILTO:colfaxsportsmensclub2013@gmail.com
END:VEVENT
BEGIN:VEVENT
DTSTART;TZID=America/Chicago:20260713T160000
DTEND;TZID=America/Chicago:20260713T210000
DTSTAMP:20260419T185226
CREATED:20260104T152327Z
LAST-MODIFIED:20260104T152327Z
UID:10000590-1783958400-1783976400@colfaxsportsmensclub.com
SUMMARY:OPEN TRAP
DESCRIPTION:We shoot Open Trap at this time; we will run standard and the crew running it will throw a few Wobbler rounds in per night. We do not have any leagues; we just shoot for fun! \nThe cost is $6.00 per round of 25\,\nWE ALSO SHOOT DOUBLES\, THE COST: IS $12.00 PER ROUND OF 50. \nWe will base the hours off the sunset.
URL:https://colfaxsportsmensclub.com/event/open-trap-5/2026-07-13/
LOCATION:Colfax Sportsmen’s Club\, E8498 810th Ave.\, Colfax\, WI\, 54730\, United States
ORGANIZER;CN="Colfax Sportsmen's Club":MAILTO:colfaxsportsmensclub2013@gmail.com
END:VEVENT
BEGIN:VEVENT
DTSTART;TZID=America/Chicago:20260716T130000
DTEND;TZID=America/Chicago:20260716T160000
DTSTAMP:20260419T185226
CREATED:20260402T153505Z
LAST-MODIFIED:20260402T153505Z
UID:10000667-1784206800-1784217600@colfaxsportsmensclub.com
SUMMARY:OPEN FOR PUBLIC SHOOTING
DESCRIPTION:Range Open for Public Shooting from 1:00PM to 4:00PM\nFIREARMS MUST BE CASED\nEYE AND EAR PROTECTION REQUIRED\n\nTHANK YOU FOR YOUR COOPERATION!
URL:https://colfaxsportsmensclub.com/event/open-for-public-shooting-22/2026-07-16/
LOCATION:Colfax Sportsmen’s Club\, E8498 810th Ave.\, Colfax\, WI\, 54730\, United States
ORGANIZER;CN="Colfax Sportsmen's Club":MAILTO:colfaxsportsmensclub2013@gmail.com
END:VEVENT
BEGIN:VEVENT
DTSTART;TZID=America/Chicago:20260720T160000
DTEND;TZID=America/Chicago:20260720T210000
DTSTAMP:20260419T185226
CREATED:20260104T152327Z
LAST-MODIFIED:20260104T152327Z
UID:10000591-1784563200-1784581200@colfaxsportsmensclub.com
SUMMARY:OPEN TRAP
DESCRIPTION:We shoot Open Trap at this time; we will run standard and the crew running it will throw a few Wobbler rounds in per night. We do not have any leagues; we just shoot for fun! \nThe cost is $6.00 per round of 25\,\nWE ALSO SHOOT DOUBLES\, THE COST: IS $12.00 PER ROUND OF 50. \nWe will base the hours off the sunset.
URL:https://colfaxsportsmensclub.com/event/open-trap-5/2026-07-20/
LOCATION:Colfax Sportsmen’s Club\, E8498 810th Ave.\, Colfax\, WI\, 54730\, United States
ORGANIZER;CN="Colfax Sportsmen's Club":MAILTO:colfaxsportsmensclub2013@gmail.com
END:VEVENT
BEGIN:VEVENT
DTSTART;TZID=America/Chicago:20260723T130000
DTEND;TZID=America/Chicago:20260723T160000
DTSTAMP:20260419T185226
CREATED:20260402T153505Z
LAST-MODIFIED:20260402T153505Z
UID:10000668-1784811600-1784822400@colfaxsportsmensclub.com
SUMMARY:OPEN FOR PUBLIC SHOOTING
DESCRIPTION:Range Open for Public Shooting from 1:00PM to 4:00PM\nFIREARMS MUST BE CASED\nEYE AND EAR PROTECTION REQUIRED\n\nTHANK YOU FOR YOUR COOPERATION!
URL:https://colfaxsportsmensclub.com/event/open-for-public-shooting-22/2026-07-23/
LOCATION:Colfax Sportsmen’s Club\, E8498 810th Ave.\, Colfax\, WI\, 54730\, United States
ORGANIZER;CN="Colfax Sportsmen's Club":MAILTO:colfaxsportsmensclub2013@gmail.com
END:VEVENT
BEGIN:VEVENT
DTSTART;TZID=America/Chicago:20260725T120000
DTEND;TZID=America/Chicago:20260725T170000
DTSTAMP:20260419T185226
CREATED:20260104T154721Z
LAST-MODIFIED:20260104T154721Z
UID:10000608-1784980800-1784998800@colfaxsportsmensclub.com
SUMMARY:TOP GUN TRAP SHOOT
DESCRIPTION:This event will test Trap shooters with a variety of distances and disciplines intended to get people out of their comfort zones.  There will be prizes awarded to the Top 2 Shooters! \nThe event is open to anyone. \nFood and drink will be available in the Clubhouse.
URL:https://colfaxsportsmensclub.com/event/top-gun-trap-shoot-2/
LOCATION:Colfax Sportsmen’s Club\, E8498 810th Ave.\, Colfax\, WI\, 54730\, United States
ORGANIZER;CN="Colfax Sportsmen's Club":MAILTO:colfaxsportsmensclub2013@gmail.com
END:VEVENT
BEGIN:VEVENT
DTSTART;TZID=America/Chicago:20260727T160000
DTEND;TZID=America/Chicago:20260727T210000
DTSTAMP:20260419T185226
CREATED:20260104T152327Z
LAST-MODIFIED:20260104T152327Z
UID:10000592-1785168000-1785186000@colfaxsportsmensclub.com
SUMMARY:OPEN TRAP
DESCRIPTION:We shoot Open Trap at this time; we will run standard and the crew running it will throw a few Wobbler rounds in per night. We do not have any leagues; we just shoot for fun! \nThe cost is $6.00 per round of 25\,\nWE ALSO SHOOT DOUBLES\, THE COST: IS $12.00 PER ROUND OF 50. \nWe will base the hours off the sunset.
URL:https://colfaxsportsmensclub.com/event/open-trap-5/2026-07-27/
LOCATION:Colfax Sportsmen’s Club\, E8498 810th Ave.\, Colfax\, WI\, 54730\, United States
ORGANIZER;CN="Colfax Sportsmen's Club":MAILTO:colfaxsportsmensclub2013@gmail.com
END:VEVENT
BEGIN:VEVENT
DTSTART;TZID=America/Chicago:20260731T063000
DTEND;TZID=America/Chicago:20260801T180000
DTSTAMP:20260419T185226
CREATED:20260105T030533Z
LAST-MODIFIED:20260118T203847Z
UID:10000620-1785479400-1785607200@colfaxsportsmensclub.com
SUMMARY:2026 WISCONSIN SPEED FREAK RIMFIRE MATCH
DESCRIPTION:The 2026 Wisconsin Speed Freak Rimfire Match will be a two flight (Friday & Saturday) one day – 10 stage bout. This match will test competitors with stages that have anywhere from 3 to 8 targets\, on certain stages your worst strings will not be dropped. Stages will be 3- strings strings. The true intention of this type of match is to make it easy enough for new and existing gun owners who don’t have or cannot afford a large inventory of magazines for their guns; or don’t have both a pistol and rifle in 22LR\, involved in the shooting sports. Making events such as this centered around family\, fun\, and education is our goal here at Colfax Sportsmen’s Club. \nThere will be four (6) available Divisions: Optics Pistol\, Optics Rifle\, Irons Pistol\, Irons Rifle\, and Optics Revolver and Irons Revolver.
URL:https://colfaxsportsmensclub.com/event/2026-wisconsin-speed-freak-rimfire-match/
LOCATION:Colfax Sportsmen’s Club\, E8498 810th Ave.\, Colfax\, WI\, 54730\, United States
ORGANIZER;CN="Colfax Sportsmen's Club":MAILTO:colfaxsportsmensclub2013@gmail.com
END:VEVENT
BEGIN:VEVENT
DTSTART;TZID=America/Chicago:20260803T160000
DTEND;TZID=America/Chicago:20260803T210000
DTSTAMP:20260419T185226
CREATED:20260104T152327Z
LAST-MODIFIED:20260104T152327Z
UID:10000593-1785772800-1785790800@colfaxsportsmensclub.com
SUMMARY:OPEN TRAP
DESCRIPTION:We shoot Open Trap at this time; we will run standard and the crew running it will throw a few Wobbler rounds in per night. We do not have any leagues; we just shoot for fun! \nThe cost is $6.00 per round of 25\,\nWE ALSO SHOOT DOUBLES\, THE COST: IS $12.00 PER ROUND OF 50. \nWe will base the hours off the sunset.
URL:https://colfaxsportsmensclub.com/event/open-trap-5/2026-08-03/
LOCATION:Colfax Sportsmen’s Club\, E8498 810th Ave.\, Colfax\, WI\, 54730\, United States
ORGANIZER;CN="Colfax Sportsmen's Club":MAILTO:colfaxsportsmensclub2013@gmail.com
END:VEVENT
BEGIN:VEVENT
DTSTART;TZID=America/Chicago:20260805T190000
DTEND;TZID=America/Chicago:20260805T210000
DTSTAMP:20260419T185226
CREATED:20260104T144715Z
LAST-MODIFIED:20260104T144715Z
UID:10000571-1785956400-1785963600@colfaxsportsmensclub.com
SUMMARY:MONTHLY CLUB MEETING
DESCRIPTION:Monthly Meetings at the Clubhouse Shooting Range start at 7:00 PM SHARP!  \nMembership is $40.00 per family per year.  \nYou are welcome to come and visit a meeting to see what we are all about before you decide to join if you wish.  \nGoodies after the meeting too.
URL:https://colfaxsportsmensclub.com/event/monthly-club-meeting-4/2026-08-05/
LOCATION:Colfax Sportsmen’s Club\, E8498 810th Ave.\, Colfax\, WI\, 54730\, United States
ORGANIZER;CN="Colfax Sportsmen's Club":MAILTO:colfaxsportsmensclub2013@gmail.com
END:VEVENT
BEGIN:VEVENT
DTSTART;TZID=America/Chicago:20260806T130000
DTEND;TZID=America/Chicago:20260806T160000
DTSTAMP:20260419T185226
CREATED:20260402T153505Z
LAST-MODIFIED:20260402T153505Z
UID:10000669-1786021200-1786032000@colfaxsportsmensclub.com
SUMMARY:OPEN FOR PUBLIC SHOOTING
DESCRIPTION:Range Open for Public Shooting from 1:00PM to 4:00PM\nFIREARMS MUST BE CASED\nEYE AND EAR PROTECTION REQUIRED\n\nTHANK YOU FOR YOUR COOPERATION!
URL:https://colfaxsportsmensclub.com/event/open-for-public-shooting-22/2026-08-06/
LOCATION:Colfax Sportsmen’s Club\, E8498 810th Ave.\, Colfax\, WI\, 54730\, United States
ORGANIZER;CN="Colfax Sportsmen's Club":MAILTO:colfaxsportsmensclub2013@gmail.com
END:VEVENT
BEGIN:VEVENT
DTSTART;TZID=America/Chicago:20260810T160000
DTEND;TZID=America/Chicago:20260810T210000
DTSTAMP:20260419T185226
CREATED:20260104T152327Z
LAST-MODIFIED:20260104T152327Z
UID:10000594-1786377600-1786395600@colfaxsportsmensclub.com
SUMMARY:OPEN TRAP
DESCRIPTION:We shoot Open Trap at this time; we will run standard and the crew running it will throw a few Wobbler rounds in per night. We do not have any leagues; we just shoot for fun! \nThe cost is $6.00 per round of 25\,\nWE ALSO SHOOT DOUBLES\, THE COST: IS $12.00 PER ROUND OF 50. \nWe will base the hours off the sunset.
URL:https://colfaxsportsmensclub.com/event/open-trap-5/2026-08-10/
LOCATION:Colfax Sportsmen’s Club\, E8498 810th Ave.\, Colfax\, WI\, 54730\, United States
ORGANIZER;CN="Colfax Sportsmen's Club":MAILTO:colfaxsportsmensclub2013@gmail.com
END:VEVENT
BEGIN:VEVENT
DTSTART;TZID=America/Chicago:20260813T130000
DTEND;TZID=America/Chicago:20260813T160000
DTSTAMP:20260419T185226
CREATED:20260402T153505Z
LAST-MODIFIED:20260402T153505Z
UID:10000670-1786626000-1786636800@colfaxsportsmensclub.com
SUMMARY:OPEN FOR PUBLIC SHOOTING
DESCRIPTION:Range Open for Public Shooting from 1:00PM to 4:00PM\nFIREARMS MUST BE CASED\nEYE AND EAR PROTECTION REQUIRED\n\nTHANK YOU FOR YOUR COOPERATION!
URL:https://colfaxsportsmensclub.com/event/open-for-public-shooting-22/2026-08-13/
LOCATION:Colfax Sportsmen’s Club\, E8498 810th Ave.\, Colfax\, WI\, 54730\, United States
ORGANIZER;CN="Colfax Sportsmen's Club":MAILTO:colfaxsportsmensclub2013@gmail.com
END:VEVENT
BEGIN:VEVENT
DTSTART;TZID=America/Chicago:20260816T080000
DTEND;TZID=America/Chicago:20260816T170000
DTSTAMP:20260419T185226
CREATED:20260118T202911Z
LAST-MODIFIED:20260118T202912Z
UID:10000628-1786867200-1786899600@colfaxsportsmensclub.com
SUMMARY:COLFAX NRL22 MONTHLY COF
DESCRIPTION:Colfax Sportsmen’s Club Monthly NRL22 COF. We will shoot the 5 designated NRL22 Monthly stages with the possibility of a bonus stage or two. Registration fee and discounts can be found below. Check-in and zero range will run from 8:00am – 9:00am. Match starts at 9:00am. This match is open to the public\, there is no requirement to be a Colfax Sportsmen’s Club member to compete. Payment through Practiscore is preferred but we will also allow payment at registration for this match. Squads may be adjusted the day of the match to even them out and or split to save time.
URL:https://colfaxsportsmensclub.com/event/colfax-nrl22-monthly-cof-8/
LOCATION:Colfax Sportsmen’s Club\, E8498 810th Ave.\, Colfax\, WI\, 54730\, United States
ORGANIZER;CN="Colfax Sportsmen's Club":MAILTO:colfaxsportsmensclub2013@gmail.com
END:VEVENT
BEGIN:VEVENT
DTSTART;TZID=America/Chicago:20260816T080000
DTEND;TZID=America/Chicago:20260816T170000
DTSTAMP:20260419T185226
CREATED:20260118T203949Z
LAST-MODIFIED:20260118T203950Z
UID:10000635-1786867200-1786899600@colfaxsportsmensclub.com
SUMMARY:COLFAX STEEL CHALLENGE MONTHLY MATCH
DESCRIPTION:Colfax Sportsmen’s Club provides sanctioned SCSA matches throughout the spring\, summer\, and fall.  A weekend match will include six of the SCSA stages and Thursday matches will provide four of the SCSA stages for participants to enjoy.  We encourage any and all participants\, be it existing firearm owners or new firearm owners\, to come out and give Steel Challenge a try!
URL:https://colfaxsportsmensclub.com/event/colfax-steel-challenge-monthly-match-2/
LOCATION:Colfax Sportsmen’s Club\, E8498 810th Ave.\, Colfax\, WI\, 54730\, United States
ORGANIZER;CN="Colfax Sportsmen's Club":MAILTO:colfaxsportsmensclub2013@gmail.com
END:VEVENT
BEGIN:VEVENT
DTSTART;TZID=America/Chicago:20260817T160000
DTEND;TZID=America/Chicago:20260817T210000
DTSTAMP:20260419T185226
CREATED:20260104T152327Z
LAST-MODIFIED:20260104T152327Z
UID:10000595-1786982400-1787000400@colfaxsportsmensclub.com
SUMMARY:OPEN TRAP
DESCRIPTION:We shoot Open Trap at this time; we will run standard and the crew running it will throw a few Wobbler rounds in per night. We do not have any leagues; we just shoot for fun! \nThe cost is $6.00 per round of 25\,\nWE ALSO SHOOT DOUBLES\, THE COST: IS $12.00 PER ROUND OF 50. \nWe will base the hours off the sunset.
URL:https://colfaxsportsmensclub.com/event/open-trap-5/2026-08-17/
LOCATION:Colfax Sportsmen’s Club\, E8498 810th Ave.\, Colfax\, WI\, 54730\, United States
ORGANIZER;CN="Colfax Sportsmen's Club":MAILTO:colfaxsportsmensclub2013@gmail.com
END:VEVENT
BEGIN:VEVENT
DTSTART;TZID=America/Chicago:20260820T130000
DTEND;TZID=America/Chicago:20260820T160000
DTSTAMP:20260419T185226
CREATED:20260402T153505Z
LAST-MODIFIED:20260402T153505Z
UID:10000671-1787230800-1787241600@colfaxsportsmensclub.com
SUMMARY:OPEN FOR PUBLIC SHOOTING
DESCRIPTION:Range Open for Public Shooting from 1:00PM to 4:00PM\nFIREARMS MUST BE CASED\nEYE AND EAR PROTECTION REQUIRED\n\nTHANK YOU FOR YOUR COOPERATION!
URL:https://colfaxsportsmensclub.com/event/open-for-public-shooting-22/2026-08-20/
LOCATION:Colfax Sportsmen’s Club\, E8498 810th Ave.\, Colfax\, WI\, 54730\, United States
ORGANIZER;CN="Colfax Sportsmen's Club":MAILTO:colfaxsportsmensclub2013@gmail.com
END:VEVENT
BEGIN:VEVENT
DTSTART;TZID=America/Chicago:20260822T080000
DTEND;TZID=America/Chicago:20260822T170000
DTSTAMP:20260419T185226
CREATED:20260221T224826Z
LAST-MODIFIED:20260221T224827Z
UID:10000641-1787385600-1787418000@colfaxsportsmensclub.com
SUMMARY:COLFAX PCSL PISTOL MONTHLY MATCH
DESCRIPTION:PCSL K-Zone brown targets\, 10/5/3/1 scoring points for K/A/C/D zone hits for all divisions with blue steel targets\, red no shoot targets and black hard cover targets \nThis match is open to the public\, there is no requirement to be a Colfax Sportsmen’s Club member or a PCSL member to compete. Payment can be made through Practiscore or at check-in. Squadding can be done individually through Practiscore and will be adjusted on match day for the most efficient match flow. \nFor Current Divisions and Rules\, visit https://www.pcsleague.us
URL:https://colfaxsportsmensclub.com/event/colfax-pcsl-monthly-match-6/
LOCATION:Colfax Sportsmen’s Club\, E8498 810th Ave.\, Colfax\, WI\, 54730\, United States
ORGANIZER;CN="Colfax Sportsmen's Club":MAILTO:colfaxsportsmensclub2013@gmail.com
END:VEVENT
BEGIN:VEVENT
DTSTART;TZID=America/Chicago:20260822T120000
DTEND;TZID=America/Chicago:20260822T170000
DTSTAMP:20260419T185226
CREATED:20260221T225103Z
LAST-MODIFIED:20260221T225105Z
UID:10000605-1787400000-1787418000@colfaxsportsmensclub.com
SUMMARY:DUCK FLURRY TRAP SHOOT
DESCRIPTION:Duck Flurry Trap Shoot.  This will be a 2-person Team event which will include a 50 bird Furry that is thrown for each Team. The Team with the highest score at the end of the day will win.
URL:https://colfaxsportsmensclub.com/event/duck-flurry-trap-shoot-5-4/
LOCATION:Colfax Sportsmen’s Club\, E8498 810th Ave.\, Colfax\, WI\, 54730\, United States
ORGANIZER;CN="Colfax Sportsmen's Club":MAILTO:colfaxsportsmensclub2013@gmail.com
END:VEVENT
BEGIN:VEVENT
DTSTART;TZID=America/Chicago:20260824T160000
DTEND;TZID=America/Chicago:20260824T210000
DTSTAMP:20260419T185226
CREATED:20260104T152327Z
LAST-MODIFIED:20260104T152327Z
UID:10000596-1787587200-1787605200@colfaxsportsmensclub.com
SUMMARY:OPEN TRAP
DESCRIPTION:We shoot Open Trap at this time; we will run standard and the crew running it will throw a few Wobbler rounds in per night. We do not have any leagues; we just shoot for fun! \nThe cost is $6.00 per round of 25\,\nWE ALSO SHOOT DOUBLES\, THE COST: IS $12.00 PER ROUND OF 50. \nWe will base the hours off the sunset.
URL:https://colfaxsportsmensclub.com/event/open-trap-5/2026-08-24/
LOCATION:Colfax Sportsmen’s Club\, E8498 810th Ave.\, Colfax\, WI\, 54730\, United States
ORGANIZER;CN="Colfax Sportsmen's Club":MAILTO:colfaxsportsmensclub2013@gmail.com
END:VEVENT
BEGIN:VEVENT
DTSTART;TZID=America/Chicago:20260827T130000
DTEND;TZID=America/Chicago:20260827T160000
DTSTAMP:20260419T185226
CREATED:20260402T153505Z
LAST-MODIFIED:20260402T153505Z
UID:10000672-1787835600-1787846400@colfaxsportsmensclub.com
SUMMARY:OPEN FOR PUBLIC SHOOTING
DESCRIPTION:Range Open for Public Shooting from 1:00PM to 4:00PM\nFIREARMS MUST BE CASED\nEYE AND EAR PROTECTION REQUIRED\n\nTHANK YOU FOR YOUR COOPERATION!
URL:https://colfaxsportsmensclub.com/event/open-for-public-shooting-22/2026-08-27/
LOCATION:Colfax Sportsmen’s Club\, E8498 810th Ave.\, Colfax\, WI\, 54730\, United States
ORGANIZER;CN="Colfax Sportsmen's Club":MAILTO:colfaxsportsmensclub2013@gmail.com
END:VEVENT
BEGIN:VEVENT
DTSTART;TZID=America/Chicago:20260831T160000
DTEND;TZID=America/Chicago:20260831T210000
DTSTAMP:20260419T185226
CREATED:20260104T152327Z
LAST-MODIFIED:20260104T152327Z
UID:10000597-1788192000-1788210000@colfaxsportsmensclub.com
SUMMARY:OPEN TRAP
DESCRIPTION:We shoot Open Trap at this time; we will run standard and the crew running it will throw a few Wobbler rounds in per night. We do not have any leagues; we just shoot for fun! \nThe cost is $6.00 per round of 25\,\nWE ALSO SHOOT DOUBLES\, THE COST: IS $12.00 PER ROUND OF 50. \nWe will base the hours off the sunset.
URL:https://colfaxsportsmensclub.com/event/open-trap-5/2026-08-31/
LOCATION:Colfax Sportsmen’s Club\, E8498 810th Ave.\, Colfax\, WI\, 54730\, United States
ORGANIZER;CN="Colfax Sportsmen's Club":MAILTO:colfaxsportsmensclub2013@gmail.com
END:VEVENT
BEGIN:VEVENT
DTSTART;TZID=America/Chicago:20260902T190000
DTEND;TZID=America/Chicago:20260902T210000
DTSTAMP:20260419T185226
CREATED:20260104T144715Z
LAST-MODIFIED:20260104T144715Z
UID:10000572-1788375600-1788382800@colfaxsportsmensclub.com
SUMMARY:MONTHLY CLUB MEETING
DESCRIPTION:Monthly Meetings at the Clubhouse Shooting Range start at 7:00 PM SHARP!  \nMembership is $40.00 per family per year.  \nYou are welcome to come and visit a meeting to see what we are all about before you decide to join if you wish.  \nGoodies after the meeting too.
URL:https://colfaxsportsmensclub.com/event/monthly-club-meeting-4/2026-09-02/
LOCATION:Colfax Sportsmen’s Club\, E8498 810th Ave.\, Colfax\, WI\, 54730\, United States
ORGANIZER;CN="Colfax Sportsmen's Club":MAILTO:colfaxsportsmensclub2013@gmail.com
END:VEVENT
BEGIN:VEVENT
DTSTART;TZID=America/Chicago:20260903T130000
DTEND;TZID=America/Chicago:20260903T160000
DTSTAMP:20260419T185226
CREATED:20260402T153505Z
LAST-MODIFIED:20260402T153505Z
UID:10000673-1788440400-1788451200@colfaxsportsmensclub.com
SUMMARY:OPEN FOR PUBLIC SHOOTING
DESCRIPTION:Range Open for Public Shooting from 1:00PM to 4:00PM\nFIREARMS MUST BE CASED\nEYE AND EAR PROTECTION REQUIRED\n\nTHANK YOU FOR YOUR COOPERATION!
URL:https://colfaxsportsmensclub.com/event/open-for-public-shooting-22/2026-09-03/
LOCATION:Colfax Sportsmen’s Club\, E8498 810th Ave.\, Colfax\, WI\, 54730\, United States
ORGANIZER;CN="Colfax Sportsmen's Club":MAILTO:colfaxsportsmensclub2013@gmail.com
END:VEVENT
BEGIN:VEVENT
DTSTART;TZID=America/Chicago:20260904T120000
DTEND;TZID=America/Chicago:20260904T170000
DTSTAMP:20260419T185226
CREATED:20260105T024526Z
LAST-MODIFIED:20260105T024526Z
UID:10000614-1788523200-1788541200@colfaxsportsmensclub.com
SUMMARY:RANGE CLOSED FOR MATCH SET-UP
DESCRIPTION:RANGE CLOSED NOON TO SUNSET
URL:https://colfaxsportsmensclub.com/event/range-closed-for-match-set-up/2026-09-04/
LOCATION:Colfax Sportsmen’s Club\, E8498 810th Ave.\, Colfax\, WI\, 54730\, United States
ORGANIZER;CN="Colfax Sportsmen's Club":MAILTO:colfaxsportsmensclub2013@gmail.com
END:VEVENT
END:VCALENDAR