BEGIN:VCALENDAR
VERSION:2.0
PRODID:-//Colfax Sportsmens Club, Inc - ECPv6.15.20//NONSGML v1.0//EN
CALSCALE:GREGORIAN
METHOD:PUBLISH
X-ORIGINAL-URL:https://colfaxsportsmensclub.com
X-WR-CALDESC:Events for Colfax Sportsmens Club, Inc
REFRESH-INTERVAL;VALUE=DURATION:PT1H
X-Robots-Tag:noindex
X-PUBLISHED-TTL:PT1H
BEGIN:VTIMEZONE
TZID:America/Chicago
BEGIN:DAYLIGHT
TZOFFSETFROM:-0600
TZOFFSETTO:-0500
TZNAME:CDT
DTSTART:20250309T080000
END:DAYLIGHT
BEGIN:STANDARD
TZOFFSETFROM:-0500
TZOFFSETTO:-0600
TZNAME:CST
DTSTART:20251102T070000
END:STANDARD
BEGIN:DAYLIGHT
TZOFFSETFROM:-0600
TZOFFSETTO:-0500
TZNAME:CDT
DTSTART:20260308T080000
END:DAYLIGHT
BEGIN:STANDARD
TZOFFSETFROM:-0500
TZOFFSETTO:-0600
TZNAME:CST
DTSTART:20261101T070000
END:STANDARD
BEGIN:DAYLIGHT
TZOFFSETFROM:-0600
TZOFFSETTO:-0500
TZNAME:CDT
DTSTART:20270314T080000
END:DAYLIGHT
BEGIN:STANDARD
TZOFFSETFROM:-0500
TZOFFSETTO:-0600
TZNAME:CST
DTSTART:20271107T070000
END:STANDARD
END:VTIMEZONE
BEGIN:VEVENT
DTSTART;TZID=America/Chicago:20260222T080000
DTEND;TZID=America/Chicago:20260222T170000
DTSTAMP:20260422T174640
CREATED:20260118T201959Z
LAST-MODIFIED:20260118T202000Z
UID:10000622-1771747200-1771779600@colfaxsportsmensclub.com
SUMMARY:COLFAX NRL22 MONTHLY COF
DESCRIPTION:Colfax Sportsmen’s Club Monthly NRL22 COF. We will shoot the 5 designated NRL22 Monthly stages with the possibility of a bonus stage or two. Registration fee and discounts can be found below. Check-in and zero range will run from 8:00am – 9:00am. Match starts at 9:00am. This match is open to the public\, there is no requirement to be a Colfax Sportsmen’s Club member to compete. Payment through Practiscore is preferred but we will also allow payment at registration for this match. Squads may be adjusted the day of the match to even them out and or split to save time.
URL:https://colfaxsportsmensclub.com/event/colfax-nrl22-monthly-cof-2/
LOCATION:Colfax Sportsmen’s Club\, E8498 810th Ave.\, Colfax\, WI\, 54730\, United States
ORGANIZER;CN="Colfax Sportsmen's Club":MAILTO:colfaxsportsmensclub2013@gmail.com
END:VEVENT
BEGIN:VEVENT
DTSTART;TZID=America/Chicago:20260227T140000
DTEND;TZID=America/Chicago:20260227T170000
DTSTAMP:20260422T174640
CREATED:20260227T030756Z
LAST-MODIFIED:20260227T030756Z
UID:10000652-1772200800-1772211600@colfaxsportsmensclub.com
SUMMARY:OPEN FOR PUBLIC SHOOTING
DESCRIPTION:Range Open for Public Shooting from 2:00PM to 5:00PM \nFIREARMS MUST BE CASED \nEYE AND EAR PROTECTION REQUIRED \n  \nTHANK YOU FOR YOUR COOPERATION!
URL:https://colfaxsportsmensclub.com/event/open-for-public-shooting-24/
LOCATION:Colfax Sportsmen’s Club\, E8498 810th Ave.\, Colfax\, WI\, 54730\, United States
ORGANIZER;CN="Colfax Sportsmen's Club":MAILTO:colfaxsportsmensclub2013@gmail.com
END:VEVENT
BEGIN:VEVENT
DTSTART;TZID=America/Chicago:20260304T190000
DTEND;TZID=America/Chicago:20260304T210000
DTSTAMP:20260422T174640
CREATED:20260104T144715Z
LAST-MODIFIED:20260104T144715Z
UID:10000566-1772650800-1772658000@colfaxsportsmensclub.com
SUMMARY:MONTHLY CLUB MEETING
DESCRIPTION:Monthly Meetings at the Clubhouse Shooting Range start at 7:00 PM SHARP!  \nMembership is $40.00 per family per year.  \nYou are welcome to come and visit a meeting to see what we are all about before you decide to join if you wish.  \nGoodies after the meeting too.
URL:https://colfaxsportsmensclub.com/event/monthly-club-meeting-4/2026-03-04/
LOCATION:Colfax Sportsmen’s Club\, E8498 810th Ave.\, Colfax\, WI\, 54730\, United States
ORGANIZER;CN="Colfax Sportsmen's Club":MAILTO:colfaxsportsmensclub2013@gmail.com
END:VEVENT
BEGIN:VEVENT
DTSTART;TZID=America/Chicago:20260315T080000
DTEND;TZID=America/Chicago:20260315T170000
DTSTAMP:20260422T174640
CREATED:20260105T032120Z
LAST-MODIFIED:20260118T205310Z
UID:10000633-1773561600-1773594000@colfaxsportsmensclub.com
SUMMARY:COLFAX STEEL CHALLENGE MONTHLY MATCH
DESCRIPTION:Colfax Sportsmen’s Club provides sanctioned SCSA matches throughout the spring\, summer\, and fall.  A weekend match will include six of the SCSA stages and Thursday matches will provide four of the SCSA stages for participants to enjoy.  We encourage any and all participants\, be it existing firearm owners or new firearm owners\, to come out and give Steel Challenge a try!
URL:https://colfaxsportsmensclub.com/event/colfax-steel-challenge-monthly-match/
LOCATION:Colfax Sportsmen’s Club\, E8498 810th Ave.\, Colfax\, WI\, 54730\, United States
ORGANIZER;CN="Colfax Sportsmen's Club":MAILTO:colfaxsportsmensclub2013@gmail.com
END:VEVENT
BEGIN:VEVENT
DTSTART;TZID=America/Chicago:20260315T080000
DTEND;TZID=America/Chicago:20260315T170000
DTSTAMP:20260422T174640
CREATED:20260118T202131Z
LAST-MODIFIED:20260118T202132Z
UID:10000623-1773561600-1773594000@colfaxsportsmensclub.com
SUMMARY:COLFAX NRL22 MONTHLY COF
DESCRIPTION:Colfax Sportsmen’s Club Monthly NRL22 COF. We will shoot the 5 designated NRL22 Monthly stages with the possibility of a bonus stage or two. Registration fee and discounts can be found below. Check-in and zero range will run from 8:00am – 9:00am. Match starts at 9:00am. This match is open to the public\, there is no requirement to be a Colfax Sportsmen’s Club member to compete. Payment through Practiscore is preferred but we will also allow payment at registration for this match. Squads may be adjusted the day of the match to even them out and or split to save time.
URL:https://colfaxsportsmensclub.com/event/colfax-nrl22-monthly-cof-3/
LOCATION:Colfax Sportsmen’s Club\, E8498 810th Ave.\, Colfax\, WI\, 54730\, United States
ORGANIZER;CN="Colfax Sportsmen's Club":MAILTO:colfaxsportsmensclub2013@gmail.com
END:VEVENT
BEGIN:VEVENT
DTSTART;TZID=America/Chicago:20260401T190000
DTEND;TZID=America/Chicago:20260401T210000
DTSTAMP:20260422T174640
CREATED:20260104T144715Z
LAST-MODIFIED:20260104T144715Z
UID:10000567-1775070000-1775077200@colfaxsportsmensclub.com
SUMMARY:MONTHLY CLUB MEETING
DESCRIPTION:Monthly Meetings at the Clubhouse Shooting Range start at 7:00 PM SHARP!  \nMembership is $40.00 per family per year.  \nYou are welcome to come and visit a meeting to see what we are all about before you decide to join if you wish.  \nGoodies after the meeting too.
URL:https://colfaxsportsmensclub.com/event/monthly-club-meeting-4/2026-04-01/
LOCATION:Colfax Sportsmen’s Club\, E8498 810th Ave.\, Colfax\, WI\, 54730\, United States
ORGANIZER;CN="Colfax Sportsmen's Club":MAILTO:colfaxsportsmensclub2013@gmail.com
END:VEVENT
BEGIN:VEVENT
DTSTART;TZID=America/Chicago:20260404T080000
DTEND;TZID=America/Chicago:20260404T170000
DTSTAMP:20260422T174640
CREATED:20260221T224006Z
LAST-MODIFIED:20260221T224008Z
UID:10000637-1775289600-1775322000@colfaxsportsmensclub.com
SUMMARY:COLFAX PCSL PISTOL MONTHLY MATCH
DESCRIPTION:PCSL K-Zone brown targets\, 10/5/3/1 scoring points for K/A/C/D zone hits for all divisions with blue steel targets\, red no shoot targets and black hard cover targets \nThis match is open to the public\, there is no requirement to be a Colfax Sportsmen’s Club member or a PCSL member to compete. Payment can be made through Practiscore or at check-in. Squadding can be done individually through Practiscore and will be adjusted on match day for the most efficient match flow. \nFor Current Divisions and Rules\, visit https://www.pcsleague.us
URL:https://colfaxsportsmensclub.com/event/colfax-pcsl-monthly-match-3/
LOCATION:Colfax Sportsmen’s Club\, E8498 810th Ave.\, Colfax\, WI\, 54730\, United States
ORGANIZER;CN="Colfax Sportsmen's Club":MAILTO:colfaxsportsmensclub2013@gmail.com
END:VEVENT
BEGIN:VEVENT
DTSTART;TZID=America/Chicago:20260409T130000
DTEND;TZID=America/Chicago:20260409T160000
DTSTAMP:20260422T174640
CREATED:20260402T153505Z
LAST-MODIFIED:20260402T153505Z
UID:10000653-1775739600-1775750400@colfaxsportsmensclub.com
SUMMARY:OPEN FOR PUBLIC SHOOTING
DESCRIPTION:Range Open for Public Shooting from 1:00PM to 4:00PM\nFIREARMS MUST BE CASED\nEYE AND EAR PROTECTION REQUIRED\n\nTHANK YOU FOR YOUR COOPERATION!
URL:https://colfaxsportsmensclub.com/event/open-for-public-shooting-22/2026-04-09/
LOCATION:Colfax Sportsmen’s Club\, E8498 810th Ave.\, Colfax\, WI\, 54730\, United States
ORGANIZER;CN="Colfax Sportsmen's Club":MAILTO:colfaxsportsmensclub2013@gmail.com
END:VEVENT
BEGIN:VEVENT
DTSTART;TZID=America/Chicago:20260413T160000
DTEND;TZID=America/Chicago:20260413T210000
DTSTAMP:20260422T174640
CREATED:20260104T152327Z
LAST-MODIFIED:20260104T152327Z
UID:10000577-1776096000-1776114000@colfaxsportsmensclub.com
SUMMARY:OPEN TRAP
DESCRIPTION:We shoot Open Trap at this time; we will run standard and the crew running it will throw a few Wobbler rounds in per night. We do not have any leagues; we just shoot for fun! \nThe cost is $6.00 per round of 25\,\nWE ALSO SHOOT DOUBLES\, THE COST: IS $12.00 PER ROUND OF 50. \nWe will base the hours off the sunset.
URL:https://colfaxsportsmensclub.com/event/open-trap-5/2026-04-13/
LOCATION:Colfax Sportsmen’s Club\, E8498 810th Ave.\, Colfax\, WI\, 54730\, United States
ORGANIZER;CN="Colfax Sportsmen's Club":MAILTO:colfaxsportsmensclub2013@gmail.com
END:VEVENT
BEGIN:VEVENT
DTSTART;TZID=America/Chicago:20260416T130000
DTEND;TZID=America/Chicago:20260416T160000
DTSTAMP:20260422T174640
CREATED:20260402T153505Z
LAST-MODIFIED:20260402T153505Z
UID:10000654-1776344400-1776355200@colfaxsportsmensclub.com
SUMMARY:OPEN FOR PUBLIC SHOOTING
DESCRIPTION:Range Open for Public Shooting from 1:00PM to 4:00PM\nFIREARMS MUST BE CASED\nEYE AND EAR PROTECTION REQUIRED\n\nTHANK YOU FOR YOUR COOPERATION!
URL:https://colfaxsportsmensclub.com/event/open-for-public-shooting-22/2026-04-16/
LOCATION:Colfax Sportsmen’s Club\, E8498 810th Ave.\, Colfax\, WI\, 54730\, United States
ORGANIZER;CN="Colfax Sportsmen's Club":MAILTO:colfaxsportsmensclub2013@gmail.com
END:VEVENT
BEGIN:VEVENT
DTSTART;TZID=America/Chicago:20260419T080000
DTEND;TZID=America/Chicago:20260419T170000
DTSTAMP:20260422T174640
CREATED:20260118T202256Z
LAST-MODIFIED:20260118T202257Z
UID:10000624-1776585600-1776618000@colfaxsportsmensclub.com
SUMMARY:COLFAX NRL22 MONTHLY COF
DESCRIPTION:Colfax Sportsmen’s Club Monthly NRL22 COF. We will shoot the 5 designated NRL22 Monthly stages with the possibility of a bonus stage or two. Registration fee and discounts can be found below. Check-in and zero range will run from 8:00am – 9:00am. Match starts at 9:00am. This match is open to the public\, there is no requirement to be a Colfax Sportsmen’s Club member to compete. Payment through Practiscore is preferred but we will also allow payment at registration for this match. Squads may be adjusted the day of the match to even them out and or split to save time.
URL:https://colfaxsportsmensclub.com/event/colfax-nrl22-monthly-cof-4/
LOCATION:Colfax Sportsmen’s Club\, E8498 810th Ave.\, Colfax\, WI\, 54730\, United States
ORGANIZER;CN="Colfax Sportsmen's Club":MAILTO:colfaxsportsmensclub2013@gmail.com
END:VEVENT
BEGIN:VEVENT
DTSTART;TZID=America/Chicago:20260420T160000
DTEND;TZID=America/Chicago:20260420T210000
DTSTAMP:20260422T174640
CREATED:20260104T152327Z
LAST-MODIFIED:20260104T152327Z
UID:10000578-1776700800-1776718800@colfaxsportsmensclub.com
SUMMARY:OPEN TRAP
DESCRIPTION:We shoot Open Trap at this time; we will run standard and the crew running it will throw a few Wobbler rounds in per night. We do not have any leagues; we just shoot for fun! \nThe cost is $6.00 per round of 25\,\nWE ALSO SHOOT DOUBLES\, THE COST: IS $12.00 PER ROUND OF 50. \nWe will base the hours off the sunset.
URL:https://colfaxsportsmensclub.com/event/open-trap-5/2026-04-20/
LOCATION:Colfax Sportsmen’s Club\, E8498 810th Ave.\, Colfax\, WI\, 54730\, United States
ORGANIZER;CN="Colfax Sportsmen's Club":MAILTO:colfaxsportsmensclub2013@gmail.com
END:VEVENT
BEGIN:VEVENT
DTSTART;TZID=America/Chicago:20260423T130000
DTEND;TZID=America/Chicago:20260423T160000
DTSTAMP:20260422T174640
CREATED:20260402T153505Z
LAST-MODIFIED:20260402T153505Z
UID:10000655-1776949200-1776960000@colfaxsportsmensclub.com
SUMMARY:OPEN FOR PUBLIC SHOOTING
DESCRIPTION:Range Open for Public Shooting from 1:00PM to 4:00PM\nFIREARMS MUST BE CASED\nEYE AND EAR PROTECTION REQUIRED\n\nTHANK YOU FOR YOUR COOPERATION!
URL:https://colfaxsportsmensclub.com/event/open-for-public-shooting-22/2026-04-23/
LOCATION:Colfax Sportsmen’s Club\, E8498 810th Ave.\, Colfax\, WI\, 54730\, United States
ORGANIZER;CN="Colfax Sportsmen's Club":MAILTO:colfaxsportsmensclub2013@gmail.com
END:VEVENT
BEGIN:VEVENT
DTSTART;TZID=America/Chicago:20260425T073000
DTEND;TZID=America/Chicago:20260425T170000
DTSTAMP:20260422T174640
CREATED:20260105T025330Z
LAST-MODIFIED:20260118T204631Z
UID:10000615-1777102200-1777136400@colfaxsportsmensclub.com
SUMMARY:WISCONSIN SPEED FREAK RIMFIRE - MONTHLY
DESCRIPTION:During the Colfax Speed Freak Rimfire Monthly match we will shoot 8 unique stages.  This match will test competitors with stages where there are between 3 and 8 targets\, on some stages your worst strings will not be dropped.  Stages will be 3-5 strings.  The true intention of this type of match is to make it easy enough for new and existing gun owners who don’t have or cannot afford a large inventory of magazines for their guns; or don’t have both a pistol and rifle in 22LR\, involved in the shooting sports.  Making events such as this centered around family\, fun\, and education is our goal here at Colfax Sportsmen’s Club.  \nThere are four (6) Divisions: Optics Pistol\, Optics Rifle\, Irons Pistol\, and Irons Rifle\, Optics Revolver and Irons Revolver.
URL:https://colfaxsportsmensclub.com/event/wisconsin-speed-freak-rimfire-monthly/
LOCATION:Colfax Sportsmen’s Club\, E8498 810th Ave.\, Colfax\, WI\, 54730\, United States
ORGANIZER;CN="Colfax Sportsmen's Club":MAILTO:colfaxsportsmensclub2013@gmail.com
END:VEVENT
BEGIN:VEVENT
DTSTART;TZID=America/Chicago:20260426T080000
DTEND;TZID=America/Chicago:20260426T170000
DTSTAMP:20260422T174640
CREATED:20260105T034956Z
LAST-MODIFIED:20260118T204836Z
UID:10000646-1777190400-1777222800@colfaxsportsmensclub.com
SUMMARY:COLFAX STEEL SMASHERS FIRST SHOTS EVENT
DESCRIPTION:Come on out to the Colfax Sportsmen’s Club and support your local youth shooting team\, Colfax Steel Smashers. All the match entry fees will go towards the team! At this event you will get to meet many of the team athletes\, compete alongside them\, and get to hear their stories! \nWe will setup 6 stages of action steel with stages from SASP\, Steel Challenge\, and Wisconsin Speed Freak Rimfire for a fun and family friendly day of competition. In addition to the match\, we will be hosting a NSSF First Shots Event to introduce new and current firearm owners to various shootings sports opportunities at our local range. \nNever competed in a match\, but familiar with speed shooting at home? This is a great opportunity for you to test the waters and learn what you need to compete. To be honest though\, you aren’t really competing with others\, you are out having fun doing what you like to do and making new friends! \nPlan for roughly 200 rounds and please bring at least 5 mags per firearm. Don’t have enough mags? No problem! Reach out to us and we’re happy to help and even borrow firearms if you need a firearm! \nFill out the registration form below to the best of your ability and come have fun! After you have submitted your registration you will receive an email and can then squad yourself with your friends! \nThis will be a rimfire (22lr) only match. Online payment is available after you complete the registration page.
URL:https://colfaxsportsmensclub.com/event/colfax-steel-smashers-first-shots-event/
LOCATION:Colfax Sportsmen’s Club\, E8498 810th Ave.\, Colfax\, WI\, 54730\, United States
ORGANIZER;CN="Colfax Sportsmen's Club":MAILTO:colfaxsportsmensclub2013@gmail.com
END:VEVENT
BEGIN:VEVENT
DTSTART;TZID=America/Chicago:20260427T160000
DTEND;TZID=America/Chicago:20260427T210000
DTSTAMP:20260422T174640
CREATED:20260104T152327Z
LAST-MODIFIED:20260104T152327Z
UID:10000579-1777305600-1777323600@colfaxsportsmensclub.com
SUMMARY:OPEN TRAP
DESCRIPTION:We shoot Open Trap at this time; we will run standard and the crew running it will throw a few Wobbler rounds in per night. We do not have any leagues; we just shoot for fun! \nThe cost is $6.00 per round of 25\,\nWE ALSO SHOOT DOUBLES\, THE COST: IS $12.00 PER ROUND OF 50. \nWe will base the hours off the sunset.
URL:https://colfaxsportsmensclub.com/event/open-trap-5/2026-04-27/
LOCATION:Colfax Sportsmen’s Club\, E8498 810th Ave.\, Colfax\, WI\, 54730\, United States
ORGANIZER;CN="Colfax Sportsmen's Club":MAILTO:colfaxsportsmensclub2013@gmail.com
END:VEVENT
BEGIN:VEVENT
DTSTART;TZID=America/Chicago:20260430T130000
DTEND;TZID=America/Chicago:20260430T160000
DTSTAMP:20260422T174640
CREATED:20260402T153505Z
LAST-MODIFIED:20260402T153505Z
UID:10000656-1777554000-1777564800@colfaxsportsmensclub.com
SUMMARY:OPEN FOR PUBLIC SHOOTING
DESCRIPTION:Range Open for Public Shooting from 1:00PM to 4:00PM\nFIREARMS MUST BE CASED\nEYE AND EAR PROTECTION REQUIRED\n\nTHANK YOU FOR YOUR COOPERATION!
URL:https://colfaxsportsmensclub.com/event/open-for-public-shooting-22/2026-04-30/
LOCATION:Colfax Sportsmen’s Club\, E8498 810th Ave.\, Colfax\, WI\, 54730\, United States
ORGANIZER;CN="Colfax Sportsmen's Club":MAILTO:colfaxsportsmensclub2013@gmail.com
END:VEVENT
BEGIN:VEVENT
DTSTART;TZID=America/Chicago:20260502T080000
DTEND;TZID=America/Chicago:20260502T170000
DTSTAMP:20260422T174641
CREATED:20260221T223859Z
LAST-MODIFIED:20260221T223900Z
UID:10000638-1777708800-1777741200@colfaxsportsmensclub.com
SUMMARY:COLFAX PCSL PISTOL MONTHLY MATCH
DESCRIPTION:PCSL K-Zone brown targets\, 10/5/3/1 scoring points for K/A/C/D zone hits for all divisions with blue steel targets\, red no shoot targets and black hard cover targets \nThis match is open to the public\, there is no requirement to be a Colfax Sportsmen’s Club member or a PCSL member to compete. Payment can be made through Practiscore or at check-in. Squadding can be done individually through Practiscore and will be adjusted on match day for the most efficient match flow. \nFor Current Divisions and Rules\, visit https://www.pcsleague.us
URL:https://colfaxsportsmensclub.com/event/colfax-pcsl-monthly-match-2/
LOCATION:Colfax Sportsmen’s Club\, E8498 810th Ave.\, Colfax\, WI\, 54730\, United States
ORGANIZER;CN="Colfax Sportsmen's Club":MAILTO:colfaxsportsmensclub2013@gmail.com
END:VEVENT
BEGIN:VEVENT
DTSTART;TZID=America/Chicago:20260503T090000
DTEND;TZID=America/Chicago:20260503T170000
DTSTAMP:20260422T174641
CREATED:20260105T034625Z
LAST-MODIFIED:20260221T223742Z
UID:10000645-1777798800-1777827600@colfaxsportsmensclub.com
SUMMARY:PCSL PISTOL __PRACTICE MATCH FOR BEGINNERS AND YOUTH
DESCRIPTION:Expect 5 stages\, 3 of the 5 stages are setup as skill building stages for basics of speed shooting\, accuracy and safe movement. The remaining 2 stages are ordinary PCSL stages. Experienced competitors will be there to RO the event and to provide coaching if you request.\nYou can shoot any stage multiple times once every shooter has been through the stage at least once. There should be time to shoot 300 – 400 rounds. \nYOU DO NOT NEED TO BE COMPLETELY NEW TO THE SPORT TO PARTICIPATE. If you are an experienced shooter in other disciplines or even have PCSL experience you are welcome to come and hone your skills! \nPCSL K-Zone brown targets\, 10/5/3/1 scoring points for K/A/C/D zone hits for all divisions with blue steel targets\, red no shoot targets and black hard cover targets \nThis match is open to the public\, there is no requirement to be a Colfax Sportsmen’s Club member or a PCSL member to participate. Payment can be made through Practiscore or at check-in. Squadding can be done individually through Practiscore and will be adjusted on match day for the most efficient match flow. \nFor Current Divisions and Rules\, visit https://www.pcsleague.us
URL:https://colfaxsportsmensclub.com/event/youth-beginner-pscl-training-match/
LOCATION:Colfax Sportsmen’s Club\, E8498 810th Ave.\, Colfax\, WI\, 54730\, United States
ORGANIZER;CN="Colfax Sportsmen's Club":MAILTO:colfaxsportsmensclub2013@gmail.com
END:VEVENT
BEGIN:VEVENT
DTSTART;TZID=America/Chicago:20260504T160000
DTEND;TZID=America/Chicago:20260504T210000
DTSTAMP:20260422T174641
CREATED:20260104T152327Z
LAST-MODIFIED:20260104T152327Z
UID:10000580-1777910400-1777928400@colfaxsportsmensclub.com
SUMMARY:OPEN TRAP
DESCRIPTION:We shoot Open Trap at this time; we will run standard and the crew running it will throw a few Wobbler rounds in per night. We do not have any leagues; we just shoot for fun! \nThe cost is $6.00 per round of 25\,\nWE ALSO SHOOT DOUBLES\, THE COST: IS $12.00 PER ROUND OF 50. \nWe will base the hours off the sunset.
URL:https://colfaxsportsmensclub.com/event/open-trap-5/2026-05-04/
LOCATION:Colfax Sportsmen’s Club\, E8498 810th Ave.\, Colfax\, WI\, 54730\, United States
ORGANIZER;CN="Colfax Sportsmen's Club":MAILTO:colfaxsportsmensclub2013@gmail.com
END:VEVENT
BEGIN:VEVENT
DTSTART;TZID=America/Chicago:20260506T190000
DTEND;TZID=America/Chicago:20260506T210000
DTSTAMP:20260422T174641
CREATED:20260104T144715Z
LAST-MODIFIED:20260104T144715Z
UID:10000568-1778094000-1778101200@colfaxsportsmensclub.com
SUMMARY:MONTHLY CLUB MEETING
DESCRIPTION:Monthly Meetings at the Clubhouse Shooting Range start at 7:00 PM SHARP!  \nMembership is $40.00 per family per year.  \nYou are welcome to come and visit a meeting to see what we are all about before you decide to join if you wish.  \nGoodies after the meeting too.
URL:https://colfaxsportsmensclub.com/event/monthly-club-meeting-4/2026-05-06/
LOCATION:Colfax Sportsmen’s Club\, E8498 810th Ave.\, Colfax\, WI\, 54730\, United States
ORGANIZER;CN="Colfax Sportsmen's Club":MAILTO:colfaxsportsmensclub2013@gmail.com
END:VEVENT
BEGIN:VEVENT
DTSTART;TZID=America/Chicago:20260507T130000
DTEND;TZID=America/Chicago:20260507T160000
DTSTAMP:20260422T174641
CREATED:20260402T153505Z
LAST-MODIFIED:20260402T153505Z
UID:10000657-1778158800-1778169600@colfaxsportsmensclub.com
SUMMARY:OPEN FOR PUBLIC SHOOTING
DESCRIPTION:Range Open for Public Shooting from 1:00PM to 4:00PM\nFIREARMS MUST BE CASED\nEYE AND EAR PROTECTION REQUIRED\n\nTHANK YOU FOR YOUR COOPERATION!
URL:https://colfaxsportsmensclub.com/event/open-for-public-shooting-22/2026-05-07/
LOCATION:Colfax Sportsmen’s Club\, E8498 810th Ave.\, Colfax\, WI\, 54730\, United States
ORGANIZER;CN="Colfax Sportsmen's Club":MAILTO:colfaxsportsmensclub2013@gmail.com
END:VEVENT
BEGIN:VEVENT
DTSTART;TZID=America/Chicago:20260509T120000
DTEND;TZID=America/Chicago:20260509T170000
DTSTAMP:20260422T174641
CREATED:20260118T205129Z
LAST-MODIFIED:20260118T205130Z
UID:10000603-1778328000-1778346000@colfaxsportsmensclub.com
SUMMARY:DUCK FLURRY TRAP SHOOT
DESCRIPTION:Duck Flurry Trap Shoot.  This will be a 2-person Team event which will include a 50 bird Furry that is thrown for each Team. The Team with the highest score at the end of the day will win.
URL:https://colfaxsportsmensclub.com/event/duck-flurry-trap-shoot-5-2/
LOCATION:Colfax Sportsmen’s Club\, E8498 810th Ave.\, Colfax\, WI\, 54730\, United States
ORGANIZER;CN="Colfax Sportsmen's Club":MAILTO:colfaxsportsmensclub2013@gmail.com
END:VEVENT
BEGIN:VEVENT
DTSTART;TZID=America/Chicago:20260511T160000
DTEND;TZID=America/Chicago:20260511T210000
DTSTAMP:20260422T174641
CREATED:20260104T152327Z
LAST-MODIFIED:20260104T152327Z
UID:10000581-1778515200-1778533200@colfaxsportsmensclub.com
SUMMARY:OPEN TRAP
DESCRIPTION:We shoot Open Trap at this time; we will run standard and the crew running it will throw a few Wobbler rounds in per night. We do not have any leagues; we just shoot for fun! \nThe cost is $6.00 per round of 25\,\nWE ALSO SHOOT DOUBLES\, THE COST: IS $12.00 PER ROUND OF 50. \nWe will base the hours off the sunset.
URL:https://colfaxsportsmensclub.com/event/open-trap-5/2026-05-11/
LOCATION:Colfax Sportsmen’s Club\, E8498 810th Ave.\, Colfax\, WI\, 54730\, United States
ORGANIZER;CN="Colfax Sportsmen's Club":MAILTO:colfaxsportsmensclub2013@gmail.com
END:VEVENT
BEGIN:VEVENT
DTSTART;TZID=America/Chicago:20260514T130000
DTEND;TZID=America/Chicago:20260514T160000
DTSTAMP:20260422T174641
CREATED:20260402T153505Z
LAST-MODIFIED:20260402T153505Z
UID:10000658-1778763600-1778774400@colfaxsportsmensclub.com
SUMMARY:OPEN FOR PUBLIC SHOOTING
DESCRIPTION:Range Open for Public Shooting from 1:00PM to 4:00PM\nFIREARMS MUST BE CASED\nEYE AND EAR PROTECTION REQUIRED\n\nTHANK YOU FOR YOUR COOPERATION!
URL:https://colfaxsportsmensclub.com/event/open-for-public-shooting-22/2026-05-14/
LOCATION:Colfax Sportsmen’s Club\, E8498 810th Ave.\, Colfax\, WI\, 54730\, United States
ORGANIZER;CN="Colfax Sportsmen's Club":MAILTO:colfaxsportsmensclub2013@gmail.com
END:VEVENT
BEGIN:VEVENT
DTSTART;TZID=America/Chicago:20260515T120000
DTEND;TZID=America/Chicago:20260515T170000
DTSTAMP:20260422T174641
CREATED:20260105T024526Z
LAST-MODIFIED:20260105T024526Z
UID:10000612-1778846400-1778864400@colfaxsportsmensclub.com
SUMMARY:RANGE CLOSED FOR MATCH SET-UP
DESCRIPTION:RANGE CLOSED NOON TO SUNSET
URL:https://colfaxsportsmensclub.com/event/range-closed-for-match-set-up/2026-05-15/
LOCATION:Colfax Sportsmen’s Club\, E8498 810th Ave.\, Colfax\, WI\, 54730\, United States
ORGANIZER;CN="Colfax Sportsmen's Club":MAILTO:colfaxsportsmensclub2013@gmail.com
END:VEVENT
BEGIN:VEVENT
DTSTART;TZID=America/Chicago:20260516T080000
DTEND;TZID=America/Chicago:20260516T170000
DTSTAMP:20260422T174641
CREATED:20260105T023541Z
LAST-MODIFIED:20260105T023541Z
UID:10000609-1778918400-1778950800@colfaxsportsmensclub.com
SUMMARY:BOWLING PIN SHOOT
DESCRIPTION:Registration is 8:00 AM – 9:00 AM\, matches start at 9:30 AM\, rain or shine\, bathroom\, and concessions on site. Dress appropriately for the weather. All are welcome to join in. There is no requirement to be a club member to participate.
URL:https://colfaxsportsmensclub.com/event/bowling-pin-shoot-5/2026-05-16/
LOCATION:Colfax Sportsmen’s Club\, E8498 810th Ave.\, Colfax\, WI\, 54730\, United States
ORGANIZER;CN="Colfax Sportsmen's Club":MAILTO:colfaxsportsmensclub2013@gmail.com
END:VEVENT
BEGIN:VEVENT
DTSTART;TZID=America/Chicago:20260517T080000
DTEND;TZID=America/Chicago:20260517T170000
DTSTAMP:20260422T174641
CREATED:20260118T202417Z
LAST-MODIFIED:20260118T202418Z
UID:10000625-1779004800-1779037200@colfaxsportsmensclub.com
SUMMARY:COLFAX NRL22 MONTHLY COF
DESCRIPTION:Colfax Sportsmen’s Club Monthly NRL22 COF. We will shoot the 5 designated NRL22 Monthly stages with the possibility of a bonus stage or two. Registration fee and discounts can be found below. Check-in and zero range will run from 8:00am – 9:00am. Match starts at 9:00am. This match is open to the public\, there is no requirement to be a Colfax Sportsmen’s Club member to compete. Payment through Practiscore is preferred but we will also allow payment at registration for this match. Squads may be adjusted the day of the match to even them out and or split to save time.
URL:https://colfaxsportsmensclub.com/event/colfax-nrl22-monthly-cof-5/
LOCATION:Colfax Sportsmen’s Club\, E8498 810th Ave.\, Colfax\, WI\, 54730\, United States
ORGANIZER;CN="Colfax Sportsmen's Club":MAILTO:colfaxsportsmensclub2013@gmail.com
END:VEVENT
BEGIN:VEVENT
DTSTART;TZID=America/Chicago:20260517T080000
DTEND;TZID=America/Chicago:20260517T170000
DTSTAMP:20260422T174641
CREATED:20260118T204432Z
LAST-MODIFIED:20260118T204433Z
UID:10000634-1779004800-1779037200@colfaxsportsmensclub.com
SUMMARY:COLFAX STEEL CHALLENGE MONTHLY MATCH
DESCRIPTION:Colfax Sportsmen’s Club provides sanctioned SCSA matches throughout the spring\, summer\, and fall.  A weekend match will include six of the SCSA stages and Thursday matches will provide four of the SCSA stages for participants to enjoy.  We encourage any and all participants\, be it existing firearm owners or new firearm owners\, to come out and give Steel Challenge a try!
URL:https://colfaxsportsmensclub.com/event/colfax-steel-challenge-monthly-match-3/
LOCATION:Colfax Sportsmen’s Club\, E8498 810th Ave.\, Colfax\, WI\, 54730\, United States
ORGANIZER;CN="Colfax Sportsmen's Club":MAILTO:colfaxsportsmensclub2013@gmail.com
END:VEVENT
BEGIN:VEVENT
DTSTART;TZID=America/Chicago:20260518T160000
DTEND;TZID=America/Chicago:20260518T210000
DTSTAMP:20260422T174641
CREATED:20260104T152327Z
LAST-MODIFIED:20260104T152327Z
UID:10000582-1779120000-1779138000@colfaxsportsmensclub.com
SUMMARY:OPEN TRAP
DESCRIPTION:We shoot Open Trap at this time; we will run standard and the crew running it will throw a few Wobbler rounds in per night. We do not have any leagues; we just shoot for fun! \nThe cost is $6.00 per round of 25\,\nWE ALSO SHOOT DOUBLES\, THE COST: IS $12.00 PER ROUND OF 50. \nWe will base the hours off the sunset.
URL:https://colfaxsportsmensclub.com/event/open-trap-5/2026-05-18/
LOCATION:Colfax Sportsmen’s Club\, E8498 810th Ave.\, Colfax\, WI\, 54730\, United States
ORGANIZER;CN="Colfax Sportsmen's Club":MAILTO:colfaxsportsmensclub2013@gmail.com
END:VEVENT
END:VCALENDAR