BEGIN:VCALENDAR
VERSION:2.0
PRODID:-//Colfax Sportsmens Club, Inc - ECPv6.15.20//NONSGML v1.0//EN
CALSCALE:GREGORIAN
METHOD:PUBLISH
X-ORIGINAL-URL:https://colfaxsportsmensclub.com
X-WR-CALDESC:Events for Colfax Sportsmens Club, Inc
REFRESH-INTERVAL;VALUE=DURATION:PT1H
X-Robots-Tag:noindex
X-PUBLISHED-TTL:PT1H
BEGIN:VTIMEZONE
TZID:America/Chicago
BEGIN:DAYLIGHT
TZOFFSETFROM:-0600
TZOFFSETTO:-0500
TZNAME:CDT
DTSTART:20230312T080000
END:DAYLIGHT
BEGIN:STANDARD
TZOFFSETFROM:-0500
TZOFFSETTO:-0600
TZNAME:CST
DTSTART:20231105T070000
END:STANDARD
BEGIN:DAYLIGHT
TZOFFSETFROM:-0600
TZOFFSETTO:-0500
TZNAME:CDT
DTSTART:20240310T080000
END:DAYLIGHT
BEGIN:STANDARD
TZOFFSETFROM:-0500
TZOFFSETTO:-0600
TZNAME:CST
DTSTART:20241103T070000
END:STANDARD
BEGIN:DAYLIGHT
TZOFFSETFROM:-0600
TZOFFSETTO:-0500
TZNAME:CDT
DTSTART:20250309T080000
END:DAYLIGHT
BEGIN:STANDARD
TZOFFSETFROM:-0500
TZOFFSETTO:-0600
TZNAME:CST
DTSTART:20251102T070000
END:STANDARD
END:VTIMEZONE
BEGIN:VEVENT
DTSTART;TZID=America/Chicago:20240303T130000
DTEND;TZID=America/Chicago:20240303T153000
DTSTAMP:20260421T105031
CREATED:20231231T174610Z
LAST-MODIFIED:20231231T174610Z
UID:10000136-1709470800-1709479800@colfaxsportsmensclub.com
SUMMARY:SASP TEAM PRACTICE
DESCRIPTION:Live Fire practice with Coaches.
URL:https://colfaxsportsmensclub.com/event/sasp-team-practice/2024-03-03/
LOCATION:Colfax Sportsmen’s Club\, E8498 810th Ave.\, Colfax\, WI\, 54730\, United States
ORGANIZER;CN="Colfax Sportsmen's Club":MAILTO:colfaxsportsmensclub2013@gmail.com
END:VEVENT
BEGIN:VEVENT
DTSTART;TZID=America/Chicago:20240306T190000
DTEND;TZID=America/Chicago:20240306T210000
DTSTAMP:20260421T105031
CREATED:20231216T172114Z
LAST-MODIFIED:20231216T172114Z
UID:10000030-1709751600-1709758800@colfaxsportsmensclub.com
SUMMARY:MONTHLY CLUB MEETING
DESCRIPTION:Monthly Meetings at the Clubhouse Shooting Range start at 7:00 PM SHARP!  Membership is $40.00 per family per year.  You are welcome to come and visit a meeting to see what we are all about before you decide to join if you wish.  Goodies after the meeting too.
URL:https://colfaxsportsmensclub.com/event/monthly-club-meeting-2/2024-03-06/
LOCATION:Colfax Sportsmen’s Club\, E8498 810th Ave.\, Colfax\, WI\, 54730\, United States
ORGANIZER;CN="Colfax Sportsmen's Club":MAILTO:colfaxsportsmensclub2013@gmail.com
END:VEVENT
BEGIN:VEVENT
DTSTART;TZID=America/Chicago:20240307T130000
DTEND;TZID=America/Chicago:20240307T160000
DTSTAMP:20260421T105031
CREATED:20231216T170448Z
LAST-MODIFIED:20231216T170448Z
UID:10000016-1709816400-1709827200@colfaxsportsmensclub.com
SUMMARY:OPEN FOR PUBLIC SHOOTING
DESCRIPTION:Range Open for Public Shooting from 1:00 PM to 4:00 PM \nFIREARMS MUST BE CASED\nEYE AND EAR PROTECTION REQUIRED\n\nTHANK YOU FOR YOUR COOPERATION!
URL:https://colfaxsportsmensclub.com/event/open-for-public-shooting-2/2024-03-07/
LOCATION:Colfax Sportsmen’s Club\, E8498 810th Ave.\, Colfax\, WI\, 54730\, United States
ORGANIZER;CN="Colfax Sportsmen's Club":MAILTO:colfaxsportsmensclub2013@gmail.com
END:VEVENT
BEGIN:VEVENT
DTSTART;TZID=America/Chicago:20240309T080000
DTEND;TZID=America/Chicago:20240309T170000
DTSTAMP:20260421T105031
CREATED:20240107T171620Z
LAST-MODIFIED:20240107T173031Z
UID:10000175-1709971200-1710003600@colfaxsportsmensclub.com
SUMMARY:RANGE CLOSED FOR NRA RSO CLASS
DESCRIPTION:Anderson Firearms Education will be holding an 8-hour NRA RSO class. \nThose interested in getting signed up must contact Tony Anderson at (715)894-7450 or email him at eccarryguy@yahoo.com because pre-registration is needed to hold your seat.
URL:https://colfaxsportsmensclub.com/event/nra-rso-class-2/2024-03-09/
LOCATION:Colfax Sportsmen’s Club\, E8498 810th Ave.\, Colfax\, WI\, 54730\, United States
ORGANIZER;CN="Colfax Sportsmen's Club":MAILTO:colfaxsportsmensclub2013@gmail.com
END:VEVENT
BEGIN:VEVENT
DTSTART;TZID=America/Chicago:20240310T130000
DTEND;TZID=America/Chicago:20240310T153000
DTSTAMP:20260421T105031
CREATED:20231231T174610Z
LAST-MODIFIED:20231231T174610Z
UID:10000137-1710075600-1710084600@colfaxsportsmensclub.com
SUMMARY:SASP TEAM PRACTICE
DESCRIPTION:Live Fire practice with Coaches.
URL:https://colfaxsportsmensclub.com/event/sasp-team-practice/2024-03-10/
LOCATION:Colfax Sportsmen’s Club\, E8498 810th Ave.\, Colfax\, WI\, 54730\, United States
ORGANIZER;CN="Colfax Sportsmen's Club":MAILTO:colfaxsportsmensclub2013@gmail.com
END:VEVENT
BEGIN:VEVENT
DTSTART;TZID=America/Chicago:20240314T130000
DTEND;TZID=America/Chicago:20240314T160000
DTSTAMP:20260421T105031
CREATED:20231216T170448Z
LAST-MODIFIED:20231216T170448Z
UID:10000017-1710421200-1710432000@colfaxsportsmensclub.com
SUMMARY:OPEN FOR PUBLIC SHOOTING
DESCRIPTION:Range Open for Public Shooting from 1:00 PM to 4:00 PM \nFIREARMS MUST BE CASED\nEYE AND EAR PROTECTION REQUIRED\n\nTHANK YOU FOR YOUR COOPERATION!
URL:https://colfaxsportsmensclub.com/event/open-for-public-shooting-2/2024-03-14/
LOCATION:Colfax Sportsmen’s Club\, E8498 810th Ave.\, Colfax\, WI\, 54730\, United States
ORGANIZER;CN="Colfax Sportsmen's Club":MAILTO:colfaxsportsmensclub2013@gmail.com
END:VEVENT
BEGIN:VEVENT
DTSTART;TZID=America/Chicago:20240315T100000
DTEND;TZID=America/Chicago:20240315T170000
DTSTAMP:20260421T105031
CREATED:20240314T181224Z
LAST-MODIFIED:20240314T181224Z
UID:10000217-1710496800-1710522000@colfaxsportsmensclub.com
SUMMARY:OPEN FOR PUBLIC SHOOTING
DESCRIPTION:Range Open for Public Shooting from 10:00 AM to 5:00 PM \nFIREARMS MUST BE CASED\nEYE AND EAR PROTECTION REQUIRED\n\nTHANK YOU FOR YOUR COOPERATION!
URL:https://colfaxsportsmensclub.com/event/open-for-public-shooting-10/
LOCATION:Colfax Sportsmen’s Club\, E8498 810th Ave.\, Colfax\, WI\, 54730\, United States
ORGANIZER;CN="Colfax Sportsmen's Club":MAILTO:colfaxsportsmensclub2013@gmail.com
END:VEVENT
BEGIN:VEVENT
DTSTART;TZID=America/Chicago:20240317T080000
DTEND;TZID=America/Chicago:20240317T160000
DTSTAMP:20260421T105031
CREATED:20231231T163243Z
LAST-MODIFIED:20240314T052504Z
UID:10000098-1710662400-1710691200@colfaxsportsmensclub.com
SUMMARY:COLFAX MARCH NRL22 COF
DESCRIPTION:Colfax Sportsmen’s Club Monthly NRL22 COF. We will shoot the 5 designated NRL22 Monthly stages with the possibility of a bonus stage or two. Registration fee and discounts can be found below. Check-in and zero range will run from 8:00am – 9:00am. Match starts at 9:00am. This match is open to the public\, there is no requirement to be a Colfax Sportsmen’s Club member to compete. Payment through Practiscore is preferred but we will also allow payment at registration for this match. Squads may be adjusted the day of the match to even them out and or split to save time.
URL:https://colfaxsportsmensclub.com/event/colfax-march-nrl22-cof/
LOCATION:Colfax Sportsmen’s Club\, E8498 810th Ave.\, Colfax\, WI\, 54730\, United States
ORGANIZER;CN="Colfax Sportsmen's Club":MAILTO:colfaxsportsmensclub2013@gmail.com
END:VEVENT
BEGIN:VEVENT
DTSTART;TZID=America/Chicago:20240317T130000
DTEND;TZID=America/Chicago:20240317T153000
DTSTAMP:20260421T105031
CREATED:20231231T174610Z
LAST-MODIFIED:20231231T174610Z
UID:10000138-1710680400-1710689400@colfaxsportsmensclub.com
SUMMARY:SASP TEAM PRACTICE
DESCRIPTION:Live Fire practice with Coaches.
URL:https://colfaxsportsmensclub.com/event/sasp-team-practice/2024-03-17/
LOCATION:Colfax Sportsmen’s Club\, E8498 810th Ave.\, Colfax\, WI\, 54730\, United States
ORGANIZER;CN="Colfax Sportsmen's Club":MAILTO:colfaxsportsmensclub2013@gmail.com
END:VEVENT
BEGIN:VEVENT
DTSTART;TZID=America/Chicago:20240317T153000
DTEND;TZID=America/Chicago:20240317T170000
DTSTAMP:20260421T105031
CREATED:20240314T205102Z
LAST-MODIFIED:20240314T205102Z
UID:10000218-1710689400-1710694800@colfaxsportsmensclub.com
SUMMARY:SCTP TEAM PRACTICE
DESCRIPTION:Live Fire practice with Coaches.
URL:https://colfaxsportsmensclub.com/event/sctp-team-practice/2024-03-17/
LOCATION:Colfax Sportsmen’s Club\, E8498 810th Ave.\, Colfax\, WI\, 54730\, United States
ORGANIZER;CN="Colfax Sportsmen's Club":MAILTO:colfaxsportsmensclub2013@gmail.com
END:VEVENT
BEGIN:VEVENT
DTSTART;TZID=America/Chicago:20240321T130000
DTEND;TZID=America/Chicago:20240321T160000
DTSTAMP:20260421T105031
CREATED:20231216T170448Z
LAST-MODIFIED:20231216T170448Z
UID:10000018-1711026000-1711036800@colfaxsportsmensclub.com
SUMMARY:OPEN FOR PUBLIC SHOOTING
DESCRIPTION:Range Open for Public Shooting from 1:00 PM to 4:00 PM \nFIREARMS MUST BE CASED\nEYE AND EAR PROTECTION REQUIRED\n\nTHANK YOU FOR YOUR COOPERATION!
URL:https://colfaxsportsmensclub.com/event/open-for-public-shooting-2/2024-03-21/
LOCATION:Colfax Sportsmen’s Club\, E8498 810th Ave.\, Colfax\, WI\, 54730\, United States
ORGANIZER;CN="Colfax Sportsmen's Club":MAILTO:colfaxsportsmensclub2013@gmail.com
END:VEVENT
BEGIN:VEVENT
DTSTART;TZID=America/Chicago:20240324T130000
DTEND;TZID=America/Chicago:20240324T153000
DTSTAMP:20260421T105031
CREATED:20231231T174610Z
LAST-MODIFIED:20231231T174610Z
UID:10000139-1711285200-1711294200@colfaxsportsmensclub.com
SUMMARY:SASP TEAM PRACTICE
DESCRIPTION:Live Fire practice with Coaches.
URL:https://colfaxsportsmensclub.com/event/sasp-team-practice/2024-03-24/
LOCATION:Colfax Sportsmen’s Club\, E8498 810th Ave.\, Colfax\, WI\, 54730\, United States
ORGANIZER;CN="Colfax Sportsmen's Club":MAILTO:colfaxsportsmensclub2013@gmail.com
END:VEVENT
BEGIN:VEVENT
DTSTART;TZID=America/Chicago:20240324T153000
DTEND;TZID=America/Chicago:20240324T170000
DTSTAMP:20260421T105031
CREATED:20240314T205102Z
LAST-MODIFIED:20240314T205102Z
UID:10000219-1711294200-1711299600@colfaxsportsmensclub.com
SUMMARY:SCTP TEAM PRACTICE
DESCRIPTION:Live Fire practice with Coaches.
URL:https://colfaxsportsmensclub.com/event/sctp-team-practice/2024-03-24/
LOCATION:Colfax Sportsmen’s Club\, E8498 810th Ave.\, Colfax\, WI\, 54730\, United States
ORGANIZER;CN="Colfax Sportsmen's Club":MAILTO:colfaxsportsmensclub2013@gmail.com
END:VEVENT
BEGIN:VEVENT
DTSTART;TZID=America/Chicago:20240328T130000
DTEND;TZID=America/Chicago:20240328T160000
DTSTAMP:20260421T105031
CREATED:20231216T170448Z
LAST-MODIFIED:20231216T170448Z
UID:10000019-1711630800-1711641600@colfaxsportsmensclub.com
SUMMARY:OPEN FOR PUBLIC SHOOTING
DESCRIPTION:Range Open for Public Shooting from 1:00 PM to 4:00 PM \nFIREARMS MUST BE CASED\nEYE AND EAR PROTECTION REQUIRED\n\nTHANK YOU FOR YOUR COOPERATION!
URL:https://colfaxsportsmensclub.com/event/open-for-public-shooting-2/2024-03-28/
LOCATION:Colfax Sportsmen’s Club\, E8498 810th Ave.\, Colfax\, WI\, 54730\, United States
ORGANIZER;CN="Colfax Sportsmen's Club":MAILTO:colfaxsportsmensclub2013@gmail.com
END:VEVENT
BEGIN:VEVENT
DTSTART;TZID=America/Chicago:20240403T190000
DTEND;TZID=America/Chicago:20240403T210000
DTSTAMP:20260421T105031
CREATED:20231216T172114Z
LAST-MODIFIED:20231216T172114Z
UID:10000031-1712170800-1712178000@colfaxsportsmensclub.com
SUMMARY:MONTHLY CLUB MEETING
DESCRIPTION:Monthly Meetings at the Clubhouse Shooting Range start at 7:00 PM SHARP!  Membership is $40.00 per family per year.  You are welcome to come and visit a meeting to see what we are all about before you decide to join if you wish.  Goodies after the meeting too.
URL:https://colfaxsportsmensclub.com/event/monthly-club-meeting-2/2024-04-03/
LOCATION:Colfax Sportsmen’s Club\, E8498 810th Ave.\, Colfax\, WI\, 54730\, United States
ORGANIZER;CN="Colfax Sportsmen's Club":MAILTO:colfaxsportsmensclub2013@gmail.com
END:VEVENT
BEGIN:VEVENT
DTSTART;TZID=America/Chicago:20240404T130000
DTEND;TZID=America/Chicago:20240404T160000
DTSTAMP:20260421T105031
CREATED:20240429T121407Z
LAST-MODIFIED:20240429T121407Z
UID:10000020-1712235600-1712246400@colfaxsportsmensclub.com
SUMMARY:RANGE CLOSED
DESCRIPTION:Range Closed for Match setup.\n\nTHANK YOU FOR YOUR COOPERATION!
URL:https://colfaxsportsmensclub.com/event/open-for-public-shooting-3-2/
LOCATION:Colfax Sportsmen’s Club\, E8498 810th Ave.\, Colfax\, WI\, 54730\, United States
ORGANIZER;CN="Colfax Sportsmen's Club":MAILTO:colfaxsportsmensclub2013@gmail.com
END:VEVENT
BEGIN:VEVENT
DTSTART;TZID=America/Chicago:20240404T173000
DTEND;TZID=America/Chicago:20240404T203000
DTSTAMP:20260421T105031
CREATED:20231216T202520Z
LAST-MODIFIED:20231216T202520Z
UID:10000049-1712251800-1712262600@colfaxsportsmensclub.com
SUMMARY:WEEKLY STEEL CHALLENGE MATCH
DESCRIPTION:Weekly Colfax Steel Challenge\, Registration is preferred through Practiscore.com if possible\, Walk-in’s welcome.  Check-in and squadding will begin at 5:30PM and shooting will start as close to 6:00PM as possible.  Weekly matches\, we will shoot 4 stages.  On some of the early months we may need to back down to 3 stages to fit them in.\nPlease follow our Facebook page in case there is a match cancelation due to weather. \nhttps://www.facebook.com/ColfaxSpeedShooting/ \n 
URL:https://colfaxsportsmensclub.com/event/weekly-steel-challenge-match/2024-04-04/
LOCATION:Colfax Sportsmen’s Club\, E8498 810th Ave.\, Colfax\, WI\, 54730\, United States
ORGANIZER;CN="Colfax Sportsmen's Club":MAILTO:colfaxsportsmensclub2013@gmail.com
END:VEVENT
BEGIN:VEVENT
DTSTART;TZID=America/Chicago:20240407T130000
DTEND;TZID=America/Chicago:20240407T153000
DTSTAMP:20260421T105031
CREATED:20231231T174610Z
LAST-MODIFIED:20231231T174610Z
UID:10000141-1712494800-1712503800@colfaxsportsmensclub.com
SUMMARY:SASP TEAM PRACTICE
DESCRIPTION:Live Fire practice with Coaches.
URL:https://colfaxsportsmensclub.com/event/sasp-team-practice/2024-04-07/
LOCATION:Colfax Sportsmen’s Club\, E8498 810th Ave.\, Colfax\, WI\, 54730\, United States
ORGANIZER;CN="Colfax Sportsmen's Club":MAILTO:colfaxsportsmensclub2013@gmail.com
END:VEVENT
BEGIN:VEVENT
DTSTART;TZID=America/Chicago:20240407T153000
DTEND;TZID=America/Chicago:20240407T170000
DTSTAMP:20260421T105031
CREATED:20240314T205102Z
LAST-MODIFIED:20240314T205102Z
UID:10000220-1712503800-1712509200@colfaxsportsmensclub.com
SUMMARY:SCTP TEAM PRACTICE
DESCRIPTION:Live Fire practice with Coaches.
URL:https://colfaxsportsmensclub.com/event/sctp-team-practice/2024-04-07/
LOCATION:Colfax Sportsmen’s Club\, E8498 810th Ave.\, Colfax\, WI\, 54730\, United States
ORGANIZER;CN="Colfax Sportsmen's Club":MAILTO:colfaxsportsmensclub2013@gmail.com
END:VEVENT
BEGIN:VEVENT
DTSTART;TZID=America/Chicago:20240408T170000
DTEND;TZID=America/Chicago:20240408T220000
DTSTAMP:20260421T105031
CREATED:20240226T002949Z
LAST-MODIFIED:20240226T002949Z
UID:10000187-1712595600-1712613600@colfaxsportsmensclub.com
SUMMARY:OPEN TRAP
DESCRIPTION:We shoot open trap at this time; we will run standard and the crew running it will throw a few wobbler rounds in per night. We do not have any leagues; we just shoot for fun! \nThe cost is $5.00 per round of 25\,\nWE ALSO SHOOT DOUBLES\, THE COST: IS $10.00 PER ROUND OF 50. \nWe will base the hours off the sunset.
URL:https://colfaxsportsmensclub.com/event/open-trap/2024-04-08/
LOCATION:Colfax Sportsmen’s Club\, E8498 810th Ave.\, Colfax\, WI\, 54730\, United States
ORGANIZER;CN="Colfax Sportsmen's Club":MAILTO:colfaxsportsmensclub2013@gmail.com
END:VEVENT
BEGIN:VEVENT
DTSTART;TZID=America/Chicago:20240411T130000
DTEND;TZID=America/Chicago:20240411T160000
DTSTAMP:20260421T105031
CREATED:20231216T171150Z
LAST-MODIFIED:20231216T171150Z
UID:10000021-1712840400-1712851200@colfaxsportsmensclub.com
SUMMARY:OPEN FOR PUBLIC SHOOTING
DESCRIPTION:Range Open for Public Shooting from 1:00 PM to 4:00 PM \nFIREARMS MUST BE CASED\nEYE AND EAR PROTECTION REQUIRED\n\nTHANK YOU FOR YOUR COOPERATION!
URL:https://colfaxsportsmensclub.com/event/open-for-public-shooting-3/2024-04-11/
LOCATION:Colfax Sportsmen’s Club\, E8498 810th Ave.\, Colfax\, WI\, 54730\, United States
ORGANIZER;CN="Colfax Sportsmen's Club":MAILTO:colfaxsportsmensclub2013@gmail.com
END:VEVENT
BEGIN:VEVENT
DTSTART;TZID=America/Chicago:20240411T173000
DTEND;TZID=America/Chicago:20240411T203000
DTSTAMP:20260421T105031
CREATED:20231216T202520Z
LAST-MODIFIED:20231216T202520Z
UID:10000050-1712856600-1712867400@colfaxsportsmensclub.com
SUMMARY:WEEKLY STEEL CHALLENGE MATCH
DESCRIPTION:Weekly Colfax Steel Challenge\, Registration is preferred through Practiscore.com if possible\, Walk-in’s welcome.  Check-in and squadding will begin at 5:30PM and shooting will start as close to 6:00PM as possible.  Weekly matches\, we will shoot 4 stages.  On some of the early months we may need to back down to 3 stages to fit them in.\nPlease follow our Facebook page in case there is a match cancelation due to weather. \nhttps://www.facebook.com/ColfaxSpeedShooting/ \n 
URL:https://colfaxsportsmensclub.com/event/weekly-steel-challenge-match/2024-04-11/
LOCATION:Colfax Sportsmen’s Club\, E8498 810th Ave.\, Colfax\, WI\, 54730\, United States
ORGANIZER;CN="Colfax Sportsmen's Club":MAILTO:colfaxsportsmensclub2013@gmail.com
END:VEVENT
BEGIN:VEVENT
DTSTART;TZID=America/Chicago:20240414T130000
DTEND;TZID=America/Chicago:20240414T153000
DTSTAMP:20260421T105031
CREATED:20231231T174610Z
LAST-MODIFIED:20231231T174610Z
UID:10000142-1713099600-1713108600@colfaxsportsmensclub.com
SUMMARY:SASP TEAM PRACTICE
DESCRIPTION:Live Fire practice with Coaches.
URL:https://colfaxsportsmensclub.com/event/sasp-team-practice/2024-04-14/
LOCATION:Colfax Sportsmen’s Club\, E8498 810th Ave.\, Colfax\, WI\, 54730\, United States
ORGANIZER;CN="Colfax Sportsmen's Club":MAILTO:colfaxsportsmensclub2013@gmail.com
END:VEVENT
BEGIN:VEVENT
DTSTART;TZID=America/Chicago:20240414T153000
DTEND;TZID=America/Chicago:20240414T170000
DTSTAMP:20260421T105031
CREATED:20240314T205102Z
LAST-MODIFIED:20240314T205102Z
UID:10000221-1713108600-1713114000@colfaxsportsmensclub.com
SUMMARY:SCTP TEAM PRACTICE
DESCRIPTION:Live Fire practice with Coaches.
URL:https://colfaxsportsmensclub.com/event/sctp-team-practice/2024-04-14/
LOCATION:Colfax Sportsmen’s Club\, E8498 810th Ave.\, Colfax\, WI\, 54730\, United States
ORGANIZER;CN="Colfax Sportsmen's Club":MAILTO:colfaxsportsmensclub2013@gmail.com
END:VEVENT
BEGIN:VEVENT
DTSTART;TZID=America/Chicago:20240415T170000
DTEND;TZID=America/Chicago:20240415T220000
DTSTAMP:20260421T105031
CREATED:20240226T002949Z
LAST-MODIFIED:20240226T002949Z
UID:10000188-1713200400-1713218400@colfaxsportsmensclub.com
SUMMARY:OPEN TRAP
DESCRIPTION:We shoot open trap at this time; we will run standard and the crew running it will throw a few wobbler rounds in per night. We do not have any leagues; we just shoot for fun! \nThe cost is $5.00 per round of 25\,\nWE ALSO SHOOT DOUBLES\, THE COST: IS $10.00 PER ROUND OF 50. \nWe will base the hours off the sunset.
URL:https://colfaxsportsmensclub.com/event/open-trap/2024-04-15/
LOCATION:Colfax Sportsmen’s Club\, E8498 810th Ave.\, Colfax\, WI\, 54730\, United States
ORGANIZER;CN="Colfax Sportsmen's Club":MAILTO:colfaxsportsmensclub2013@gmail.com
END:VEVENT
BEGIN:VEVENT
DTSTART;TZID=America/Chicago:20240418T130000
DTEND;TZID=America/Chicago:20240418T160000
DTSTAMP:20260421T105031
CREATED:20231216T171150Z
LAST-MODIFIED:20231216T171150Z
UID:10000022-1713445200-1713456000@colfaxsportsmensclub.com
SUMMARY:OPEN FOR PUBLIC SHOOTING
DESCRIPTION:Range Open for Public Shooting from 1:00 PM to 4:00 PM \nFIREARMS MUST BE CASED\nEYE AND EAR PROTECTION REQUIRED\n\nTHANK YOU FOR YOUR COOPERATION!
URL:https://colfaxsportsmensclub.com/event/open-for-public-shooting-3/2024-04-18/
LOCATION:Colfax Sportsmen’s Club\, E8498 810th Ave.\, Colfax\, WI\, 54730\, United States
ORGANIZER;CN="Colfax Sportsmen's Club":MAILTO:colfaxsportsmensclub2013@gmail.com
END:VEVENT
BEGIN:VEVENT
DTSTART;TZID=America/Chicago:20240418T173000
DTEND;TZID=America/Chicago:20240418T203000
DTSTAMP:20260421T105031
CREATED:20231216T202520Z
LAST-MODIFIED:20231216T202520Z
UID:10000051-1713461400-1713472200@colfaxsportsmensclub.com
SUMMARY:WEEKLY STEEL CHALLENGE MATCH
DESCRIPTION:Weekly Colfax Steel Challenge\, Registration is preferred through Practiscore.com if possible\, Walk-in’s welcome.  Check-in and squadding will begin at 5:30PM and shooting will start as close to 6:00PM as possible.  Weekly matches\, we will shoot 4 stages.  On some of the early months we may need to back down to 3 stages to fit them in.\nPlease follow our Facebook page in case there is a match cancelation due to weather. \nhttps://www.facebook.com/ColfaxSpeedShooting/ \n 
URL:https://colfaxsportsmensclub.com/event/weekly-steel-challenge-match/2024-04-18/
LOCATION:Colfax Sportsmen’s Club\, E8498 810th Ave.\, Colfax\, WI\, 54730\, United States
ORGANIZER;CN="Colfax Sportsmen's Club":MAILTO:colfaxsportsmensclub2013@gmail.com
END:VEVENT
BEGIN:VEVENT
DTSTART;TZID=America/Chicago:20240421T080000
DTEND;TZID=America/Chicago:20240421T160000
DTSTAMP:20260421T105031
CREATED:20231231T163644Z
LAST-MODIFIED:20231231T181136Z
UID:10000099-1713686400-1713715200@colfaxsportsmensclub.com
SUMMARY:COLFAX APRIL NRL22 COF
DESCRIPTION:Colfax Sportsmen’s Club Monthly NRL22 COF. We will shoot the 5 designated NRL22 Monthly stages with the possibility of a bonus stage or two. Registration fee and discounts can be found below. Check-in and zero range will run from 8:00am – 9:00am. Match starts at 9:00am. This match is open to the public\, there is no requirement to be a Colfax Sportsmen’s Club member to compete. Payment through Practiscore is preferred but we will also allow payment at registration for this match. Squads may be adjusted the day of the match to even them out and or split to save time.
URL:https://colfaxsportsmensclub.com/event/colfax-april-nrl22-cof/
LOCATION:Colfax Sportsmen’s Club\, E8498 810th Ave.\, Colfax\, WI\, 54730\, United States
ORGANIZER;CN="Colfax Sportsmen's Club":MAILTO:colfaxsportsmensclub2013@gmail.com
END:VEVENT
BEGIN:VEVENT
DTSTART;TZID=America/Chicago:20240421T130000
DTEND;TZID=America/Chicago:20240421T153000
DTSTAMP:20260421T105031
CREATED:20231231T174610Z
LAST-MODIFIED:20231231T174610Z
UID:10000143-1713704400-1713713400@colfaxsportsmensclub.com
SUMMARY:SASP TEAM PRACTICE
DESCRIPTION:Live Fire practice with Coaches.
URL:https://colfaxsportsmensclub.com/event/sasp-team-practice/2024-04-21/
LOCATION:Colfax Sportsmen’s Club\, E8498 810th Ave.\, Colfax\, WI\, 54730\, United States
ORGANIZER;CN="Colfax Sportsmen's Club":MAILTO:colfaxsportsmensclub2013@gmail.com
END:VEVENT
BEGIN:VEVENT
DTSTART;TZID=America/Chicago:20240421T153000
DTEND;TZID=America/Chicago:20240421T170000
DTSTAMP:20260421T105031
CREATED:20240314T205102Z
LAST-MODIFIED:20240314T205102Z
UID:10000222-1713713400-1713718800@colfaxsportsmensclub.com
SUMMARY:SCTP TEAM PRACTICE
DESCRIPTION:Live Fire practice with Coaches.
URL:https://colfaxsportsmensclub.com/event/sctp-team-practice/2024-04-21/
LOCATION:Colfax Sportsmen’s Club\, E8498 810th Ave.\, Colfax\, WI\, 54730\, United States
ORGANIZER;CN="Colfax Sportsmen's Club":MAILTO:colfaxsportsmensclub2013@gmail.com
END:VEVENT
END:VCALENDAR