BEGIN:VCALENDAR
VERSION:2.0
PRODID:-//Colfax Sportsmens Club, Inc - ECPv6.15.20//NONSGML v1.0//EN
CALSCALE:GREGORIAN
METHOD:PUBLISH
X-WR-CALNAME:Colfax Sportsmens Club, Inc
X-ORIGINAL-URL:https://colfaxsportsmensclub.com
X-WR-CALDESC:Events for Colfax Sportsmens Club, Inc
REFRESH-INTERVAL;VALUE=DURATION:PT1H
X-Robots-Tag:noindex
X-PUBLISHED-TTL:PT1H
BEGIN:VTIMEZONE
TZID:America/Chicago
BEGIN:DAYLIGHT
TZOFFSETFROM:-0600
TZOFFSETTO:-0500
TZNAME:CDT
DTSTART:20240310T080000
END:DAYLIGHT
BEGIN:STANDARD
TZOFFSETFROM:-0500
TZOFFSETTO:-0600
TZNAME:CST
DTSTART:20241103T070000
END:STANDARD
BEGIN:DAYLIGHT
TZOFFSETFROM:-0600
TZOFFSETTO:-0500
TZNAME:CDT
DTSTART:20250309T080000
END:DAYLIGHT
BEGIN:STANDARD
TZOFFSETFROM:-0500
TZOFFSETTO:-0600
TZNAME:CST
DTSTART:20251102T070000
END:STANDARD
BEGIN:DAYLIGHT
TZOFFSETFROM:-0600
TZOFFSETTO:-0500
TZNAME:CDT
DTSTART:20260308T080000
END:DAYLIGHT
BEGIN:STANDARD
TZOFFSETFROM:-0500
TZOFFSETTO:-0600
TZNAME:CST
DTSTART:20261101T070000
END:STANDARD
END:VTIMEZONE
BEGIN:VEVENT
DTSTART;TZID=America/Chicago:20251118T080000
DTEND;TZID=America/Chicago:20251118T160000
DTSTAMP:20260421T141410
CREATED:20251106T230924Z
LAST-MODIFIED:20251106T230924Z
UID:10000509-1763452800-1763481600@colfaxsportsmensclub.com
SUMMARY:OPEN FOR PUBLIC SHOOTING
DESCRIPTION:Range Open for Public Shooting from 8:00AM to 4:00PM\nFIREARMS MUST BE CASED\nEYE AND EAR PROTECTION REQUIRED\n\nTHANK YOU FOR YOUR COOPERATION!
URL:https://colfaxsportsmensclub.com/event/open-for-public-shooting-21/2025-11-18/
LOCATION:Colfax Sportsmen’s Club\, E8498 810th Ave.\, Colfax\, WI\, 54730\, United States
ORGANIZER;CN="Colfax Sportsmen's Club":MAILTO:colfaxsportsmensclub2013@gmail.com
END:VEVENT
BEGIN:VEVENT
DTSTART;TZID=America/Chicago:20251117T100000
DTEND;TZID=America/Chicago:20251117T160000
DTSTAMP:20260421T141410
CREATED:20251106T230807Z
LAST-MODIFIED:20251106T230807Z
UID:10000507-1763373600-1763395200@colfaxsportsmensclub.com
SUMMARY:OPEN FOR PUBLIC SHOOTING
DESCRIPTION:Range Open for Public Shooting from 10:00AM to 4:00PM\nFIREARMS MUST BE CASED\nEYE AND EAR PROTECTION REQUIRED\n\nTHANK YOU FOR YOUR COOPERATION!
URL:https://colfaxsportsmensclub.com/event/open-for-public-shooting-20/2025-11-17/
LOCATION:Colfax Sportsmen’s Club\, E8498 810th Ave.\, Colfax\, WI\, 54730\, United States
ORGANIZER;CN="Colfax Sportsmen's Club":MAILTO:colfaxsportsmensclub2013@gmail.com
END:VEVENT
BEGIN:VEVENT
DTSTART;TZID=America/Chicago:20251116T080000
DTEND;TZID=America/Chicago:20251116T160000
DTSTAMP:20260421T141410
CREATED:20241208T223708Z
LAST-MODIFIED:20241208T223708Z
UID:10000299-1763280000-1763308800@colfaxsportsmensclub.com
SUMMARY:COLFAX NOVEMBER NRL22 COF
DESCRIPTION:Colfax Sportsmen’s Club Monthly NRL22 COF. We will shoot the 5 designated NRL22 Monthly stages with the possibility of a bonus stage or two. Registration fee and discounts can be found below. Check-in and zero range will run from 8:00am – 9:00am. Match starts at 9:00am. This match is open to the public\, there is no requirement to be a Colfax Sportsmen’s Club member to compete. Payment through Practiscore is preferred but we will also allow payment at registration for this match. Squads may be adjusted the day of the match to even them out and or split to save time.
URL:https://colfaxsportsmensclub.com/event/colfax-november-nrl22-cof-2/
LOCATION:Colfax Sportsmen’s Club\, E8498 810th Ave.\, Colfax\, WI\, 54730\, United States
ORGANIZER;CN="Colfax Sportsmen's Club":MAILTO:colfaxsportsmensclub2013@gmail.com
END:VEVENT
BEGIN:VEVENT
DTSTART;TZID=America/Chicago:20251115T100000
DTEND;TZID=America/Chicago:20251115T150000
DTSTAMP:20260421T141410
CREATED:20250929T101153Z
LAST-MODIFIED:20250929T101153Z
UID:10000500-1763200800-1763218800@colfaxsportsmensclub.com
SUMMARY:RANGE OPEN TO THE PUBLIC
DESCRIPTION:RANGE OPEN TO THE PUBLIC
URL:https://colfaxsportsmensclub.com/event/range-open-to-the-public/2025-11-15/
LOCATION:Colfax Sportsmen’s Club\, E8498 810th Ave.\, Colfax\, WI\, 54730\, United States
ORGANIZER;CN="Colfax Sportsmen's Club":MAILTO:colfaxsportsmensclub2013@gmail.com
END:VEVENT
BEGIN:VEVENT
DTSTART;TZID=America/Chicago:20251113T130000
DTEND;TZID=America/Chicago:20251113T160000
DTSTAMP:20260421T141410
CREATED:20241208T230349Z
LAST-MODIFIED:20241208T230349Z
UID:10000346-1763038800-1763049600@colfaxsportsmensclub.com
SUMMARY:OPEN FOR PUBLIC SHOOTING
DESCRIPTION:Range Open for Public Shooting from 1:00PM to 4:00PM \nFIREARMS MUST BE CASED\nEYE AND EAR PROTECTION REQUIRED\n\nTHANK YOU FOR YOUR COOPERATION!
URL:https://colfaxsportsmensclub.com/event/open-for-public-shooting-16/2025-11-13/
LOCATION:Colfax Sportsmen’s Club\, E8498 810th Ave.\, Colfax\, WI\, 54730\, United States
ORGANIZER;CN="Colfax Sportsmen's Club":MAILTO:colfaxsportsmensclub2013@gmail.com
END:VEVENT
BEGIN:VEVENT
DTSTART;TZID=America/Chicago:20251111T110000
DTEND;TZID=America/Chicago:20251111T150000
DTSTAMP:20260421T141410
CREATED:20251028T102913Z
LAST-MODIFIED:20251028T102913Z
UID:10000504-1762858800-1762873200@colfaxsportsmensclub.com
SUMMARY:OPEN FOR PUBLIC SHOOTING
DESCRIPTION:Range Open for Public Shooting from 11:00AM to 3:00PM\nFIREARMS MUST BE CASED\nEYE AND EAR PROTECTION REQUIRED\n\nTHANK YOU FOR YOUR COOPERATION!
URL:https://colfaxsportsmensclub.com/event/open-for-public-shooting-18/2025-11-11/
LOCATION:Colfax Sportsmen’s Club\, E8498 810th Ave.\, Colfax\, WI\, 54730\, United States
ORGANIZER;CN="Colfax Sportsmen's Club":MAILTO:colfaxsportsmensclub2013@gmail.com
END:VEVENT
BEGIN:VEVENT
DTSTART;TZID=America/Chicago:20251109T110000
DTEND;TZID=America/Chicago:20251109T150000
DTSTAMP:20260421T141410
CREATED:20251106T230602Z
LAST-MODIFIED:20251106T230602Z
UID:10000506-1762686000-1762700400@colfaxsportsmensclub.com
SUMMARY:OPEN FOR PUBLIC SHOOTING
DESCRIPTION:Range Open for Public Shooting from 11:00AM to 3:00PM\nFIREARMS MUST BE CASED\nEYE AND EAR PROTECTION REQUIRED\n\nTHANK YOU FOR YOUR COOPERATION!
URL:https://colfaxsportsmensclub.com/event/open-for-public-shooting-19/
LOCATION:Colfax Sportsmen’s Club\, E8498 810th Ave.\, Colfax\, WI\, 54730\, United States
ORGANIZER;CN="Colfax Sportsmen's Club":MAILTO:colfaxsportsmensclub2013@gmail.com
END:VEVENT
BEGIN:VEVENT
DTSTART;TZID=America/Chicago:20251108T100000
DTEND;TZID=America/Chicago:20251108T150000
DTSTAMP:20260421T141410
CREATED:20250929T101153Z
LAST-MODIFIED:20250929T101153Z
UID:10000499-1762596000-1762614000@colfaxsportsmensclub.com
SUMMARY:RANGE OPEN TO THE PUBLIC
DESCRIPTION:RANGE OPEN TO THE PUBLIC
URL:https://colfaxsportsmensclub.com/event/range-open-to-the-public/2025-11-08/
LOCATION:Colfax Sportsmen’s Club\, E8498 810th Ave.\, Colfax\, WI\, 54730\, United States
ORGANIZER;CN="Colfax Sportsmen's Club":MAILTO:colfaxsportsmensclub2013@gmail.com
END:VEVENT
BEGIN:VEVENT
DTSTART;TZID=America/Chicago:20251106T130000
DTEND;TZID=America/Chicago:20251106T160000
DTSTAMP:20260421T141410
CREATED:20241208T230349Z
LAST-MODIFIED:20241208T230349Z
UID:10000345-1762434000-1762444800@colfaxsportsmensclub.com
SUMMARY:OPEN FOR PUBLIC SHOOTING
DESCRIPTION:Range Open for Public Shooting from 1:00PM to 4:00PM \nFIREARMS MUST BE CASED\nEYE AND EAR PROTECTION REQUIRED\n\nTHANK YOU FOR YOUR COOPERATION!
URL:https://colfaxsportsmensclub.com/event/open-for-public-shooting-16/2025-11-06/
LOCATION:Colfax Sportsmen’s Club\, E8498 810th Ave.\, Colfax\, WI\, 54730\, United States
ORGANIZER;CN="Colfax Sportsmen's Club":MAILTO:colfaxsportsmensclub2013@gmail.com
END:VEVENT
BEGIN:VEVENT
DTSTART;TZID=America/Chicago:20251105T190000
DTEND;TZID=America/Chicago:20251105T210000
DTSTAMP:20260421T141410
CREATED:20241208T221838Z
LAST-MODIFIED:20241208T221838Z
UID:10000287-1762369200-1762376400@colfaxsportsmensclub.com
SUMMARY:MONTHLY CLUB MEETING
DESCRIPTION:Monthly Meetings at the Clubhouse Shooting Range start at 7:00 PM SHARP!   \nMembership is $40.00 per family per year.   \nYou are welcome to come and visit a meeting to see what we are all about before you decide to join if you wish.   \nGoodies after the meeting too.
URL:https://colfaxsportsmensclub.com/event/monthly-club-meeting-3/2025-11-05/
LOCATION:Colfax Sportsmen’s Club\, E8498 810th Ave.\, Colfax\, WI\, 54730\, United States
ORGANIZER;CN="Colfax Sportsmen's Club":MAILTO:colfaxsportsmensclub2013@gmail.com
END:VEVENT
BEGIN:VEVENT
DTSTART;TZID=America/Chicago:20251104T110000
DTEND;TZID=America/Chicago:20251104T150000
DTSTAMP:20260421T141410
CREATED:20251028T102913Z
LAST-MODIFIED:20251028T102913Z
UID:10000503-1762254000-1762268400@colfaxsportsmensclub.com
SUMMARY:OPEN FOR PUBLIC SHOOTING
DESCRIPTION:Range Open for Public Shooting from 11:00AM to 3:00PM\nFIREARMS MUST BE CASED\nEYE AND EAR PROTECTION REQUIRED\n\nTHANK YOU FOR YOUR COOPERATION!
URL:https://colfaxsportsmensclub.com/event/open-for-public-shooting-18/2025-11-04/
LOCATION:Colfax Sportsmen’s Club\, E8498 810th Ave.\, Colfax\, WI\, 54730\, United States
ORGANIZER;CN="Colfax Sportsmen's Club":MAILTO:colfaxsportsmensclub2013@gmail.com
END:VEVENT
BEGIN:VEVENT
DTSTART;TZID=America/Chicago:20251101T100000
DTEND;TZID=America/Chicago:20251101T150000
DTSTAMP:20260421T141410
CREATED:20250929T101153Z
LAST-MODIFIED:20250929T101153Z
UID:10000498-1761991200-1762009200@colfaxsportsmensclub.com
SUMMARY:RANGE OPEN TO THE PUBLIC
DESCRIPTION:RANGE OPEN TO THE PUBLIC
URL:https://colfaxsportsmensclub.com/event/range-open-to-the-public/2025-11-01/
LOCATION:Colfax Sportsmen’s Club\, E8498 810th Ave.\, Colfax\, WI\, 54730\, United States
ORGANIZER;CN="Colfax Sportsmen's Club":MAILTO:colfaxsportsmensclub2013@gmail.com
END:VEVENT
BEGIN:VEVENT
DTSTART;TZID=America/Chicago:20251030T130000
DTEND;TZID=America/Chicago:20251030T160000
DTSTAMP:20260421T141410
CREATED:20241208T230349Z
LAST-MODIFIED:20241208T230349Z
UID:10000344-1761829200-1761840000@colfaxsportsmensclub.com
SUMMARY:OPEN FOR PUBLIC SHOOTING
DESCRIPTION:Range Open for Public Shooting from 1:00PM to 4:00PM \nFIREARMS MUST BE CASED\nEYE AND EAR PROTECTION REQUIRED\n\nTHANK YOU FOR YOUR COOPERATION!
URL:https://colfaxsportsmensclub.com/event/open-for-public-shooting-16/2025-10-30/
LOCATION:Colfax Sportsmen’s Club\, E8498 810th Ave.\, Colfax\, WI\, 54730\, United States
ORGANIZER;CN="Colfax Sportsmen's Club":MAILTO:colfaxsportsmensclub2013@gmail.com
END:VEVENT
BEGIN:VEVENT
DTSTART;TZID=America/Chicago:20251028T110000
DTEND;TZID=America/Chicago:20251028T150000
DTSTAMP:20260421T141410
CREATED:20251028T102913Z
LAST-MODIFIED:20251028T102913Z
UID:10000502-1761649200-1761663600@colfaxsportsmensclub.com
SUMMARY:OPEN FOR PUBLIC SHOOTING
DESCRIPTION:Range Open for Public Shooting from 11:00AM to 3:00PM\nFIREARMS MUST BE CASED\nEYE AND EAR PROTECTION REQUIRED\n\nTHANK YOU FOR YOUR COOPERATION!
URL:https://colfaxsportsmensclub.com/event/open-for-public-shooting-18/2025-10-28/
LOCATION:Colfax Sportsmen’s Club\, E8498 810th Ave.\, Colfax\, WI\, 54730\, United States
ORGANIZER;CN="Colfax Sportsmen's Club":MAILTO:colfaxsportsmensclub2013@gmail.com
END:VEVENT
BEGIN:VEVENT
DTSTART;TZID=America/Chicago:20251023T130000
DTEND;TZID=America/Chicago:20251023T160000
DTSTAMP:20260421T141410
CREATED:20241208T230349Z
LAST-MODIFIED:20241208T230349Z
UID:10000343-1761224400-1761235200@colfaxsportsmensclub.com
SUMMARY:OPEN FOR PUBLIC SHOOTING
DESCRIPTION:Range Open for Public Shooting from 1:00PM to 4:00PM \nFIREARMS MUST BE CASED\nEYE AND EAR PROTECTION REQUIRED\n\nTHANK YOU FOR YOUR COOPERATION!
URL:https://colfaxsportsmensclub.com/event/open-for-public-shooting-16/2025-10-23/
LOCATION:Colfax Sportsmen’s Club\, E8498 810th Ave.\, Colfax\, WI\, 54730\, United States
ORGANIZER;CN="Colfax Sportsmen's Club":MAILTO:colfaxsportsmensclub2013@gmail.com
END:VEVENT
BEGIN:VEVENT
DTSTART;TZID=America/Chicago:20251019T080000
DTEND;TZID=America/Chicago:20251019T160000
DTSTAMP:20260421T141410
CREATED:20241208T223557Z
LAST-MODIFIED:20241208T223557Z
UID:10000298-1760860800-1760889600@colfaxsportsmensclub.com
SUMMARY:COLFAX OCTOBER NRL22 COF
DESCRIPTION:Colfax Sportsmen’s Club Monthly NRL22 COF. We will shoot the 5 designated NRL22 Monthly stages with the possibility of a bonus stage or two. Registration fee and discounts can be found below. Check-in and zero range will run from 8:00am – 9:00am. Match starts at 9:00am. This match is open to the public\, there is no requirement to be a Colfax Sportsmen’s Club member to compete. Payment through Practiscore is preferred but we will also allow payment at registration for this match. Squads may be adjusted the day of the match to even them out and or split to save time.
URL:https://colfaxsportsmensclub.com/event/colfax-october-nrl22-cof-2/
LOCATION:Colfax Sportsmen’s Club\, E8498 810th Ave.\, Colfax\, WI\, 54730\, United States
ORGANIZER;CN="Colfax Sportsmen's Club":MAILTO:colfaxsportsmensclub2013@gmail.com
END:VEVENT
BEGIN:VEVENT
DTSTART;TZID=America/Chicago:20251018T080000
DTEND;TZID=America/Chicago:20251018T160000
DTSTAMP:20260421T141410
CREATED:20241209T004552Z
LAST-MODIFIED:20241209T004552Z
UID:10000396-1760774400-1760803200@colfaxsportsmensclub.com
SUMMARY:BOWLING PIN SHOOT FINALE
DESCRIPTION:Registration is 8:00 AM – 9:00 AM\, matches start at 9:30 AM\, rain or shine\, bathroom\, and concessions on site. Dress appropriately for the weather. All are welcome to join in. There is no requirement to be a club member to participate.
URL:https://colfaxsportsmensclub.com/event/bowling-pin-shoot-finale-2/
LOCATION:Colfax Sportsmen’s Club\, E8498 810th Ave.\, Colfax\, WI\, 54730\, United States
ORGANIZER;CN="Colfax Sportsmen's Club":MAILTO:colfaxsportsmensclub2013@gmail.com
END:VEVENT
BEGIN:VEVENT
DTSTART;VALUE=DATE:20251017
DTEND;VALUE=DATE:20251018
DTSTAMP:20260421T141410
CREATED:20251001T234810Z
LAST-MODIFIED:20251001T234810Z
UID:10000501-1760659200-1760745599@colfaxsportsmensclub.com
SUMMARY:RANGE CLOSED
DESCRIPTION:Range Closed for Event set-up.
URL:https://colfaxsportsmensclub.com/event/range-closed-10/
LOCATION:Colfax Sportsmen’s Club\, E8498 810th Ave.\, Colfax\, WI\, 54730\, United States
ORGANIZER;CN="Colfax Sportsmen's Club":MAILTO:colfaxsportsmensclub2013@gmail.com
END:VEVENT
BEGIN:VEVENT
DTSTART;TZID=America/Chicago:20251016T130000
DTEND;TZID=America/Chicago:20251016T160000
DTSTAMP:20260421T141410
CREATED:20241208T230349Z
LAST-MODIFIED:20241208T230349Z
UID:10000342-1760619600-1760630400@colfaxsportsmensclub.com
SUMMARY:OPEN FOR PUBLIC SHOOTING
DESCRIPTION:Range Open for Public Shooting from 1:00PM to 4:00PM \nFIREARMS MUST BE CASED\nEYE AND EAR PROTECTION REQUIRED\n\nTHANK YOU FOR YOUR COOPERATION!
URL:https://colfaxsportsmensclub.com/event/open-for-public-shooting-16/2025-10-16/
LOCATION:Colfax Sportsmen’s Club\, E8498 810th Ave.\, Colfax\, WI\, 54730\, United States
ORGANIZER;CN="Colfax Sportsmen's Club":MAILTO:colfaxsportsmensclub2013@gmail.com
END:VEVENT
BEGIN:VEVENT
DTSTART;TZID=America/Chicago:20251013T170000
DTEND;TZID=America/Chicago:20251013T220000
DTSTAMP:20260421T141410
CREATED:20250112T155831Z
LAST-MODIFIED:20250112T155831Z
UID:10000466-1760374800-1760392800@colfaxsportsmensclub.com
SUMMARY:OPEN TRAP
DESCRIPTION:We shoot Open Trap at this time; we will run standard and the crew running it will throw a few Wobbler rounds in per night. We do not have any leagues; we just shoot for fun! \nThe cost is $5.00 per round of 25\,\nWE ALSO SHOOT DOUBLES\, THE COST: IS $10.00 PER ROUND OF 50. \nWe will base the hours off the sunset.
URL:https://colfaxsportsmensclub.com/event/open-trap-3/2025-10-13/
LOCATION:Colfax Sportsmen’s Club\, E8498 810th Ave.\, Colfax\, WI\, 54730\, United States
ORGANIZER;CN="Colfax Sportsmen's Club":MAILTO:colfaxsportsmensclub2013@gmail.com
END:VEVENT
BEGIN:VEVENT
DTSTART;TZID=America/Chicago:20251011T073000
DTEND;TZID=America/Chicago:20251011T160000
DTSTAMP:20260421T141410
CREATED:20241215T172827Z
LAST-MODIFIED:20250105T214106Z
UID:10000401-1760167800-1760198400@colfaxsportsmensclub.com
SUMMARY:COLFAX OCTOBER - SPEED FREAK RIMFIRE MONTHLY MATCH - POTLUCK
DESCRIPTION:During the Colfax Speed Freak Rimfire Monthly match we will shoot 4-6 unique stages.  This match will test competitors with stages where there are between 3 and 8 targets\, on some stages your worst strings will not be dropped.  Stages will be 3-5 strings.  The true intention of this type of match is to make it easy enough for new and existing gun owners who don’t have or cannot afford a large inventory of magazines for their guns; or don’t have both a pistol and rifle in 22LR\, involved in the shooting sports.  Making events such as this centered around family\, fun\, and education is our goal here at Colfax Sportsmen’s Club.  \nThere are four (6) Divisions: Optics Pistol\, Optics Rifle\, Irons Pistol\, and Irons Rifle\, Optics Revolver and Irons Revolver.
URL:https://colfaxsportsmensclub.com/event/colfax-october-speed-freak-rimfire-monthly-match-potluck/
LOCATION:Colfax Sportsmen’s Club\, E8498 810th Ave.\, Colfax\, WI\, 54730\, United States
ORGANIZER;CN="Colfax Sportsmen's Club":MAILTO:colfaxsportsmensclub2013@gmail.com
END:VEVENT
BEGIN:VEVENT
DTSTART;VALUE=DATE:20251010
DTEND;VALUE=DATE:20251011
DTSTAMP:20260421T141410
CREATED:20241215T173935Z
LAST-MODIFIED:20241215T173935Z
UID:10000407-1760083200-1760115600@colfaxsportsmensclub.com
SUMMARY:RANGE CLOSED
DESCRIPTION:Range Closed for Event set-up.
URL:https://colfaxsportsmensclub.com/event/range-closed-2/2025-10-10/
LOCATION:Colfax Sportsmen’s Club\, E8498 810th Ave.\, Colfax\, WI\, 54730\, United States
ORGANIZER;CN="Colfax Sportsmen's Club":MAILTO:colfaxsportsmensclub2013@gmail.com
END:VEVENT
BEGIN:VEVENT
DTSTART;TZID=America/Chicago:20251009T130000
DTEND;TZID=America/Chicago:20251009T160000
DTSTAMP:20260421T141410
CREATED:20241208T230349Z
LAST-MODIFIED:20241208T230349Z
UID:10000341-1760014800-1760025600@colfaxsportsmensclub.com
SUMMARY:OPEN FOR PUBLIC SHOOTING
DESCRIPTION:Range Open for Public Shooting from 1:00PM to 4:00PM \nFIREARMS MUST BE CASED\nEYE AND EAR PROTECTION REQUIRED\n\nTHANK YOU FOR YOUR COOPERATION!
URL:https://colfaxsportsmensclub.com/event/open-for-public-shooting-16/2025-10-09/
LOCATION:Colfax Sportsmen’s Club\, E8498 810th Ave.\, Colfax\, WI\, 54730\, United States
ORGANIZER;CN="Colfax Sportsmen's Club":MAILTO:colfaxsportsmensclub2013@gmail.com
END:VEVENT
BEGIN:VEVENT
DTSTART;TZID=America/Chicago:20251006T170000
DTEND;TZID=America/Chicago:20251006T220000
DTSTAMP:20260421T141410
CREATED:20250112T155831Z
LAST-MODIFIED:20250112T155831Z
UID:10000465-1759770000-1759788000@colfaxsportsmensclub.com
SUMMARY:OPEN TRAP
DESCRIPTION:We shoot Open Trap at this time; we will run standard and the crew running it will throw a few Wobbler rounds in per night. We do not have any leagues; we just shoot for fun! \nThe cost is $5.00 per round of 25\,\nWE ALSO SHOOT DOUBLES\, THE COST: IS $10.00 PER ROUND OF 50. \nWe will base the hours off the sunset.
URL:https://colfaxsportsmensclub.com/event/open-trap-3/2025-10-06/
LOCATION:Colfax Sportsmen’s Club\, E8498 810th Ave.\, Colfax\, WI\, 54730\, United States
ORGANIZER;CN="Colfax Sportsmen's Club":MAILTO:colfaxsportsmensclub2013@gmail.com
END:VEVENT
BEGIN:VEVENT
DTSTART;TZID=America/Chicago:20251004T173000
DTEND;TZID=America/Chicago:20251004T203000
DTSTAMP:20260421T141410
CREATED:20241215T183415Z
LAST-MODIFIED:20241215T183415Z
UID:10000438-1759599000-1759609800@colfaxsportsmensclub.com
SUMMARY:2025 COLFAX SPORTSMEN'S CLUB BANQUET
DESCRIPTION:Banquet at Whitetail Golf Course
URL:https://colfaxsportsmensclub.com/event/2025-colfax-sportsmens-club-banquet/
LOCATION:Colfax Sportsmen’s Club\, E8498 810th Ave.\, Colfax\, WI\, 54730\, United States
ORGANIZER;CN="Colfax Sportsmen's Club":MAILTO:colfaxsportsmensclub2013@gmail.com
END:VEVENT
BEGIN:VEVENT
DTSTART;TZID=America/Chicago:20251002T130000
DTEND;TZID=America/Chicago:20251002T160000
DTSTAMP:20260421T141410
CREATED:20241208T230349Z
LAST-MODIFIED:20241208T230349Z
UID:10000340-1759410000-1759420800@colfaxsportsmensclub.com
SUMMARY:OPEN FOR PUBLIC SHOOTING
DESCRIPTION:Range Open for Public Shooting from 1:00PM to 4:00PM \nFIREARMS MUST BE CASED\nEYE AND EAR PROTECTION REQUIRED\n\nTHANK YOU FOR YOUR COOPERATION!
URL:https://colfaxsportsmensclub.com/event/open-for-public-shooting-16/2025-10-02/
LOCATION:Colfax Sportsmen’s Club\, E8498 810th Ave.\, Colfax\, WI\, 54730\, United States
ORGANIZER;CN="Colfax Sportsmen's Club":MAILTO:colfaxsportsmensclub2013@gmail.com
END:VEVENT
BEGIN:VEVENT
DTSTART;TZID=America/Chicago:20251001T190000
DTEND;TZID=America/Chicago:20251001T210000
DTSTAMP:20260421T141410
CREATED:20241208T221838Z
LAST-MODIFIED:20241208T221838Z
UID:10000286-1759345200-1759352400@colfaxsportsmensclub.com
SUMMARY:MONTHLY CLUB MEETING
DESCRIPTION:Monthly Meetings at the Clubhouse Shooting Range start at 7:00 PM SHARP!   \nMembership is $40.00 per family per year.   \nYou are welcome to come and visit a meeting to see what we are all about before you decide to join if you wish.   \nGoodies after the meeting too.
URL:https://colfaxsportsmensclub.com/event/monthly-club-meeting-3/2025-10-01/
LOCATION:Colfax Sportsmen’s Club\, E8498 810th Ave.\, Colfax\, WI\, 54730\, United States
ORGANIZER;CN="Colfax Sportsmen's Club":MAILTO:colfaxsportsmensclub2013@gmail.com
END:VEVENT
BEGIN:VEVENT
DTSTART;TZID=America/Chicago:20250929T170000
DTEND;TZID=America/Chicago:20250929T220000
DTSTAMP:20260421T141410
CREATED:20250112T155831Z
LAST-MODIFIED:20250112T155831Z
UID:10000464-1759165200-1759183200@colfaxsportsmensclub.com
SUMMARY:OPEN TRAP
DESCRIPTION:We shoot Open Trap at this time; we will run standard and the crew running it will throw a few Wobbler rounds in per night. We do not have any leagues; we just shoot for fun! \nThe cost is $5.00 per round of 25\,\nWE ALSO SHOOT DOUBLES\, THE COST: IS $10.00 PER ROUND OF 50. \nWe will base the hours off the sunset.
URL:https://colfaxsportsmensclub.com/event/open-trap-3/2025-09-29/
LOCATION:Colfax Sportsmen’s Club\, E8498 810th Ave.\, Colfax\, WI\, 54730\, United States
ORGANIZER;CN="Colfax Sportsmen's Club":MAILTO:colfaxsportsmensclub2013@gmail.com
END:VEVENT
BEGIN:VEVENT
DTSTART;TZID=America/Chicago:20250925T130000
DTEND;TZID=America/Chicago:20250925T160000
DTSTAMP:20260421T141410
CREATED:20241208T230349Z
LAST-MODIFIED:20241208T230349Z
UID:10000339-1758805200-1758816000@colfaxsportsmensclub.com
SUMMARY:OPEN FOR PUBLIC SHOOTING
DESCRIPTION:Range Open for Public Shooting from 1:00PM to 4:00PM \nFIREARMS MUST BE CASED\nEYE AND EAR PROTECTION REQUIRED\n\nTHANK YOU FOR YOUR COOPERATION!
URL:https://colfaxsportsmensclub.com/event/open-for-public-shooting-16/2025-09-25/
LOCATION:Colfax Sportsmen’s Club\, E8498 810th Ave.\, Colfax\, WI\, 54730\, United States
ORGANIZER;CN="Colfax Sportsmen's Club":MAILTO:colfaxsportsmensclub2013@gmail.com
END:VEVENT
BEGIN:VEVENT
DTSTART;TZID=America/Chicago:20250922T170000
DTEND;TZID=America/Chicago:20250922T220000
DTSTAMP:20260421T141410
CREATED:20250112T155831Z
LAST-MODIFIED:20250112T155831Z
UID:10000463-1758560400-1758578400@colfaxsportsmensclub.com
SUMMARY:OPEN TRAP
DESCRIPTION:We shoot Open Trap at this time; we will run standard and the crew running it will throw a few Wobbler rounds in per night. We do not have any leagues; we just shoot for fun! \nThe cost is $5.00 per round of 25\,\nWE ALSO SHOOT DOUBLES\, THE COST: IS $10.00 PER ROUND OF 50. \nWe will base the hours off the sunset.
URL:https://colfaxsportsmensclub.com/event/open-trap-3/2025-09-22/
LOCATION:Colfax Sportsmen’s Club\, E8498 810th Ave.\, Colfax\, WI\, 54730\, United States
ORGANIZER;CN="Colfax Sportsmen's Club":MAILTO:colfaxsportsmensclub2013@gmail.com
END:VEVENT
END:VCALENDAR