BEGIN:VCALENDAR
VERSION:2.0
PRODID:-//Colfax Sportsmens Club, Inc - ECPv6.15.20//NONSGML v1.0//EN
CALSCALE:GREGORIAN
METHOD:PUBLISH
X-WR-CALNAME:Colfax Sportsmens Club, Inc
X-ORIGINAL-URL:https://colfaxsportsmensclub.com
X-WR-CALDESC:Events for Colfax Sportsmens Club, Inc
REFRESH-INTERVAL;VALUE=DURATION:PT1H
X-Robots-Tag:noindex
X-PUBLISHED-TTL:PT1H
BEGIN:VTIMEZONE
TZID:America/Chicago
BEGIN:DAYLIGHT
TZOFFSETFROM:-0600
TZOFFSETTO:-0500
TZNAME:CDT
DTSTART:20230312T080000
END:DAYLIGHT
BEGIN:STANDARD
TZOFFSETFROM:-0500
TZOFFSETTO:-0600
TZNAME:CST
DTSTART:20231105T070000
END:STANDARD
BEGIN:DAYLIGHT
TZOFFSETFROM:-0600
TZOFFSETTO:-0500
TZNAME:CDT
DTSTART:20240310T080000
END:DAYLIGHT
BEGIN:STANDARD
TZOFFSETFROM:-0500
TZOFFSETTO:-0600
TZNAME:CST
DTSTART:20241103T070000
END:STANDARD
BEGIN:DAYLIGHT
TZOFFSETFROM:-0600
TZOFFSETTO:-0500
TZNAME:CDT
DTSTART:20250309T080000
END:DAYLIGHT
BEGIN:STANDARD
TZOFFSETFROM:-0500
TZOFFSETTO:-0600
TZNAME:CST
DTSTART:20251102T070000
END:STANDARD
BEGIN:DAYLIGHT
TZOFFSETFROM:-0600
TZOFFSETTO:-0500
TZNAME:CDT
DTSTART:20260308T080000
END:DAYLIGHT
BEGIN:STANDARD
TZOFFSETFROM:-0500
TZOFFSETTO:-0600
TZNAME:CST
DTSTART:20261101T070000
END:STANDARD
END:VTIMEZONE
BEGIN:VEVENT
DTSTART;TZID=America/Chicago:20241020T080000
DTEND;TZID=America/Chicago:20241020T160000
DTSTAMP:20260421T212150
CREATED:20231231T164919Z
LAST-MODIFIED:20231231T181725Z
UID:10000105-1729411200-1729440000@colfaxsportsmensclub.com
SUMMARY:COLFAX OCTOBER NRL22 COF
DESCRIPTION:Colfax Sportsmen’s Club Monthly NRL22 COF. We will shoot the 5 designated NRL22 Monthly stages with the possibility of a bonus stage or two. Registration fee and discounts can be found below. Check-in and zero range will run from 8:00am – 9:00am. Match starts at 9:00am. This match is open to the public\, there is no requirement to be a Colfax Sportsmen’s Club member to compete. Payment through Practiscore is preferred but we will also allow payment at registration for this match. Squads may be adjusted the day of the match to even them out and or split to save time.
URL:https://colfaxsportsmensclub.com/event/colfax-october-nrl22-cof/
LOCATION:Colfax Sportsmen’s Club\, E8498 810th Ave.\, Colfax\, WI\, 54730\, United States
ORGANIZER;CN="Colfax Sportsmen's Club":MAILTO:colfaxsportsmensclub2013@gmail.com
END:VEVENT
BEGIN:VEVENT
DTSTART;TZID=America/Chicago:20241024T130000
DTEND;TZID=America/Chicago:20241024T160000
DTSTAMP:20260421T212150
CREATED:20231231T172158Z
LAST-MODIFIED:20231231T172158Z
UID:10000126-1729774800-1729785600@colfaxsportsmensclub.com
SUMMARY:OPEN FOR PUBLIC SHOOTING
DESCRIPTION:Range Open for Public Shooting from 1:00 PM to 4:00 PM \nFIREARMS MUST BE CASED\nEYE AND EAR PROTECTION REQUIRED\n\nTHANK YOU FOR YOUR COOPERATION!
URL:https://colfaxsportsmensclub.com/event/open-for-public-shooting-6/2024-10-24/
LOCATION:Colfax Sportsmen’s Club\, E8498 810th Ave.\, Colfax\, WI\, 54730\, United States
ORGANIZER;CN="Colfax Sportsmen's Club":MAILTO:colfaxsportsmensclub2013@gmail.com
END:VEVENT
BEGIN:VEVENT
DTSTART;TZID=America/Chicago:20241031T130000
DTEND;TZID=America/Chicago:20241031T160000
DTSTAMP:20260421T212150
CREATED:20231231T172158Z
LAST-MODIFIED:20231231T172158Z
UID:10000127-1730379600-1730390400@colfaxsportsmensclub.com
SUMMARY:OPEN FOR PUBLIC SHOOTING
DESCRIPTION:Range Open for Public Shooting from 1:00 PM to 4:00 PM \nFIREARMS MUST BE CASED\nEYE AND EAR PROTECTION REQUIRED\n\nTHANK YOU FOR YOUR COOPERATION!
URL:https://colfaxsportsmensclub.com/event/open-for-public-shooting-6/2024-10-31/
LOCATION:Colfax Sportsmen’s Club\, E8498 810th Ave.\, Colfax\, WI\, 54730\, United States
ORGANIZER;CN="Colfax Sportsmen's Club":MAILTO:colfaxsportsmensclub2013@gmail.com
END:VEVENT
BEGIN:VEVENT
DTSTART;TZID=America/Chicago:20241102T100000
DTEND;TZID=America/Chicago:20241102T150000
DTSTAMP:20260421T212150
CREATED:20241015T102245Z
LAST-MODIFIED:20241015T102245Z
UID:10000264-1730541600-1730559600@colfaxsportsmensclub.com
SUMMARY:RANGE OPEN FOR PUBLIC SHOOTING
DESCRIPTION:Range Open for Public Shooting from 10:00 AM to 3:00 PM \nFIREARMS MUST BE CASED\nEYE AND EAR PROTECTION REQUIRED\n\nTHANK YOU FOR YOUR COOPERATION!
URL:https://colfaxsportsmensclub.com/event/range-open-for-public-shooting/2024-11-02/
LOCATION:Colfax Sportsmen’s Club\, E8498 810th Ave.\, Colfax\, WI\, 54730\, United States
ORGANIZER;CN="Colfax Sportsmen's Club":MAILTO:colfaxsportsmensclub2013@gmail.com
END:VEVENT
BEGIN:VEVENT
DTSTART;TZID=America/Chicago:20241105T110000
DTEND;TZID=America/Chicago:20241105T150000
DTSTAMP:20260421T212150
CREATED:20241101T143424Z
LAST-MODIFIED:20241101T143424Z
UID:10000267-1730804400-1730818800@colfaxsportsmensclub.com
SUMMARY:OPEN FOR PUBLIC SHOOTING
DESCRIPTION:Range Open for Public Shooting from 11:00 AM to 3:00 PM \nFIREARMS MUST BE CASED\nEYE AND EAR PROTECTION REQUIRED\n\nTHANK YOU FOR YOUR COOPERATION!
URL:https://colfaxsportsmensclub.com/event/open-for-public-shooting-12/2024-11-05/
LOCATION:Colfax Sportsmen’s Club\, E8498 810th Ave.\, Colfax\, WI\, 54730\, United States
ORGANIZER;CN="Colfax Sportsmen's Club":MAILTO:colfaxsportsmensclub2013@gmail.com
END:VEVENT
BEGIN:VEVENT
DTSTART;TZID=America/Chicago:20241106T190000
DTEND;TZID=America/Chicago:20241106T210000
DTSTAMP:20260421T212150
CREATED:20231216T172114Z
LAST-MODIFIED:20231216T172114Z
UID:10000038-1730919600-1730926800@colfaxsportsmensclub.com
SUMMARY:MONTHLY CLUB MEETING
DESCRIPTION:Monthly Meetings at the Clubhouse Shooting Range start at 7:00 PM SHARP!  Membership is $40.00 per family per year.  You are welcome to come and visit a meeting to see what we are all about before you decide to join if you wish.  Goodies after the meeting too.
URL:https://colfaxsportsmensclub.com/event/monthly-club-meeting-2/2024-11-06/
LOCATION:Colfax Sportsmen’s Club\, E8498 810th Ave.\, Colfax\, WI\, 54730\, United States
ORGANIZER;CN="Colfax Sportsmen's Club":MAILTO:colfaxsportsmensclub2013@gmail.com
END:VEVENT
BEGIN:VEVENT
DTSTART;TZID=America/Chicago:20241107T130000
DTEND;TZID=America/Chicago:20241107T160000
DTSTAMP:20260421T212150
CREATED:20231231T172158Z
LAST-MODIFIED:20231231T172158Z
UID:10000128-1730984400-1730995200@colfaxsportsmensclub.com
SUMMARY:OPEN FOR PUBLIC SHOOTING
DESCRIPTION:Range Open for Public Shooting from 1:00 PM to 4:00 PM \nFIREARMS MUST BE CASED\nEYE AND EAR PROTECTION REQUIRED\n\nTHANK YOU FOR YOUR COOPERATION!
URL:https://colfaxsportsmensclub.com/event/open-for-public-shooting-6/2024-11-07/
LOCATION:Colfax Sportsmen’s Club\, E8498 810th Ave.\, Colfax\, WI\, 54730\, United States
ORGANIZER;CN="Colfax Sportsmen's Club":MAILTO:colfaxsportsmensclub2013@gmail.com
END:VEVENT
BEGIN:VEVENT
DTSTART;TZID=America/Chicago:20241109T100000
DTEND;TZID=America/Chicago:20241109T150000
DTSTAMP:20260421T212150
CREATED:20241015T102245Z
LAST-MODIFIED:20241015T102245Z
UID:10000265-1731146400-1731164400@colfaxsportsmensclub.com
SUMMARY:RANGE OPEN FOR PUBLIC SHOOTING
DESCRIPTION:Range Open for Public Shooting from 10:00 AM to 3:00 PM \nFIREARMS MUST BE CASED\nEYE AND EAR PROTECTION REQUIRED\n\nTHANK YOU FOR YOUR COOPERATION!
URL:https://colfaxsportsmensclub.com/event/range-open-for-public-shooting/2024-11-09/
LOCATION:Colfax Sportsmen’s Club\, E8498 810th Ave.\, Colfax\, WI\, 54730\, United States
ORGANIZER;CN="Colfax Sportsmen's Club":MAILTO:colfaxsportsmensclub2013@gmail.com
END:VEVENT
BEGIN:VEVENT
DTSTART;TZID=America/Chicago:20241110T080000
DTEND;TZID=America/Chicago:20241110T150000
DTSTAMP:20260421T212150
CREATED:20241109T221200Z
LAST-MODIFIED:20241109T221310Z
UID:10000273-1731225600-1731250800@colfaxsportsmensclub.com
SUMMARY:OPEN FOR PUBLIC SHOOTING
DESCRIPTION:Range Open for Public Shooting from 8:00 AM to 3:00 PM \n \nFIREARMS MUST BE CASED! \n\nEYE AND EAR PROTECTION REQUIRED!\n\nTHANK YOU FOR YOUR COOPERATION!
URL:https://colfaxsportsmensclub.com/event/open-for-public-shooting-14-2/
LOCATION:Colfax Sportsmen’s Club\, E8498 810th Ave.\, Colfax\, WI\, 54730\, United States
ORGANIZER;CN="Colfax Sportsmen's Club":MAILTO:colfaxsportsmensclub2013@gmail.com
END:VEVENT
BEGIN:VEVENT
DTSTART;TZID=America/Chicago:20241112T110000
DTEND;TZID=America/Chicago:20241112T150000
DTSTAMP:20260421T212150
CREATED:20241101T143424Z
LAST-MODIFIED:20241101T143424Z
UID:10000268-1731409200-1731423600@colfaxsportsmensclub.com
SUMMARY:OPEN FOR PUBLIC SHOOTING
DESCRIPTION:Range Open for Public Shooting from 11:00 AM to 3:00 PM \nFIREARMS MUST BE CASED\nEYE AND EAR PROTECTION REQUIRED\n\nTHANK YOU FOR YOUR COOPERATION!
URL:https://colfaxsportsmensclub.com/event/open-for-public-shooting-12/2024-11-12/
LOCATION:Colfax Sportsmen’s Club\, E8498 810th Ave.\, Colfax\, WI\, 54730\, United States
ORGANIZER;CN="Colfax Sportsmen's Club":MAILTO:colfaxsportsmensclub2013@gmail.com
END:VEVENT
BEGIN:VEVENT
DTSTART;TZID=America/Chicago:20241114T130000
DTEND;TZID=America/Chicago:20241114T160000
DTSTAMP:20260421T212150
CREATED:20231231T172158Z
LAST-MODIFIED:20231231T172158Z
UID:10000129-1731589200-1731600000@colfaxsportsmensclub.com
SUMMARY:OPEN FOR PUBLIC SHOOTING
DESCRIPTION:Range Open for Public Shooting from 1:00 PM to 4:00 PM \nFIREARMS MUST BE CASED\nEYE AND EAR PROTECTION REQUIRED\n\nTHANK YOU FOR YOUR COOPERATION!
URL:https://colfaxsportsmensclub.com/event/open-for-public-shooting-6/2024-11-14/
LOCATION:Colfax Sportsmen’s Club\, E8498 810th Ave.\, Colfax\, WI\, 54730\, United States
ORGANIZER;CN="Colfax Sportsmen's Club":MAILTO:colfaxsportsmensclub2013@gmail.com
END:VEVENT
BEGIN:VEVENT
DTSTART;TZID=America/Chicago:20241115T080000
DTEND;TZID=America/Chicago:20241115T160000
DTSTAMP:20260421T212150
CREATED:20241107T230601Z
LAST-MODIFIED:20241107T230601Z
UID:10000274-1731657600-1731686400@colfaxsportsmensclub.com
SUMMARY:OPEN FOR PUBLIC SHOOTING
DESCRIPTION:Range Open for Public Shooting from 8:00 AM to 4:00 PM \n \nFIREARMS MUST BE CASED! \n\nEYE AND EAR PROTECTION REQUIRED!\n\nTHANK YOU FOR YOUR COOPERATION!
URL:https://colfaxsportsmensclub.com/event/open-for-public-shooting-14/2024-11-15/
LOCATION:Colfax Sportsmen’s Club\, E8498 810th Ave.\, Colfax\, WI\, 54730\, United States
ORGANIZER;CN="Colfax Sportsmen's Club":MAILTO:colfaxsportsmensclub2013@gmail.com
END:VEVENT
BEGIN:VEVENT
DTSTART;TZID=America/Chicago:20241116T100000
DTEND;TZID=America/Chicago:20241116T150000
DTSTAMP:20260421T212150
CREATED:20241015T102245Z
LAST-MODIFIED:20241015T102245Z
UID:10000266-1731751200-1731769200@colfaxsportsmensclub.com
SUMMARY:RANGE OPEN FOR PUBLIC SHOOTING
DESCRIPTION:Range Open for Public Shooting from 10:00 AM to 3:00 PM \nFIREARMS MUST BE CASED\nEYE AND EAR PROTECTION REQUIRED\n\nTHANK YOU FOR YOUR COOPERATION!
URL:https://colfaxsportsmensclub.com/event/range-open-for-public-shooting/2024-11-16/
LOCATION:Colfax Sportsmen’s Club\, E8498 810th Ave.\, Colfax\, WI\, 54730\, United States
ORGANIZER;CN="Colfax Sportsmen's Club":MAILTO:colfaxsportsmensclub2013@gmail.com
END:VEVENT
BEGIN:VEVENT
DTSTART;TZID=America/Chicago:20241117T080000
DTEND;TZID=America/Chicago:20241117T160000
DTSTAMP:20260421T212150
CREATED:20231231T165109Z
LAST-MODIFIED:20231231T181822Z
UID:10000106-1731830400-1731859200@colfaxsportsmensclub.com
SUMMARY:COLFAX NOVEMBER NRL22 COF
DESCRIPTION:Colfax Sportsmen’s Club Monthly NRL22 COF. We will shoot the 5 designated NRL22 Monthly stages with the possibility of a bonus stage or two. Registration fee and discounts can be found below. Check-in and zero range will run from 8:00am – 9:00am. Match starts at 9:00am. This match is open to the public\, there is no requirement to be a Colfax Sportsmen’s Club member to compete. Payment through Practiscore is preferred but we will also allow payment at registration for this match. Squads may be adjusted the day of the match to even them out and or split to save time.
URL:https://colfaxsportsmensclub.com/event/colfax-november-nrl22-cof/
LOCATION:Colfax Sportsmen’s Club\, E8498 810th Ave.\, Colfax\, WI\, 54730\, United States
ORGANIZER;CN="Colfax Sportsmen's Club":MAILTO:colfaxsportsmensclub2013@gmail.com
END:VEVENT
BEGIN:VEVENT
DTSTART;TZID=America/Chicago:20241117T130000
DTEND;TZID=America/Chicago:20241117T160000
DTSTAMP:20260421T212150
CREATED:20241108T231917Z
LAST-MODIFIED:20241108T231917Z
UID:10000275-1731848400-1731859200@colfaxsportsmensclub.com
SUMMARY:OPEN FOR PUBLIC SHOOTING
DESCRIPTION:Range Open for Public Shooting from 1:00 PM to 4:00 PM \nFIREARMS MUST BE CASED\nEYE AND EAR PROTECTION REQUIRED\n\nTHANK YOU FOR YOUR COOPERATION!
URL:https://colfaxsportsmensclub.com/event/open-for-public-shooting-15/2024-11-17/
LOCATION:Colfax Sportsmen’s Club\, E8498 810th Ave.\, Colfax\, WI\, 54730\, United States
ORGANIZER;CN="Colfax Sportsmen's Club":MAILTO:colfaxsportsmensclub2013@gmail.com
END:VEVENT
BEGIN:VEVENT
DTSTART;TZID=America/Chicago:20241118T130000
DTEND;TZID=America/Chicago:20241118T160000
DTSTAMP:20260421T212150
CREATED:20241108T231917Z
LAST-MODIFIED:20241108T231917Z
UID:10000276-1731934800-1731945600@colfaxsportsmensclub.com
SUMMARY:OPEN FOR PUBLIC SHOOTING
DESCRIPTION:Range Open for Public Shooting from 1:00 PM to 4:00 PM \nFIREARMS MUST BE CASED\nEYE AND EAR PROTECTION REQUIRED\n\nTHANK YOU FOR YOUR COOPERATION!
URL:https://colfaxsportsmensclub.com/event/open-for-public-shooting-15/2024-11-18/
LOCATION:Colfax Sportsmen’s Club\, E8498 810th Ave.\, Colfax\, WI\, 54730\, United States
ORGANIZER;CN="Colfax Sportsmen's Club":MAILTO:colfaxsportsmensclub2013@gmail.com
END:VEVENT
BEGIN:VEVENT
DTSTART;TZID=America/Chicago:20241119T110000
DTEND;TZID=America/Chicago:20241119T150000
DTSTAMP:20260421T212150
CREATED:20241101T143424Z
LAST-MODIFIED:20241101T143424Z
UID:10000269-1732014000-1732028400@colfaxsportsmensclub.com
SUMMARY:OPEN FOR PUBLIC SHOOTING
DESCRIPTION:Range Open for Public Shooting from 11:00 AM to 3:00 PM \nFIREARMS MUST BE CASED\nEYE AND EAR PROTECTION REQUIRED\n\nTHANK YOU FOR YOUR COOPERATION!
URL:https://colfaxsportsmensclub.com/event/open-for-public-shooting-12/2024-11-19/
LOCATION:Colfax Sportsmen’s Club\, E8498 810th Ave.\, Colfax\, WI\, 54730\, United States
ORGANIZER;CN="Colfax Sportsmen's Club":MAILTO:colfaxsportsmensclub2013@gmail.com
END:VEVENT
BEGIN:VEVENT
DTSTART;TZID=America/Chicago:20241120T080000
DTEND;TZID=America/Chicago:20241120T160000
DTSTAMP:20260421T212150
CREATED:20241107T230011Z
LAST-MODIFIED:20241107T230011Z
UID:10000270-1732089600-1732118400@colfaxsportsmensclub.com
SUMMARY:OPEN FOR PUBLIC SHOOTING
DESCRIPTION:Range Open for Public Shooting from 8:00 AM to 4:00 PM \n \nFIREARMS MUST BE CASED!\n \nEYE AND EAR PROTECTION REQUIRED!\n\nTHANK YOU FOR YOUR COOPERATION!
URL:https://colfaxsportsmensclub.com/event/open-for-public-shooting-13/2024-11-20/
LOCATION:Colfax Sportsmen’s Club\, E8498 810th Ave.\, Colfax\, WI\, 54730\, United States
ORGANIZER;CN="Colfax Sportsmen's Club":MAILTO:colfaxsportsmensclub2013@gmail.com
END:VEVENT
BEGIN:VEVENT
DTSTART;TZID=America/Chicago:20241121T080000
DTEND;TZID=America/Chicago:20241121T160000
DTSTAMP:20260421T212150
CREATED:20241107T230011Z
LAST-MODIFIED:20241107T230011Z
UID:10000271-1732176000-1732204800@colfaxsportsmensclub.com
SUMMARY:OPEN FOR PUBLIC SHOOTING
DESCRIPTION:Range Open for Public Shooting from 8:00 AM to 4:00 PM \n \nFIREARMS MUST BE CASED!\n \nEYE AND EAR PROTECTION REQUIRED!\n\nTHANK YOU FOR YOUR COOPERATION!
URL:https://colfaxsportsmensclub.com/event/open-for-public-shooting-13/2024-11-21/
LOCATION:Colfax Sportsmen’s Club\, E8498 810th Ave.\, Colfax\, WI\, 54730\, United States
ORGANIZER;CN="Colfax Sportsmen's Club":MAILTO:colfaxsportsmensclub2013@gmail.com
END:VEVENT
BEGIN:VEVENT
DTSTART;TZID=America/Chicago:20241122T080000
DTEND;TZID=America/Chicago:20241122T160000
DTSTAMP:20260421T212150
CREATED:20241107T230011Z
LAST-MODIFIED:20241107T230011Z
UID:10000272-1732262400-1732291200@colfaxsportsmensclub.com
SUMMARY:OPEN FOR PUBLIC SHOOTING
DESCRIPTION:Range Open for Public Shooting from 8:00 AM to 4:00 PM \n \nFIREARMS MUST BE CASED!\n \nEYE AND EAR PROTECTION REQUIRED!\n\nTHANK YOU FOR YOUR COOPERATION!
URL:https://colfaxsportsmensclub.com/event/open-for-public-shooting-13/2024-11-22/
LOCATION:Colfax Sportsmen’s Club\, E8498 810th Ave.\, Colfax\, WI\, 54730\, United States
ORGANIZER;CN="Colfax Sportsmen's Club":MAILTO:colfaxsportsmensclub2013@gmail.com
END:VEVENT
BEGIN:VEVENT
DTSTART;TZID=America/Chicago:20241205T130000
DTEND;TZID=America/Chicago:20241205T160000
DTSTAMP:20260421T212150
CREATED:20231231T172158Z
LAST-MODIFIED:20231231T172158Z
UID:10000131-1733403600-1733414400@colfaxsportsmensclub.com
SUMMARY:OPEN FOR PUBLIC SHOOTING
DESCRIPTION:Range Open for Public Shooting from 1:00 PM to 4:00 PM \nFIREARMS MUST BE CASED\nEYE AND EAR PROTECTION REQUIRED\n\nTHANK YOU FOR YOUR COOPERATION!
URL:https://colfaxsportsmensclub.com/event/open-for-public-shooting-6/2024-12-05/
LOCATION:Colfax Sportsmen’s Club\, E8498 810th Ave.\, Colfax\, WI\, 54730\, United States
ORGANIZER;CN="Colfax Sportsmen's Club":MAILTO:colfaxsportsmensclub2013@gmail.com
END:VEVENT
BEGIN:VEVENT
DTSTART;TZID=America/Chicago:20241212T130000
DTEND;TZID=America/Chicago:20241212T160000
DTSTAMP:20260421T212150
CREATED:20231231T172158Z
LAST-MODIFIED:20231231T172158Z
UID:10000132-1734008400-1734019200@colfaxsportsmensclub.com
SUMMARY:OPEN FOR PUBLIC SHOOTING
DESCRIPTION:Range Open for Public Shooting from 1:00 PM to 4:00 PM \nFIREARMS MUST BE CASED\nEYE AND EAR PROTECTION REQUIRED\n\nTHANK YOU FOR YOUR COOPERATION!
URL:https://colfaxsportsmensclub.com/event/open-for-public-shooting-6/2024-12-12/
LOCATION:Colfax Sportsmen’s Club\, E8498 810th Ave.\, Colfax\, WI\, 54730\, United States
ORGANIZER;CN="Colfax Sportsmen's Club":MAILTO:colfaxsportsmensclub2013@gmail.com
END:VEVENT
BEGIN:VEVENT
DTSTART;TZID=America/Chicago:20241215T080000
DTEND;TZID=America/Chicago:20241215T160000
DTSTAMP:20260421T212150
CREATED:20231231T165241Z
LAST-MODIFIED:20231231T181907Z
UID:10000107-1734249600-1734278400@colfaxsportsmensclub.com
SUMMARY:COLFAX DECEMBER NRL22 COF
DESCRIPTION:Colfax Sportsmen’s Club Monthly NRL22 COF. We will shoot the 5 designated NRL22 Monthly stages with the possibility of a bonus stage or two. Registration fee and discounts can be found below. Check-in and zero range will run from 8:00am – 9:00am. Match starts at 9:00am. This match is open to the public\, there is no requirement to be a Colfax Sportsmen’s Club member to compete. Payment through Practiscore is preferred but we will also allow payment at registration for this match. Squads may be adjusted the day of the match to even them out and or split to save time.
URL:https://colfaxsportsmensclub.com/event/colfax-december-nrl22-cof/
LOCATION:Colfax Sportsmen’s Club\, E8498 810th Ave.\, Colfax\, WI\, 54730\, United States
ORGANIZER;CN="Colfax Sportsmen's Club":MAILTO:colfaxsportsmensclub2013@gmail.com
END:VEVENT
BEGIN:VEVENT
DTSTART;TZID=America/Chicago:20241219T130000
DTEND;TZID=America/Chicago:20241219T160000
DTSTAMP:20260421T212150
CREATED:20231231T172158Z
LAST-MODIFIED:20231231T172158Z
UID:10000133-1734613200-1734624000@colfaxsportsmensclub.com
SUMMARY:OPEN FOR PUBLIC SHOOTING
DESCRIPTION:Range Open for Public Shooting from 1:00 PM to 4:00 PM \nFIREARMS MUST BE CASED\nEYE AND EAR PROTECTION REQUIRED\n\nTHANK YOU FOR YOUR COOPERATION!
URL:https://colfaxsportsmensclub.com/event/open-for-public-shooting-6/2024-12-19/
LOCATION:Colfax Sportsmen’s Club\, E8498 810th Ave.\, Colfax\, WI\, 54730\, United States
ORGANIZER;CN="Colfax Sportsmen's Club":MAILTO:colfaxsportsmensclub2013@gmail.com
END:VEVENT
BEGIN:VEVENT
DTSTART;TZID=America/Chicago:20241226T130000
DTEND;TZID=America/Chicago:20241226T160000
DTSTAMP:20260421T212150
CREATED:20231231T172158Z
LAST-MODIFIED:20231231T172158Z
UID:10000134-1735218000-1735228800@colfaxsportsmensclub.com
SUMMARY:OPEN FOR PUBLIC SHOOTING
DESCRIPTION:Range Open for Public Shooting from 1:00 PM to 4:00 PM \nFIREARMS MUST BE CASED\nEYE AND EAR PROTECTION REQUIRED\n\nTHANK YOU FOR YOUR COOPERATION!
URL:https://colfaxsportsmensclub.com/event/open-for-public-shooting-6/2024-12-26/
LOCATION:Colfax Sportsmen’s Club\, E8498 810th Ave.\, Colfax\, WI\, 54730\, United States
ORGANIZER;CN="Colfax Sportsmen's Club":MAILTO:colfaxsportsmensclub2013@gmail.com
END:VEVENT
BEGIN:VEVENT
DTSTART;TZID=America/Chicago:20250102T130000
DTEND;TZID=America/Chicago:20250102T160000
DTSTAMP:20260421T212150
CREATED:20241208T230349Z
LAST-MODIFIED:20241208T230349Z
UID:10000302-1735822800-1735833600@colfaxsportsmensclub.com
SUMMARY:OPEN FOR PUBLIC SHOOTING
DESCRIPTION:Range Open for Public Shooting from 1:00PM to 4:00PM \nFIREARMS MUST BE CASED\nEYE AND EAR PROTECTION REQUIRED\n\nTHANK YOU FOR YOUR COOPERATION!
URL:https://colfaxsportsmensclub.com/event/open-for-public-shooting-16/2025-01-02/
LOCATION:Colfax Sportsmen’s Club\, E8498 810th Ave.\, Colfax\, WI\, 54730\, United States
ORGANIZER;CN="Colfax Sportsmen's Club":MAILTO:colfaxsportsmensclub2013@gmail.com
END:VEVENT
BEGIN:VEVENT
DTSTART;TZID=America/Chicago:20250108T190000
DTEND;TZID=America/Chicago:20250108T210000
DTSTAMP:20260421T212150
CREATED:20241208T221838Z
LAST-MODIFIED:20241208T221838Z
UID:10000277-1736362800-1736370000@colfaxsportsmensclub.com
SUMMARY:MONTHLY CLUB MEETING
DESCRIPTION:Monthly Meetings at the Clubhouse Shooting Range start at 7:00 PM SHARP!   \nMembership is $40.00 per family per year.   \nYou are welcome to come and visit a meeting to see what we are all about before you decide to join if you wish.   \nGoodies after the meeting too.
URL:https://colfaxsportsmensclub.com/event/monthly-club-meeting-3/2025-01-08/
LOCATION:Colfax Sportsmen’s Club\, E8498 810th Ave.\, Colfax\, WI\, 54730\, United States
ORGANIZER;CN="Colfax Sportsmen's Club":MAILTO:colfaxsportsmensclub2013@gmail.com
END:VEVENT
BEGIN:VEVENT
DTSTART;TZID=America/Chicago:20250109T130000
DTEND;TZID=America/Chicago:20250109T160000
DTSTAMP:20260421T212150
CREATED:20241208T230349Z
LAST-MODIFIED:20241208T230349Z
UID:10000303-1736427600-1736438400@colfaxsportsmensclub.com
SUMMARY:OPEN FOR PUBLIC SHOOTING
DESCRIPTION:Range Open for Public Shooting from 1:00PM to 4:00PM \nFIREARMS MUST BE CASED\nEYE AND EAR PROTECTION REQUIRED\n\nTHANK YOU FOR YOUR COOPERATION!
URL:https://colfaxsportsmensclub.com/event/open-for-public-shooting-16/2025-01-09/
LOCATION:Colfax Sportsmen’s Club\, E8498 810th Ave.\, Colfax\, WI\, 54730\, United States
ORGANIZER;CN="Colfax Sportsmen's Club":MAILTO:colfaxsportsmensclub2013@gmail.com
END:VEVENT
BEGIN:VEVENT
DTSTART;TZID=America/Chicago:20250111T120000
DTEND;TZID=America/Chicago:20250111T170000
DTSTAMP:20260421T212150
CREATED:20241209T003133Z
LAST-MODIFIED:20241209T003133Z
UID:10000390-1736596800-1736614800@colfaxsportsmensclub.com
SUMMARY:FROZEN FINGER TRAP SHOOT
DESCRIPTION:This will be an Open Trap event\, open to anyone. \nThere will be some Fire Pits to keep you warm\, along with plenty of Hot Cocoa!
URL:https://colfaxsportsmensclub.com/event/frozen-finger-trap-shoot-2/
LOCATION:Colfax Sportsmen’s Club\, E8498 810th Ave.\, Colfax\, WI\, 54730\, United States
ORGANIZER;CN="Colfax Sportsmen's Club":MAILTO:colfaxsportsmensclub2013@gmail.com
END:VEVENT
BEGIN:VEVENT
DTSTART;TZID=America/Chicago:20250116T130000
DTEND;TZID=America/Chicago:20250116T160000
DTSTAMP:20260421T212150
CREATED:20241208T230349Z
LAST-MODIFIED:20241208T230349Z
UID:10000304-1737032400-1737043200@colfaxsportsmensclub.com
SUMMARY:OPEN FOR PUBLIC SHOOTING
DESCRIPTION:Range Open for Public Shooting from 1:00PM to 4:00PM \nFIREARMS MUST BE CASED\nEYE AND EAR PROTECTION REQUIRED\n\nTHANK YOU FOR YOUR COOPERATION!
URL:https://colfaxsportsmensclub.com/event/open-for-public-shooting-16/2025-01-16/
LOCATION:Colfax Sportsmen’s Club\, E8498 810th Ave.\, Colfax\, WI\, 54730\, United States
ORGANIZER;CN="Colfax Sportsmen's Club":MAILTO:colfaxsportsmensclub2013@gmail.com
END:VEVENT
END:VCALENDAR