BEGIN:VCALENDAR
VERSION:2.0
PRODID:-//Colfax Sportsmens Club, Inc - ECPv6.15.20//NONSGML v1.0//EN
CALSCALE:GREGORIAN
METHOD:PUBLISH
X-WR-CALNAME:Colfax Sportsmens Club, Inc
X-ORIGINAL-URL:https://colfaxsportsmensclub.com
X-WR-CALDESC:Events for Colfax Sportsmens Club, Inc
REFRESH-INTERVAL;VALUE=DURATION:PT1H
X-Robots-Tag:noindex
X-PUBLISHED-TTL:PT1H
BEGIN:VTIMEZONE
TZID:America/Chicago
BEGIN:DAYLIGHT
TZOFFSETFROM:-0600
TZOFFSETTO:-0500
TZNAME:CDT
DTSTART:20240310T080000
END:DAYLIGHT
BEGIN:STANDARD
TZOFFSETFROM:-0500
TZOFFSETTO:-0600
TZNAME:CST
DTSTART:20241103T070000
END:STANDARD
BEGIN:DAYLIGHT
TZOFFSETFROM:-0600
TZOFFSETTO:-0500
TZNAME:CDT
DTSTART:20250309T080000
END:DAYLIGHT
BEGIN:STANDARD
TZOFFSETFROM:-0500
TZOFFSETTO:-0600
TZNAME:CST
DTSTART:20251102T070000
END:STANDARD
BEGIN:DAYLIGHT
TZOFFSETFROM:-0600
TZOFFSETTO:-0500
TZNAME:CDT
DTSTART:20260308T080000
END:DAYLIGHT
BEGIN:STANDARD
TZOFFSETFROM:-0500
TZOFFSETTO:-0600
TZNAME:CST
DTSTART:20261101T070000
END:STANDARD
END:VTIMEZONE
BEGIN:VEVENT
DTSTART;TZID=America/Chicago:20250807T130000
DTEND;TZID=America/Chicago:20250807T160000
DTSTAMP:20260421T034030
CREATED:20241208T230349Z
LAST-MODIFIED:20241208T230349Z
UID:10000332-1754571600-1754582400@colfaxsportsmensclub.com
SUMMARY:OPEN FOR PUBLIC SHOOTING
DESCRIPTION:Range Open for Public Shooting from 1:00PM to 4:00PM \nFIREARMS MUST BE CASED\nEYE AND EAR PROTECTION REQUIRED\n\nTHANK YOU FOR YOUR COOPERATION!
URL:https://colfaxsportsmensclub.com/event/open-for-public-shooting-16/2025-08-07/
LOCATION:Colfax Sportsmen’s Club\, E8498 810th Ave.\, Colfax\, WI\, 54730\, United States
ORGANIZER;CN="Colfax Sportsmen's Club":MAILTO:colfaxsportsmensclub2013@gmail.com
END:VEVENT
BEGIN:VEVENT
DTSTART;TZID=America/Chicago:20250807T170000
DTEND;TZID=America/Chicago:20250807T200000
DTSTAMP:20260421T034030
CREATED:20241215T182231Z
LAST-MODIFIED:20250319T091136Z
UID:10000430-1754586000-1754596800@colfaxsportsmensclub.com
SUMMARY:COLFAX WEEKLY - STEEL CHALLENGE MATCH
DESCRIPTION:  \nWeekly Colfax Steel Challenge\, Registration is preferred through Practiscore.com if possible\, Walk-in’s welcome.  Check-in and squadding will begin at 5:30PM and shooting will start as close to 6:00PM as possible.  Weekly matches\, we will shoot 4 stages.  On some of the early and late months we may need to back down to 3 stages to fit them in before sunset. \n\nPlease follow our Facebook page in case there is a match cancelation due to weather. \nhttps://www.facebook.com/ColfaxSpeedShooting/
URL:https://colfaxsportsmensclub.com/event/colfax-weekly-steel-challenge-match/2025-08-07/
LOCATION:Colfax Sportsmen’s Club\, E8498 810th Ave.\, Colfax\, WI\, 54730\, United States
ORGANIZER;CN="Colfax Sportsmen's Club":MAILTO:colfaxsportsmensclub2013@gmail.com
END:VEVENT
END:VCALENDAR