BEGIN:VCALENDAR
VERSION:2.0
PRODID:-//Colfax Sportsmens Club, Inc - ECPv6.15.20//NONSGML v1.0//EN
CALSCALE:GREGORIAN
METHOD:PUBLISH
X-ORIGINAL-URL:https://colfaxsportsmensclub.com
X-WR-CALDESC:Events for Colfax Sportsmens Club, Inc
REFRESH-INTERVAL;VALUE=DURATION:PT1H
X-Robots-Tag:noindex
X-PUBLISHED-TTL:PT1H
BEGIN:VTIMEZONE
TZID:America/Chicago
BEGIN:DAYLIGHT
TZOFFSETFROM:-0600
TZOFFSETTO:-0500
TZNAME:CDT
DTSTART:20240310T080000
END:DAYLIGHT
BEGIN:STANDARD
TZOFFSETFROM:-0500
TZOFFSETTO:-0600
TZNAME:CST
DTSTART:20241103T070000
END:STANDARD
BEGIN:DAYLIGHT
TZOFFSETFROM:-0600
TZOFFSETTO:-0500
TZNAME:CDT
DTSTART:20250309T080000
END:DAYLIGHT
BEGIN:STANDARD
TZOFFSETFROM:-0500
TZOFFSETTO:-0600
TZNAME:CST
DTSTART:20251102T070000
END:STANDARD
BEGIN:DAYLIGHT
TZOFFSETFROM:-0600
TZOFFSETTO:-0500
TZNAME:CDT
DTSTART:20260308T080000
END:DAYLIGHT
BEGIN:STANDARD
TZOFFSETFROM:-0500
TZOFFSETTO:-0600
TZNAME:CST
DTSTART:20261101T070000
END:STANDARD
END:VTIMEZONE
BEGIN:VEVENT
DTSTART;VALUE=DATE:20250509
DTEND;VALUE=DATE:20250512
DTSTAMP:20260421T033430
CREATED:20250308T224011Z
LAST-MODIFIED:20250308T224011Z
UID:10000485-1746748800-1747007999@colfaxsportsmensclub.com
SUMMARY:SASP - COLFAX STEEL SMASHERS - WI SPRING REGIONAL
DESCRIPTION:Squads and flight times will be determined when match registration is open. \nSaukville Rifle & Pistol Club
URL:https://colfaxsportsmensclub.com/event/sasp-colfax-steel-smashers-wi-spring-regional/
LOCATION:WI
END:VEVENT
BEGIN:VEVENT
DTSTART;VALUE=DATE:20250509
DTEND;VALUE=DATE:20250510
DTSTAMP:20260421T033430
CREATED:20241215T180255Z
LAST-MODIFIED:20241215T180255Z
UID:10000419-1746777600-1746810000@colfaxsportsmensclub.com
SUMMARY:RANGE CLOSED
DESCRIPTION:Range Closed for Event set-up.
URL:https://colfaxsportsmensclub.com/event/range-closed-4/2025-05-09/
LOCATION:Colfax Sportsmen’s Club\, E8498 810th Ave.\, Colfax\, WI\, 54730\, United States
ORGANIZER;CN="Colfax Sportsmen's Club":MAILTO:colfaxsportsmensclub2013@gmail.com
END:VEVENT
END:VCALENDAR